﻿BEGIN:VCALENDAR
VERSION:2.0
PRODID:-//Ayuntamiento de Mérida - ECPv6.15.17.1//NONSGML v1.0//EN
CALSCALE:GREGORIAN
METHOD:PUBLISH
X-WR-CALNAME:Ayuntamiento de Mérida
X-ORIGINAL-URL:https://merida.es
X-WR-CALDESC:Eventos para Ayuntamiento de Mérida
REFRESH-INTERVAL;VALUE=DURATION:PT1H
X-Robots-Tag:noindex
X-PUBLISHED-TTL:PT1H
BEGIN:VTIMEZONE
TZID:Europe/Madrid
BEGIN:DAYLIGHT
TZOFFSETFROM:+0100
TZOFFSETTO:+0200
TZNAME:CEST
DTSTART:20200329T010000
END:DAYLIGHT
BEGIN:STANDARD
TZOFFSETFROM:+0200
TZOFFSETTO:+0100
TZNAME:CET
DTSTART:20201025T010000
END:STANDARD
BEGIN:DAYLIGHT
TZOFFSETFROM:+0100
TZOFFSETTO:+0200
TZNAME:CEST
DTSTART:20210328T010000
END:DAYLIGHT
BEGIN:STANDARD
TZOFFSETFROM:+0200
TZOFFSETTO:+0100
TZNAME:CET
DTSTART:20211031T010000
END:STANDARD
BEGIN:DAYLIGHT
TZOFFSETFROM:+0100
TZOFFSETTO:+0200
TZNAME:CEST
DTSTART:20220327T010000
END:DAYLIGHT
BEGIN:STANDARD
TZOFFSETFROM:+0200
TZOFFSETTO:+0100
TZNAME:CET
DTSTART:20221030T010000
END:STANDARD
END:VTIMEZONE
BEGIN:VEVENT
DTSTART;VALUE=DATE:20210714
DTEND;VALUE=DATE:20210724
DTSTAMP:20260420T221202
CREATED:20210713T100738Z
LAST-MODIFIED:20210713T100738Z
UID:101183-1626220800-1627084799@merida.es
SUMMARY:X Edición Encuentros con los Clásicos
DESCRIPTION:Las envidias\, la corrupción del poder\, los miedos\, la codicia\, la venganza\, el amor interesado… Estos temas universales\, actuales siempre\, sobrevuelan las obras de esta 67 edición del Festival Internacional de Teatro Clásico de Mérida. En esta ocasión\, el ciclo de conferencias “Encuentro con los Clásicos” propone una revisión y análisis de los textos grecolatinos incluidos en la programación como un referente para entender nuestro tiempo. Para ello\, contaremos con la presencia de expertos de la Universidad de Extremadura\, las de Évora y Lisboa en Portugal y con la directora del Museo Nacional de Arte Romano de Mérida en un ciclo coordinado por el catedrático de la Universidad de Extremadura Santiago López Moreda. \n14 de julio\nMercado de amores en la comedia plautina\nDr. D. Eustaquio Sánchez Salor\, catedrático emérito de la UEX \n15 de julio\nMarco Antonio y Cleopatra. Historia y tragedia\nDr. D. Santiago López Moreda\, catedrático de Filología Latina (UEX) \n16 de julio\nTeatro grecolatino en la iconografía del MNAR\nDrª. Dª. Trinidad Nogales Basarrate. Directora del MNAR \n21 de julio\nEdipo de Séneca y transformações de Édipo em outras literaturas\nDrª. Dª. Cristina de Castro-Maia de Sousa Pimentel\, catedrática de la Universidade de Lisboa \n22 de julio\nHipatia de Alejandría\, científica y educadora\nDr. D. Ramiro González Delgado\, profesor titular de Filología Griega (UEX) \n23 de julio\nLas Suplicantes de Esquilo y de Eurípides\nDrª. Dª. Cláudia do Amparo Afonso Teixeira. Directora del Departamento de Linguística e Literaturas de la Universidad de Évora \nTodas las conferencias tendrán lugar en el Museo Nacional de Arte Romano\, a las 19:00 horas.\nEntrada libre hasta completar aforo restringido.
URL:https://merida.es/agenda/x-edicion-encuentros-con-los-clasicos/
LOCATION:Museo Nacional de Arte Romano\, Calle José Ramón Mélida\, Mérida\, Badajoz\, 06800\, España
CATEGORIES:Charla-Conferencia
ATTACH;FMTTYPE=image/jpeg:https://merida.es/wp-content/uploads/2021/07/conferencias-encuentros-con-los-clasicos.jpg
END:VEVENT
END:VCALENDAR