﻿BEGIN:VCALENDAR
VERSION:2.0
PRODID:-//Ayuntamiento de Mérida - ECPv6.15.17.1//NONSGML v1.0//EN
CALSCALE:GREGORIAN
METHOD:PUBLISH
X-ORIGINAL-URL:https://merida.es
X-WR-CALDESC:Eventos para Ayuntamiento de Mérida
REFRESH-INTERVAL;VALUE=DURATION:PT1H
X-Robots-Tag:noindex
X-PUBLISHED-TTL:PT1H
BEGIN:VTIMEZONE
TZID:Europe/Madrid
BEGIN:DAYLIGHT
TZOFFSETFROM:+0100
TZOFFSETTO:+0200
TZNAME:CEST
DTSTART:20200329T010000
END:DAYLIGHT
BEGIN:STANDARD
TZOFFSETFROM:+0200
TZOFFSETTO:+0100
TZNAME:CET
DTSTART:20201025T010000
END:STANDARD
BEGIN:DAYLIGHT
TZOFFSETFROM:+0100
TZOFFSETTO:+0200
TZNAME:CEST
DTSTART:20210328T010000
END:DAYLIGHT
BEGIN:STANDARD
TZOFFSETFROM:+0200
TZOFFSETTO:+0100
TZNAME:CET
DTSTART:20211031T010000
END:STANDARD
BEGIN:DAYLIGHT
TZOFFSETFROM:+0100
TZOFFSETTO:+0200
TZNAME:CEST
DTSTART:20220327T010000
END:DAYLIGHT
BEGIN:STANDARD
TZOFFSETFROM:+0200
TZOFFSETTO:+0100
TZNAME:CET
DTSTART:20221030T010000
END:STANDARD
END:VTIMEZONE
BEGIN:VEVENT
DTSTART;TZID=Europe/Madrid:20211105T160000
DTEND;TZID=Europe/Madrid:20211105T160000
DTSTAMP:20260420T060323
CREATED:20211102T140011Z
LAST-MODIFIED:20211102T140011Z
UID:104951-1636128000-1636128000@merida.es
SUMMARY:Jornadas sobre Emprendimiento en el Deporte en Extremadura
DESCRIPTION:El objetivo es presentar experiencias de éxito en la región que sirvan de inspiración a posibles emprendedores\, dar a conocer las actividades que el clúster y analizar las tendencias de este sector productivo\, dentro y fuera de la región\, para mejorar las entre los principales actores. Las jornadas están concebidas como un espacio ideal para el networking entre empleadores\, potenciales empleados y otros agentes políticos y sociales. \nEn Mérida\, la jornada tendrá lugar el viernes 5 de noviembre\, a las 16:00 horas\, en el Centro Cultural Alcazaba\, y los interesados pueden inscribirse en: https://docs.google.com/forms/d/e/1FAIpQLScUWlkJ7PpcBTAtasLNiVpBTOTp6OnaZj-ZBaWjYkeAM5AH4A/viewform \nPrograma
URL:https://merida.es/agenda/jornadas-sobre-emprendimiento-en-el-deporte-en-extremadura/
LOCATION:Sala Decumanus\, Puerta de la Villa\, Mérida
CATEGORIES:Charla-Conferencia
ATTACH;FMTTYPE=image/jpeg:https://merida.es/wp-content/uploads/2021/11/2021-jornadas-cluster-extremadura-peq.jpg
END:VEVENT
END:VCALENDAR