﻿BEGIN:VCALENDAR
VERSION:2.0
PRODID:-//Ayuntamiento de Mérida - ECPv6.15.17.1//NONSGML v1.0//EN
CALSCALE:GREGORIAN
METHOD:PUBLISH
X-WR-CALNAME:Ayuntamiento de Mérida
X-ORIGINAL-URL:https://merida.es
X-WR-CALDESC:Eventos para Ayuntamiento de Mérida
REFRESH-INTERVAL;VALUE=DURATION:PT1H
X-Robots-Tag:noindex
X-PUBLISHED-TTL:PT1H
BEGIN:VTIMEZONE
TZID:Europe/Madrid
BEGIN:DAYLIGHT
TZOFFSETFROM:+0100
TZOFFSETTO:+0200
TZNAME:CEST
DTSTART:20200329T010000
END:DAYLIGHT
BEGIN:STANDARD
TZOFFSETFROM:+0200
TZOFFSETTO:+0100
TZNAME:CET
DTSTART:20201025T010000
END:STANDARD
BEGIN:DAYLIGHT
TZOFFSETFROM:+0100
TZOFFSETTO:+0200
TZNAME:CEST
DTSTART:20210328T010000
END:DAYLIGHT
BEGIN:STANDARD
TZOFFSETFROM:+0200
TZOFFSETTO:+0100
TZNAME:CET
DTSTART:20211031T010000
END:STANDARD
BEGIN:DAYLIGHT
TZOFFSETFROM:+0100
TZOFFSETTO:+0200
TZNAME:CEST
DTSTART:20220327T010000
END:DAYLIGHT
BEGIN:STANDARD
TZOFFSETFROM:+0200
TZOFFSETTO:+0100
TZNAME:CET
DTSTART:20221030T010000
END:STANDARD
END:VTIMEZONE
BEGIN:VEVENT
DTSTART;VALUE=DATE:20211117
DTEND;VALUE=DATE:20211120
DTSTAMP:20260420T060125
CREATED:20210923T062622Z
LAST-MODIFIED:20210923T062622Z
UID:103282-1637107200-1637366399@merida.es
SUMMARY:II Congreso Internacional sobre Tarteso
DESCRIPTION:Los estudios sobre la cultura tartésica han adquirido un singular protagonismo en los últimos años gracias a los nuevos descubrimientos arqueológicos y al empleo de nuevas metodologías que han permitido ampliar de forma sensible nuestro conocimiento. No se puede obviar que existen diferentes interpretaciones sobre el concepto de Tarteso\, las que lo sitúan en un momento previo a la colonización mediterránea\, ya con una fuerte personalidad cultural; o quienes la conciben como el resultado de un proceso de esa colonización\, con una clara originalidad resultado de la aportación indígena. Dentro de estas dos posturas hay muchos matices\, pero lo que es incuestionable es que tras la colonización fenicia y griega surge en todo el sur peninsular una cultura que manifiesta su originalidad a través de la arquitectura\, la artesanía\, la religiosidad\, la organización política o de sus ritos funerarios. \nPor ello\, el objetivo del II Congreso Internacional es identificar los cambios que produjeron los contactos coloniales\, no solo en el área nuclear de Tarteso\, sino también en otros lugares del Mediterráneo y en toda la costa meridional de la península ibérica para confrontar sus resultados; de igual manera\, se antoja de gran interés examinar las consecuencias que la propia colonización tartésica tuvo en los territorios colindantes\, donde su cultura\, también tamizada\, o bien pervivió hasta su declive definitivo o bien se transformó en una nueva manifestación cultural.  \nLa elección de Mérida para la celebración de este Congreso responde a ese propósito\, el de valorar la cultura tartésica no solo desde su área original\, sino también desde los espacios circundantes que en ocasiones han proporcionado una excelente información sobre el desarrollo de su cultura\, aunque se ciña a su última etapa. En definitiva\, interesa en especial detectar la reacción de las diferentes comunidades indígenas ante la colonización mediterránea y su evolución hasta la conformación de nuevas manifestaciones culturales. \nWeb oficial >> https://www.congresotarteso.es/
URL:https://merida.es/agenda/ii-congreso-internacional-sobre-tarteso/
LOCATION:Centro Cultural Alcazaba\, Calle John Lennon\, 5\, Mérida
CATEGORIES:Charla-Conferencia
ATTACH;FMTTYPE=image/jpeg:https://merida.es/wp-content/uploads/2021/09/2021-congreso-tartesos-banner.jpg
END:VEVENT
END:VCALENDAR