﻿BEGIN:VCALENDAR
VERSION:2.0
PRODID:-//Ayuntamiento de Mérida - ECPv6.15.17.1//NONSGML v1.0//EN
CALSCALE:GREGORIAN
METHOD:PUBLISH
X-WR-CALNAME:Ayuntamiento de Mérida
X-ORIGINAL-URL:https://merida.es
X-WR-CALDESC:Eventos para Ayuntamiento de Mérida
REFRESH-INTERVAL;VALUE=DURATION:PT1H
X-Robots-Tag:noindex
X-PUBLISHED-TTL:PT1H
BEGIN:VTIMEZONE
TZID:Europe/Madrid
BEGIN:DAYLIGHT
TZOFFSETFROM:+0100
TZOFFSETTO:+0200
TZNAME:CEST
DTSTART:20150329T010000
END:DAYLIGHT
BEGIN:STANDARD
TZOFFSETFROM:+0200
TZOFFSETTO:+0100
TZNAME:CET
DTSTART:20151025T010000
END:STANDARD
BEGIN:DAYLIGHT
TZOFFSETFROM:+0100
TZOFFSETTO:+0200
TZNAME:CEST
DTSTART:20160327T010000
END:DAYLIGHT
BEGIN:STANDARD
TZOFFSETFROM:+0200
TZOFFSETTO:+0100
TZNAME:CET
DTSTART:20161030T010000
END:STANDARD
BEGIN:DAYLIGHT
TZOFFSETFROM:+0100
TZOFFSETTO:+0200
TZNAME:CEST
DTSTART:20170326T010000
END:DAYLIGHT
BEGIN:STANDARD
TZOFFSETFROM:+0200
TZOFFSETTO:+0100
TZNAME:CET
DTSTART:20171029T010000
END:STANDARD
END:VTIMEZONE
BEGIN:VEVENT
DTSTART;VALUE=DATE:20160301
DTEND;VALUE=DATE:20160311
DTSTAMP:20260423T045448
CREATED:20160304T105659Z
LAST-MODIFIED:20230313T091250Z
UID:37804-1456790400-1457654399@merida.es
SUMMARY:Actividades 8 de marzo: Día Internacional de las Mujeres
DESCRIPTION:Con motivo de la conmemoración del DÍA INTERNACIONAL DE LAS MUJERES\, el próximo 8 de marzo\, y que se desarrollarán bajo el lema ‘Por todas\, por la igualdad’\, se van a realizar diferentes actividades entre las que se pueden destacar:\n– Exposición de Pintura de Rosasa Soriano. Del 1 al 12 de marzo en el Centro Cultural Alcazaba.\nSe trata de una exposición de la artista emeritense Rosana Soriano que se enmarca dentro del ciclo ‘Ellas también crean’\, un ciclo que tiene como objetivo visibilizar las producciones artísticas\, culturales y científicas de las mujeres. Porque más cultura es más igualdad\, y para que exista más igualdad tenemos que contar con ellas. La exposición estará expuesta hasta el 12 de marzo en el centro cultural Alcazaba.\n– Proyección de la película ‘La novia’. 7 de marzo. 19:30 y 21:45h. Cinesa el Foro\nGracias a la colaboración del Cine Club Forum se proyectará la película ‘La novia’\, dirigida por Paula Ortiz\, y con la que se pretende visibilizar la presencia de las mujeres en el medio audiovisual como creadora. El estudio “Mujeres y hombres en el cine español” destaca que el 90% del cine español está hecho por hombres y sólo una de cada dos directoras ha logrado hacer más de una película. Las directoras no pasan del 13% del total y las productoras\, guionistas y realizadoras no superan el 20 % del medio. Sin embargo\, casi el 55% de los jóvenes que en 2007 terminaron sus estudios en las denominadas “artes del espectáculo” eran mujeres.\n– Concentración lúdica-reivindicativa. 8 de marzo. 19h. Plaza de España\n\nA las siete de la tarde habrá una concentración en la Plaza de España\, convocada por Malvaluna y\, a continuación\, se celebrará un acto lúdico-reivindicativo con la participación de la Banda de Viento del Conservatorio de Mérida. Seguidamente se procederá por parte de varias mujeres a la lectura de textos escritos por mujeres con el acompañamiento musical de la directora de orquesta y pianista emeritense Pilar Vizcaíno. El mismo día 8 de marzo\, a las dos y media del mediodía\, también en la Plaza de España\, se ha organizado un homenaje a la artista María de Elena por parte de la Asociación que lleva su nombre.\n– Charla informativa «Desigualdades en cifras». 10 de marzo. 18h. Centro Cultural Alcazaba\n\nEsta charla tiene como objetivo informar sobre la situación de desigualdad que están soportando las mujeres en Extremadura\, y que estará a cargo de Charo Rabazo\, psicóloga y responsable de Fundación Anas.\nAdemás otras actividades organizadas por otras delegaciones y colectivos trataran el tema de la desigualdad como por ejemplo los talleres infantiles ‘Civitas’ organizados por la Delegación de Juventud que también expondrá en el Centro de Ocio Joven El Economato la muestra ‘El largo Camino de la igualdad’ donde se verán carteles de campañas estatales en conmemoración del 8 de marzo.\nSe ha querido poner también el acento en las mujeres y el deporte\, y para visibilizar los resultados se propone asistir a eventos deportivos liderados por mujeres de nuestra ciudad y en los que se están teniendo buenos resultados\, como es el caso del judo\, natación\, atletismo\, baloncesto o fútbol. Así\, el domingo 6 de marzo a las 17 horas\, se jugará un partido de baloncesto femenino senior en los Salesianos\, y otro de fútbol\, el 13 de marzo\, a las 11 horas\, en los campos de María Auxiliadora.
URL:https://merida.es/agenda/actividades-8-de-marzo-dia-internacional-de-las-mujeres-2016/
LOCATION:Varios puntos de la ciudad\, Mérida
CATEGORIES:Charla-Conferencia,Cine,Exposición
ATTACH;FMTTYPE=image/jpeg:https://merida.es/wp-content/uploads/2016/03/banner-igualdad.jpg
END:VEVENT
BEGIN:VEVENT
DTSTART;TZID=Europe/Madrid:20160303T203000
DTEND;TZID=Europe/Madrid:20160303T203000
DTSTAMP:20260423T045448
CREATED:20160301T172947Z
LAST-MODIFIED:20160301T172947Z
UID:37709-1457037000-1457037000@merida.es
SUMMARY:Cine Filmoteca: "Amama"
DESCRIPTION:AMAMA\nEspaña · 2015 · 103 minutos · Drama\nDirección: Asier Altuna\nGuión: Asier Altuna\nReparto: Iraia Elias\, Kandido Uranga\, Klara Badiola\, Ander Lipus\, Manu Uranga\nSinopsis: Los tres hijos de Tomás e Isabel experimentan el conflicto entre el mundo antiguo y el nuevo. Cómo vivir en la ciudad sin dar la espalda al caserío\, símbolo de la tradición y los valores familiares\, cómo elegir su camino sin traicionar a sus antepasados. Y entre tanto\, la abuela (amama) observa a todos; como si su mirada diera sentido a un mundo que se acaba y otro que parece surgir.\nFestival de San Sebastián – Sección Oficial a Concurso.\nPremios Goya 2016: Iraia Elías nominada a mejor actriz revelación.\nPase: 20:30 h. Se emite en versión original con subtítulos. El precio de la entrada es de 1 euro. Abono 10 sesiones: 6 euros.\nOrganiza la Filmoteca de Extremadura con la colaboración del Cine Club Forum.
URL:https://merida.es/agenda/cine-filmoteca-amama/
LOCATION:Centro Cultural Santo Domingo Fundación CB\, Plaza de Santo Domingo\, s/n\, Mérida
CATEGORIES:Cine
ATTACH;FMTTYPE=image/jpeg:https://merida.es/wp-content/uploads/2016/03/amama-peq.jpg
END:VEVENT
BEGIN:VEVENT
DTSTART;TZID=Europe/Madrid:20160307T193000
DTEND;TZID=Europe/Madrid:20160307T214500
DTSTAMP:20260423T045448
CREATED:20160303T180307Z
LAST-MODIFIED:20160303T180307Z
UID:37799-1457379000-1457387100@merida.es
SUMMARY:Ciclo Cine V.O.S.E.: "La novia"
DESCRIPTION:LA NOVIA\nEspaña · 2015 · 93 minutos · Romance\, Drama\nDirección: Paula Ortiz\nGuión: Paula Ortiz\, Javier García Arredondo (Obra: Federico García Lorca)\nReparto: Inma Cuesta\, Asier Etxeandia\, Álex García\, Luisa Gavasa\, Carlos Álvarez-Novoa\, Ana Fernández\, Consuelo Trujillo\, Leticia Dolera\nSinopsis: Adaptación de «Bodas de sangre»\, de Lorca. Desde pequeños\, Leonardo\, el novio y la novia han formado un triángulo inseparable\, pero cuando se acerca la fecha de la boda las cosas se complican porque entre ella y Leonardo siempre ha habido algo más que amistad. La creciente tensión entre ambos es como un hilo invisible que no se puede explicar\, pero tampoco romper. (FILMAFFINITY)\n2015: 2 Premios Goya: Mejor fotografía y actriz secundaria (Gavasa). 12 nom.\n2015: Premios Feroz: 6 premios\, incluyendo mejor película dramática. 9 nom.\nPases: 19:30 y 21:45 h. El precio de la entrada es de 4 euros.\nOrganizan el Cine Club Fórum y Cinesa El Foro.
URL:https://merida.es/agenda/ciclo-cine-v-o-s-e-la-novia/
LOCATION:Cinesa El Foro\, Centro Comercial El Foro\, Mérida
CATEGORIES:Cine
ATTACH;FMTTYPE=image/jpeg:https://merida.es/wp-content/uploads/2016/03/la-novia-peq.jpg
END:VEVENT
BEGIN:VEVENT
DTSTART;TZID=Europe/Madrid:20160310T203000
DTEND;TZID=Europe/Madrid:20160310T203000
DTSTAMP:20260423T045448
CREATED:20160301T173639Z
LAST-MODIFIED:20160301T173639Z
UID:37712-1457641800-1457641800@merida.es
SUMMARY:Cine Filmoteca: "Boxing for Freedom"
DESCRIPTION:BOXING FOR FREEDOM\nEspaña · 2015 · 74 minutos · Documental\, Drama\nDirección: Juan Antonio Moreno Amador\, Silvia Venegas Venegas\nGuión: Juan Antonio Moreno Amador\, Silvia Venegas Venegas\nSinopsis: Sadaf Rahimi es la mejor boxeadora de Afganistán pero debe enfrentarse a las tradiciones de su país\, al miedo y a su propio destino para ser una mujer libre. Sus éxitos en el boxeo y en los estudios la convertirán en un referente para muchas jóvenes afganas\, pero su camino no estará exento de amenazas y dificultades.\nSelección a Mejor Documental en los Premios del Cine Europeo (EFA) 2015.\nMedallas del Círculo de Escritores Cinematográficos (CEC) – Nominado a Mejor Documental.\nPase: 20:30 h. Se emite en versión original con subtítulos. El precio de la entrada es de 1 euro. Abono 10 sesiones: 6 euros.\nOrganiza la Filmoteca de Extremadura con la colaboración del Cine Club Forum.
URL:https://merida.es/agenda/cine-filmoteca-boxing-for-freedom/
LOCATION:Centro Cultural Santo Domingo Fundación CB\, Plaza de Santo Domingo\, s/n\, Mérida
CATEGORIES:Cine
ATTACH;FMTTYPE=image/jpeg:https://merida.es/wp-content/uploads/2016/03/boxing-for-freedom-peq.jpg
END:VEVENT
BEGIN:VEVENT
DTSTART;TZID=Europe/Madrid:20160314T193000
DTEND;TZID=Europe/Madrid:20160314T214500
DTSTAMP:20260423T045448
CREATED:20160311T085504Z
LAST-MODIFIED:20160311T085504Z
UID:38170-1457983800-1457991900@merida.es
SUMMARY:Ciclo Cine V.O.S.E.: "Steve Jobs"
DESCRIPTION:STEVE JOBS\nEstados Unidos · 2015 · 122 minutos · Drama\, Biográfico\nDirección: Danny Boyle\nGuión: Aaron Sorkin (Biografía: Walter Isaacson)\nReparto: Michael Fassbender\, Kate Winslet\, Seth Rogen\, Jeff Daniels\, Katherine Waterston\, Sarah Snook\, Michael Stuhlbarg\nSinopsis: Particular acercamiento a la figura de Steve Jobs\, el mítico empresario y programador informático centrado en tres momentos clave de su vida que corresponden a tres lanzamientos de productos relacionados con la marca Apple.\n2015: Premios Oscar: Nominada a actor (Fassbender) y actriz de reparto (Winslet)\n2015: Globos de Oro: Mejor guión y actriz de reparto (Kate Winslet)\n2015: Premios BAFTA: Mejor actriz de reparto (Kate Winslet)\nPases: 19:30 y 21:45 h. El precio de la entrada es de 4 euros. Se emite en versión original con subtítulos.\nOrganizan el Cine Club Fórum y Cinesa El Foro.
URL:https://merida.es/agenda/ciclo-cine-v-o-s-e-steve-jobs/
LOCATION:Cinesa El Foro\, Centro Comercial El Foro\, Mérida
CATEGORIES:Cine
ATTACH;FMTTYPE=image/jpeg:https://merida.es/wp-content/uploads/2016/03/steve-jobs-peq.jpg
END:VEVENT
BEGIN:VEVENT
DTSTART;TZID=Europe/Madrid:20160317T203000
DTEND;TZID=Europe/Madrid:20160317T203000
DTSTAMP:20260423T045448
CREATED:20160301T174247Z
LAST-MODIFIED:20160301T174247Z
UID:37715-1458246600-1458246600@merida.es
SUMMARY:Cine Filmoteca: "A Esmorga"
DESCRIPTION:A ESMORGA\nEspaña · 2014 · 111 minutos · Drama\nDirección: Ignacio Vilar\nGuión: Ignacio Vilar\, Carlos Asorey\nReparto: Karra Elejalde\, Ledicia Sola\, Miguel de Lira\, Antonio Durán ‘Morris’\, Sabela Arán\, Monti Castiñeiras\, Mela Casal\nSinopsis: Crónica tensa e intensa de 24 horas en la vida de tres compañeros de juerga que van dejando un reguero de destrucción\, de sexo equívoco y reprimido\, y también cerrando puertas tras tirar las llaves\, como si de manera deliberada buscaran la perdición.\n2014: Premios Goya: Nominada a Mejor guión adaptado\nPase: 20:30 h. Se emite en versión original con subtítulos. El precio de la entrada es de 1 euro. Abono 10 sesiones: 6 euros.\nOrganiza la Filmoteca de Extremadura con la colaboración del Cine Club Forum.
URL:https://merida.es/agenda/cine-filmoteca-a-esmorga/
LOCATION:Centro Cultural Santo Domingo Fundación CB\, Plaza de Santo Domingo\, s/n\, Mérida
CATEGORIES:Cine
ATTACH;FMTTYPE=image/jpeg:https://merida.es/wp-content/uploads/2016/03/a-esmorga-img.jpg
END:VEVENT
BEGIN:VEVENT
DTSTART;TZID=Europe/Madrid:20160321T193000
DTEND;TZID=Europe/Madrid:20160321T214500
DTSTAMP:20260423T045448
CREATED:20160311T090209Z
LAST-MODIFIED:20160311T090209Z
UID:38171-1458588600-1458596700@merida.es
SUMMARY:Ciclo Cine V.O.S.E.: "Amy (La chica detrás del nombre)"
DESCRIPTION:AMY (LA CHICA DETRÁS DEL NOMBRE\nReino Unido · 2015 · 128 minutos · Documental\, Biográfico\nDirección: Asif Kapadia\nGuión: Asif Kapadia\nSinopsis: Documental sobre la famosa cantante británica Amy Winehouse\, que cuenta con imágenes inéditas de archivo y entrevistas con la malograda estrella\, que murió en julio del 2011 a los 27 años de edad por parada cardíaca consecuencia de sus excesos con las drogas y el alcohol\, adicciones agravadas por su bulimia. Amy Winehouse\, ganadora de 6 Premios Grammys\, se vio desde muy joven afectada por el divorcio de sus padres. Tenía un talento natural para el jazz y el soul y una voz prodigiosa que pronto la hizo una estrella mundial a pesar de lanzar sólo dos discos\, pero la fama\, la prensa sensacionalista\, los intereses de la industria -y de su entorno- y su turbulento amor con el que fue su pareja Blake Fielder-Civil la condujeron finalmente a su trágico destino en su piso de Camden\, Londres.\n2015: Premios Oscar: Mejor documental\n2015: Festival de Cannes: Sección oficial largometrajes (fuera de concurso)\n2015: Premios BAFTA: Mejor documental\n2015: Premios del Cine Europeo: Mejor documental\nPases: 19:30 y 21:45 h. El precio de la entrada es de 4 euros. Se emite en versión original con subtítulos.\nOrganizan el Cine Club Fórum y Cinesa El Foro.
URL:https://merida.es/agenda/ciclo-cine-v-o-s-e-amy-la-chica-detras-del-nombre/
LOCATION:Cinesa El Foro\, Centro Comercial El Foro\, Mérida
CATEGORIES:Cine
ATTACH;FMTTYPE=image/jpeg:https://merida.es/wp-content/uploads/2016/03/amy-peq.jpg
END:VEVENT
BEGIN:VEVENT
DTSTART;TZID=Europe/Madrid:20160328T193000
DTEND;TZID=Europe/Madrid:20160328T214500
DTSTAMP:20260423T045448
CREATED:20160311T091003Z
LAST-MODIFIED:20160311T091003Z
UID:38172-1459193400-1459201500@merida.es
SUMMARY:Ciclo Cine V.O.S.E.: "Carol"
DESCRIPTION:CAROL\nReino Unido · 2015 · 118 minutos · Romance\, Drama\nDirección: Todd Haynes\nGuión: Phyllis Nagy (Novela: Patricia Highsmith)\nReparto: Cate Blanchett\, Rooney Mara\, Sarah Paulson\, Kyle Chandler\, Jake Lacy\, Cory Michael Smith\nSinopsis: Nueva York\, años 50. Therese Belivet (Rooney Mara)\, una joven dependienta de una tienda de Manhattan que sueña con una vida mejor\, conoce un día a Carol Aird (Cate Blanchett)\, una mujer elegante y sofisticada que se encuentra atrapada en un matrimonio infeliz. Entre ellas surge una atracción inmediata\, cada vez más intensa y profunda\, que cambiará sus vidas para siempre.\n2015: Premios Oscar: 6 nominaciones incluyendo mejor actriz (Cate Blanchett)\n2015: Globos de Oro: 5 nominaciones incluyendo mejor película drama y director\n2015: Premios BAFTA: 9 nominaciones\, incluyendo Mejor película\n2015: Festival de Cannes: Mejor actriz (Rooney Mara)\nPases: 19:30 y 21:45 h. El precio de la entrada es de 4 euros. Se emite en versión original con subtítulos.\nOrganizan el Cine Club Fórum y Cinesa El Foro.
URL:https://merida.es/agenda/ciclo-cine-v-o-s-e-carol/
LOCATION:Cinesa El Foro\, Centro Comercial El Foro\, Mérida
CATEGORIES:Cine
ATTACH;FMTTYPE=image/jpeg:https://merida.es/wp-content/uploads/2016/03/carol-peq.jpeg
END:VEVENT
BEGIN:VEVENT
DTSTART;TZID=Europe/Madrid:20160331T193000
DTEND;TZID=Europe/Madrid:20160331T193000
DTSTAMP:20260423T045448
CREATED:20160321T164414Z
LAST-MODIFIED:20160321T164414Z
UID:38621-1459452600-1459452600@merida.es
SUMMARY:Documental "Las ventanas abiertas"
DESCRIPTION:La asociación Extremadura Entiende ha preparado una actividad para el jueves 31 de marzo\, a las 19:30 h\, en el Centro Cultural Alcazaba\, incluida dentro de las que el IMEX lleva a cabo ​durante​ el mes de marzo\, para conmemorar el Día Internacional de la mujer\nProyectará​ el documental “Las Ventanas Abiertas”\, de la directora Michèle Masse\, ​ con una duración de 62 minutos\, que retrata a cuatro mujeres lesbianas en torno a los 70 años\, su activismo\, sus relaciones\, su manera de vivir la vida a una edad en la que se nos toma como “mayores” y que cuenta con los testimonios de las históricas activistas españolas:  Boti García Rodrigo (ex-presidenta de la FELGTB) y Empar Pineda (cofundadora de la Coordinadora de Organizaciones Feministas del Estado español).\n​La propia Michéle y Boti presentarán el documental ​​y t​ras la proyección se podrá compartir con ellas un debate sobre la visibilidad de las mujeres lesbianas que pasan de los 60 años y cómo la viven. También asistirá Dª Elisa Barrientos Blanca\, Directora General del Instituto de la Mujer.\nLa entrada es libre
URL:https://merida.es/agenda/documental-las-ventanas-abiertas/
LOCATION:Centro Cultural Alcazaba\, Calle John Lennon\, 5\, Mérida
CATEGORIES:Cine
ATTACH;FMTTYPE=image/jpeg:https://merida.es/wp-content/uploads/2016/03/ventanas-abiertas-peq.jpg
END:VEVENT
BEGIN:VEVENT
DTSTART;TZID=Europe/Madrid:20160331T203000
DTEND;TZID=Europe/Madrid:20160331T203000
DTSTAMP:20260423T045448
CREATED:20160329T165121Z
LAST-MODIFIED:20160329T165121Z
UID:38803-1459456200-1459456200@merida.es
SUMMARY:Cine Filmoteca: "El camino más largo para volver a casa"
DESCRIPTION:EL CAMINO MÁS LARGO PARA VOLVER A CASA\nEspaña · 2014 · 85 minutos · Drama\nDirección: Sergi Pérez\nGuión: Sergi Pérez\, Eric Navarro\, Roger Padilla\nReparto: Borja Espinosa\, Miki Esparbé\, María Ribera\, Pol López\nSinopsis: Una mañana Joel encuentra a Elvis\, el perro de su mujer moribundo. Esto le obliga a salir de casa\, algo que lleva evitando desde hace tiempo. Al dejarse las llaves dentro\, pasará el día intentando desesperadamente volver a su casa\, su refugio.\nVIII Premios Gaudí 2016 – Mejor Película.\nPase: 20:30 h. Se emite en versión original (catalán) con subtítulos. El precio de la entrada es de 1 euro. Abono 10 sesiones: 6 euros.\nOrganiza la Filmoteca de Extremadura con la colaboración del Cine Club Forum.
URL:https://merida.es/agenda/cine-filmoteca-el-camino-mas-largo-para-volver-a-casa/
LOCATION:Centro Cultural Santo Domingo Fundación CB\, Plaza de Santo Domingo\, s/n\, Mérida
CATEGORIES:Cine
ATTACH;FMTTYPE=image/jpeg:https://merida.es/wp-content/uploads/2016/03/camino-mas-largo-peq.jpg
END:VEVENT
END:VCALENDAR