﻿BEGIN:VCALENDAR
VERSION:2.0
PRODID:-//Ayuntamiento de Mérida - ECPv6.15.17.1//NONSGML v1.0//EN
CALSCALE:GREGORIAN
METHOD:PUBLISH
X-ORIGINAL-URL:https://merida.es
X-WR-CALDESC:Eventos para Ayuntamiento de Mérida
REFRESH-INTERVAL;VALUE=DURATION:PT1H
X-Robots-Tag:noindex
X-PUBLISHED-TTL:PT1H
BEGIN:VTIMEZONE
TZID:Europe/Madrid
BEGIN:DAYLIGHT
TZOFFSETFROM:+0100
TZOFFSETTO:+0200
TZNAME:CEST
DTSTART:20150329T010000
END:DAYLIGHT
BEGIN:STANDARD
TZOFFSETFROM:+0200
TZOFFSETTO:+0100
TZNAME:CET
DTSTART:20151025T010000
END:STANDARD
BEGIN:DAYLIGHT
TZOFFSETFROM:+0100
TZOFFSETTO:+0200
TZNAME:CEST
DTSTART:20160327T010000
END:DAYLIGHT
BEGIN:STANDARD
TZOFFSETFROM:+0200
TZOFFSETTO:+0100
TZNAME:CET
DTSTART:20161030T010000
END:STANDARD
BEGIN:DAYLIGHT
TZOFFSETFROM:+0100
TZOFFSETTO:+0200
TZNAME:CEST
DTSTART:20170326T010000
END:DAYLIGHT
BEGIN:STANDARD
TZOFFSETFROM:+0200
TZOFFSETTO:+0100
TZNAME:CET
DTSTART:20171029T010000
END:STANDARD
END:VTIMEZONE
BEGIN:VEVENT
DTSTART;TZID=Europe/Madrid:20160502T193000
DTEND;TZID=Europe/Madrid:20160502T220000
DTSTAMP:20260420T064630
CREATED:20160429T070257Z
LAST-MODIFIED:20160429T070257Z
UID:39800-1462217400-1462226400@merida.es
SUMMARY:Ciclo Cine V.O.S.E.: "Corazón silencioso"
DESCRIPTION:CORAZÓN SILENCIOSO\nTítulo original: Stille hjerte\nDinamarca · 2014 · 97 minutos · Drama\nDirección: Bille August\nGuión: Christian Torpe\nReparto: Ghita Nørby\, Morten Grunwald\, Paprika Steen\, Danica Curcic\, Jens Albinus\, Pilou Asbæk\, Vigga Bro\, Oskar Sælan Halskov\nSinopsis: Tres generaciones de una familia se reúnen un fin de semana. Las hermanas\, Sanne y Hedidi\, han aceptado que su madre\, enferma terminal\, desee poner fin a su vida antes de que su estado empeore. Pero según transcurre el fin de semana\, la decisión de la madre resulta cada vez más difícil de aceptar y viejos conflictos salen a la superficie.\n2014: Festival de San Sebastián: Mejor actriz (Paprika Steen)\nPases: 19:30 y 22:00 h. El precio de la entrada es de 4 euros. La película se emite en versión original con subtítulos en castellano.\nOrganizan el Cine Club Fórum y Cinesa El Foro.
URL:https://merida.es/agenda/ciclo-cine-v-o-s-e-corazon-silencioso/
LOCATION:Cinesa El Foro\, Centro Comercial El Foro\, Mérida
CATEGORIES:Cine
ATTACH;FMTTYPE=image/jpeg:https://merida.es/wp-content/uploads/2016/04/corazon-silencioso-peq.jpg
END:VEVENT
BEGIN:VEVENT
DTSTART;TZID=Europe/Madrid:20160505T203000
DTEND;TZID=Europe/Madrid:20160505T203000
DTSTAMP:20260420T064630
CREATED:20160504T095819Z
LAST-MODIFIED:20160504T095819Z
UID:39934-1462480200-1462480200@merida.es
SUMMARY:Cine Fimoteca: "Langosta"
DESCRIPTION:LANGOSTA\nTítulo original: The Lobster\nGrecia · 2015 · 118 minutos · Ciencia-Ficción\, Drama\nDirección: Yorgos Lanthimos\nGuión: Efthymis Filippou\, Yorgos Lanthimos\nReparto: Colin Farrell\, Rachel Weisz\, Jessica Barden\, Olivia Colman\, Ashley Jensen\, Ariane Labed\, Angeliki Papoulia\, John C. Reilly\, Léa Seydoux\nSinopsis: Narra una historia de amor no convencional\, ambientada en un mundo distópico\, en el que según las reglas establecidas\, los solteros son arrestados y enviados a un lugar donde tienen que encontrar pareja en un plazo de 45 días. El tema central es la soledad\, el temor a morir solo\, a vivir solo\, y también al temor a vivir con alguien.\n2015: Festival de Cannes: Premio del Jurado\n2015: Premios del Cine Europeo: Mejor guión y diseño de vestuario\n2015: Premios BAFTA: Nominada a Mejor film británico\nPase: 20:30 h. Se emite en versión original con subtítulos. El precio de la entrada es de 1 euro.\nAbono 10 sesiones: 6 euros.\nOrganiza la Filmoteca de Extremadura con la colaboración del Cine Club Forum.
URL:https://merida.es/agenda/cine-fimoteca-langosta/
LOCATION:Centro Cultural Santo Domingo Fundación CB\, Plaza de Santo Domingo\, s/n\, Mérida
CATEGORIES:Cine
ATTACH;FMTTYPE=image/jpeg:https://merida.es/wp-content/uploads/2016/05/langosta-peq.jpg
END:VEVENT
BEGIN:VEVENT
DTSTART;TZID=Europe/Madrid:20160512T203000
DTEND;TZID=Europe/Madrid:20160512T203000
DTSTAMP:20260420T064630
CREATED:20160509T080051Z
LAST-MODIFIED:20160509T080051Z
UID:40131-1463085000-1463085000@merida.es
SUMMARY:Cine Filmoteca: "La ley del mercado"
DESCRIPTION:LA LEY DEL MERCADO\nTítulo original: The Lobster\nFrancia · 2015 · 92 minutos · Ciencia-Ficción\, Drama\nDirección: Stéphane Brizé\nGuión: Stéphane Brizé\, Olivier Gorce\nReparto: Vincent Lindon\, Yves Ory\, Karine De Mirbeck\, Matthieu Schaller\nSinopsis: Después de 20 meses en el paro\, Thierry\, un hombre de 51 años\, encuentra un nuevo trabajo\, pero pronto tendrá que enfrentarse a un dilema moral: ¿puede aceptar cualquier cosa con tal de conservar su trabajo?\n2015: Festival de Cannes: Mejor actor (Vincent Lindon)\n2015: Premios César: Mejor actor (Vincent Lindon)\n2015: Festival de Mar del Plata: Selección oficial largometrajes a concurso\n2015: Premios del Cine Europeo: Nominada a Mejor actor (Vincent Lindon)\nPase: 20:30 h. Se emite en versión original con subtítulos. El precio de la entrada es de 1 euro.\nAbono 10 sesiones: 6 euros.\nOrganiza la Filmoteca de Extremadura con la colaboración del Cine Club Forum.
URL:https://merida.es/agenda/cine-filmoteca-la-ley-del-mercado/
LOCATION:Centro Cultural Santo Domingo Fundación CB\, Plaza de Santo Domingo\, s/n\, Mérida
CATEGORIES:Cine
ATTACH;FMTTYPE=image/jpeg:https://merida.es/wp-content/uploads/2016/05/ley-mercado-peq.jpg
END:VEVENT
BEGIN:VEVENT
DTSTART;TZID=Europe/Madrid:20160516T193000
DTEND;TZID=Europe/Madrid:20160516T220000
DTSTAMP:20260420T064630
CREATED:20160429T084846Z
LAST-MODIFIED:20160429T084846Z
UID:39806-1463427000-1463436000@merida.es
SUMMARY:Ciclo Cine V.O.S.E.: "Nahid"
DESCRIPTION:NAHID\nIrán · 2015 · 106 minutos · Drama\nDirección: Ida Panahandeh\nGuión: Ida Panahandeh\, Arsalan Amiri\nReparto: Sareh Bayat\, Pejman Bazeghi\, Navid Mohammad Zadeh\, Milad Hossein Pour\, Pouria Rahimi\, Nasrin Babaei\nSinopsis: Nahid es una joven divorciada que vive sola con su hijo de diez años en una ciudad del norte de Irán junto al Mar Caspio. Conforme a las normas que rigen la sociedad iraní\, la custodia de un hijo le corresponde al padre\, aunque en este caso su exmarido se la ha cedido a condición de que no se vuelva a casar. La relación entre Nahid y otro hombre que la ama apasionadamente y desea casarse con ella complicará su situación como mujer y como madre.\n2015: Festival de Cannes: Selección oficial (Un Certain Regard)\n2015: Festival Internacional de Valladolid – Seminci: Sección oficial\nPases: 19:30 y 22:00 h. El precio de la entrada es de 4 euros. La película se emite en versión original con subtítulos en castellano.\nOrganizan el Cine Club Fórum y Cinesa El Foro.
URL:https://merida.es/agenda/ciclo-cine-v-o-s-e-nahid/
LOCATION:Cinesa El Foro\, Centro Comercial El Foro\, Mérida
CATEGORIES:Cine
ATTACH;FMTTYPE=image/jpeg:https://merida.es/wp-content/uploads/2016/04/nahid-img.jpg
END:VEVENT
BEGIN:VEVENT
DTSTART;TZID=Europe/Madrid:20160517T203000
DTEND;TZID=Europe/Madrid:20160517T203000
DTSTAMP:20260420T064630
CREATED:20160512T170301Z
LAST-MODIFIED:20160512T170301Z
UID:40397-1463517000-1463517000@merida.es
SUMMARY:Ciclo Cine & Gastronomía: 'El ADN del Ceviche'
DESCRIPTION:El cine club Forum\, la Delegación de Turismo del Ayuntamiento de Mérida y la Dirección General de Turismo de la Junta organizan el ciclo ‘Cine y gastronomía’\, que se desarrollará a lo largo del año en que Mérida es Capital Iberoamericana de la Cultura Gastronómica.\nLa actividad se divide en dos partes y se desarrollará el martes 17 de mayo\, en el Aula de Cultura de Caja Badajoz y en el restaurante A de Arco. A las 20.30 horas se iniciará el acto\, con la proyección en el Centro Cultural de Caja Badajoz del documental ‘El ADN del ceviche’\, que recorriendo la Costa Norte del Perú\, Amazonía y Lima\, explora los aspectos históricos\, culinarios\, ambientales y sociopolíticos de este plato originario de la orilla del mar\, preparado y consumido en el Perú\, en su forma ancestral\, desde la época precolombina.\nDespués\, los asistentes que hayan reservado (tfno. 924 33 24 71 o email: isabel.barroso@gobex.es)\, se trasladarán al restaurante A de Arco para asistir a una elaboración en directo de leche de tigre y ceviche clásico y la posterior degustación. Los platos que se probarán serán Leche de tigre\, Ceviche clásico peruano\, Copa limeña\, Lomo saltado y Seco de cordero\, con vinos de Pago de Balancines\, Carabal\, Marqués de Valdueza y El gorriato.\nLos cocineros encargados de los platos que se servirán en el restaurante A de Arco son su jefe de cocina\, Enrique Frías\, y el cocinero peruano\, Carlos Lévano\, que trabaja en España desde 2007 (en la actualidad en Badajoz y antes en Cáceres) y que fue alumno de Martín Berasategui en Lasarte.
URL:https://merida.es/agenda/ciclo-cine-gastronomia-el-adn-del-ceviche/
LOCATION:Centro Cultural de Caja Badajoz y Restaurante A de Arco\, Mérida
CATEGORIES:Cine,Gastronomía
ATTACH;FMTTYPE=image/jpeg:https://merida.es/wp-content/uploads/2016/05/adn-ceviche-peq.jpg
END:VEVENT
BEGIN:VEVENT
DTSTART;TZID=Europe/Madrid:20160519T203000
DTEND;TZID=Europe/Madrid:20160519T203000
DTSTAMP:20260420T064630
CREATED:20160516T184831Z
LAST-MODIFIED:20160516T184831Z
UID:40467-1463689800-1463689800@merida.es
SUMMARY:Cine Filmoteca: "El amor es más fuerte que las bombas"
DESCRIPTION:EL AMOR ES MÁS FUERTE QUE LAS BOMBAS\nTítulo original: Louder Than Bombs\nNoruega · 2015 · 105 minutos · Drama\nDirección: Joachim Trier\nGuión: Joachim Trier\, Eskil Vogt\nReparto: Jesse Eisenberg\, Gabriel Byrne\, Isabelle Huppert\, Devin Druid\nSinopsis: Relato de narrativa fragmentada\, centrado en una familia de ambiente culto que se desgarra por sus cuatro vertientes: padre actor de éxito ya retirado\, madre mito de la fotografía de guerra\, hijo mayor doctorado en Sociología y joven padre con dudas\, e hijo adolescente perdido entre las sombras de su soledad quizá\, autoimpuesta.\n2015: Festival de Cannes: Sección oficial largometrajes a concurso\nPase: 20:30 h. Se emite en versión original con subtítulos. El precio de la entrada es de 1 euro.\nAbono 10 sesiones: 6 euros.\nOrganiza la Filmoteca de Extremadura con la colaboración del Cine Club Forum.
URL:https://merida.es/agenda/cine-filmoteca-el-amor-es-mas-fuerte-que-las-bombas/
LOCATION:Centro Cultural Santo Domingo Fundación CB\, Plaza de Santo Domingo\, s/n\, Mérida
CATEGORIES:Cine
ATTACH;FMTTYPE=image/jpeg:https://merida.es/wp-content/uploads/2016/05/fuertequebombas-peq.jpg
END:VEVENT
BEGIN:VEVENT
DTSTART;TZID=Europe/Madrid:20160523T193000
DTEND;TZID=Europe/Madrid:20160523T220000
DTSTAMP:20260420T064630
CREATED:20160429T085408Z
LAST-MODIFIED:20160429T085408Z
UID:39809-1464031800-1464040800@merida.es
SUMMARY:Ciclo Cine V.O.S.E.: "Deuda de honor"
DESCRIPTION:DEUDA DE HONOR\nTítulo original: The Homesman\nIrán · 2015 · 106 minutos · Drama\nDirección: Tommy Lee Jones\nGuión: Tommy Lee Jones\, Kieran Fitzgerald\, Wesley Oliver\nReparto: Tommy Lee Jones\, Hilary Swank\, Grace Gummer\, Miranda Otto\, Sonja Richter\, Tim Blake Nelson\, David Dencik\, John Lithgow\, James Spader\, Meryl Streep\nSinopsis: Nebraska\, 1855. Mary Bee Cuddy (Hilary Swank)\, una mujer solitaria que vive en un remoto pueblo del Medio Oeste\, es elegida por la Iglesia para hacer regresar al mundo civilizado a tres mujeres que han perdido la razón. Para ello\, cuenta con Briggs (Tommy Lee Jones)\, un delincuente al que salva de la horca con la condición de que la ayude a ejecutar su misión. Juntos emprenden un largo y peligroso viaje a través del desierto\, desde Nebraska hasta Iowa\, en el que tendrán que enfrentarse a toda clase de peligros.\n2014: Festival de Cannes: Sección oficial largometrajes a concurso\nPases: 19:30 y 22:00 h. El precio de la entrada es de 4 euros. La película se emite en versión original con subtítulos en castellano.\nOrganizan el Cine Club Fórum y Cinesa El Foro.
URL:https://merida.es/agenda/ciclo-cine-v-o-s-e-deuda-de-honor/
LOCATION:Cinesa El Foro\, Centro Comercial El Foro\, Mérida
CATEGORIES:Cine
ATTACH;FMTTYPE=image/jpeg:https://merida.es/wp-content/uploads/2016/04/deuda_honor_peq.jpg
END:VEVENT
BEGIN:VEVENT
DTSTART;TZID=Europe/Madrid:20160526T203000
DTEND;TZID=Europe/Madrid:20160526T203000
DTSTAMP:20260420T064630
CREATED:20160523T173638Z
LAST-MODIFIED:20160523T173638Z
UID:40756-1464294600-1464294600@merida.es
SUMMARY:Cine Filmoteca: "The Assasin"
DESCRIPTION:THE ASSASIN\nTítulo original: Nie yin niang\nTaiwan · 2015 · 105 minutos · Drama\, Acción\nDirección: Hou Hsiao-Hsien\nGuión: Hou Hsiao-Hsien\, Chu Tien-Wen\, A. Cheng\nReparto: Shu Qi\, Chang Chen\, Satoshi Tsumabuki\, Ethan Juan\, Nikki Hsieh\, Ni Dahong\, Zhang Shijun\, Michael Chang\, Jiang Wen\, Zuo Xiaoqing\, Xu Fan\, Tadanobu Asano\, Zhou Yunin\nSinopsis: China\, siglo IX. Nie Yinniang regresa a casa de su familia tras años de exilio. Educada por una monja que la inicia en las artes marciales\, es una auténtica justiciera cuyo objetivo es eliminar a los tiranos. Su maestro le encarga la misión de matar a su primo Tian Ji’an\, gobernador disidente de la provincia militar de Weibo. Nie tendrá que elegir: sacrificar al hombre que ama o romper definitivamente con la «Secta de los Asesinos”.\n2015: Festival de Cannes: Mejor director\n2015: Premios BAFTA: Nominada a Mejor película en habla no inglesa\nPase: 20:30 h. Se emite en versión original con subtítulos. El precio de la entrada es de 1 euro.\nAbono 10 sesiones: 6 euros.\nOrganiza la Filmoteca de Extremadura con la colaboración del Cine Club Forum.
URL:https://merida.es/agenda/cine-filmoteca-the-assasin/
LOCATION:Centro Cultural Santo Domingo Fundación CB\, Plaza de Santo Domingo\, s/n\, Mérida
CATEGORIES:Cine
ATTACH;FMTTYPE=image/jpeg:https://merida.es/wp-content/uploads/2016/05/theassasin-img.jpg
END:VEVENT
BEGIN:VEVENT
DTSTART;TZID=Europe/Madrid:20160530T193000
DTEND;TZID=Europe/Madrid:20160530T220000
DTSTAMP:20260420T064630
CREATED:20160429T085956Z
LAST-MODIFIED:20160429T085956Z
UID:39812-1464636600-1464645600@merida.es
SUMMARY:Ciclo Cine V.O.S.E.: "La invitación"
DESCRIPTION:LA INVITACIÓN\nTítulo original: The invitation\nEstados Unidos · 2015 · 90 minutos · Thriller\, Terror\nDirección: Karyn Kusama\nGuión: Phil Hay\, Matt Manfredi\nReparto: Logan Marshall-Green\, Michiel Huisman\, Tammy Blanchard\, John Carroll Lynch\, Mike Doyle\, Emayatzy Corinealdi\, Karl Yune\nSinopsis: Will y Eden perdieron a su hijo años atrás. La tragedia afectó su relación de forma irreversible\, hasta el punto de que ella desapareció de la noche a la mañana. Un día\, Eden regresa a la ciudad; se ha vuelto a casar y en ella parece haber cambiado algo\, convirtiéndola en una presencia inquietante e irreconocible incluso para Will.\n2015: Festival de Sitges: Mejor película\nPases: 19:30 y 22:00 h. El precio de la entrada es de 4 euros. La película se emite en versión original con subtítulos en castellano.\nOrganizan el Cine Club Fórum y Cinesa El Foro.
URL:https://merida.es/agenda/ciclo-cine-v-o-s-e-la-invitacion/
LOCATION:Cinesa El Foro\, Centro Comercial El Foro\, Mérida
CATEGORIES:Cine
ATTACH;FMTTYPE=image/jpeg:https://merida.es/wp-content/uploads/2016/04/la_invitacion_peq.jpg
END:VEVENT
END:VCALENDAR