﻿BEGIN:VCALENDAR
VERSION:2.0
PRODID:-//Ayuntamiento de Mérida - ECPv6.15.17.1//NONSGML v1.0//EN
CALSCALE:GREGORIAN
METHOD:PUBLISH
X-ORIGINAL-URL:https://merida.es
X-WR-CALDESC:Eventos para Ayuntamiento de Mérida
REFRESH-INTERVAL;VALUE=DURATION:PT1H
X-Robots-Tag:noindex
X-PUBLISHED-TTL:PT1H
BEGIN:VTIMEZONE
TZID:Europe/Madrid
BEGIN:DAYLIGHT
TZOFFSETFROM:+0100
TZOFFSETTO:+0200
TZNAME:CEST
DTSTART:20180325T010000
END:DAYLIGHT
BEGIN:STANDARD
TZOFFSETFROM:+0200
TZOFFSETTO:+0100
TZNAME:CET
DTSTART:20181028T010000
END:STANDARD
BEGIN:DAYLIGHT
TZOFFSETFROM:+0100
TZOFFSETTO:+0200
TZNAME:CEST
DTSTART:20190331T010000
END:DAYLIGHT
BEGIN:STANDARD
TZOFFSETFROM:+0200
TZOFFSETTO:+0100
TZNAME:CET
DTSTART:20191027T010000
END:STANDARD
BEGIN:DAYLIGHT
TZOFFSETFROM:+0100
TZOFFSETTO:+0200
TZNAME:CEST
DTSTART:20200329T010000
END:DAYLIGHT
BEGIN:STANDARD
TZOFFSETFROM:+0200
TZOFFSETTO:+0100
TZNAME:CET
DTSTART:20201025T010000
END:STANDARD
END:VTIMEZONE
BEGIN:VEVENT
DTSTART;TZID=Europe/Madrid:20190401T193000
DTEND;TZID=Europe/Madrid:20190401T220000
DTSTAMP:20260420T064715
CREATED:20190401T074506Z
LAST-MODIFIED:20190401T074506Z
UID:64669-1554147000-1554156000@merida.es
SUMMARY:XXX Ciclo de Cine V.O.S.E.: 'La noche de 12 años'
DESCRIPTION:  \nTítulo original: La noche de 12 años\nAño: 2018\nDuración: 122 min.\nPaís: Uruguay\nGénero: Drama\nDirector: Álvaro Brechner\nGuión: Álvaro Brechner\nReparto: Antonio de la Torre\,  Chino Darín\,  Alfonso Tort\,  César Troncoso\,  Soledad Villamil\, Sílvia Pérez Cruz\,  Mirella Pascual\,  Nidia Telles\nSinopsis: Año 1973. Uruguay está bajo el poder de la dictadura militar. Una noche de otoño\, nueve presos Tupamaros son sacados de sus celdas en una operación militar secreta. La orden es precisa: «como no pudimos matarles\, vamos a volverles locos». Los tres hombres permanecerán aislados durante 12 años. Durante más de una década\, los presos permanecerán aislados en diminutas celdas en dónde pasarán la mayoría del tiempo encapuchados\, atados\, en silencio\, privados de sus necesidades básicas\, apenas alimentados\, y viendo reducidos al mínimo sus sentidos. Entre ellos estaba Pepe Mujica\, quien más tarde llegó a convertirse en presidente de Uruguay. \n2018: Premios Goya: Mejor guion adaptado. 3 nominaciones\n2018: Festival de Cine Latinoamericano de Biarritz: Premio del público\n2018: Premios Forqué: Nominada a Mejor película latinoamericana\n2019: Premios Platino: 6 nominaciones incluyendo mejor película\, dirección y guion\nDos pases: 19:30 y 22:00. Entrada 5\,5 €.
URL:https://merida.es/agenda/xxix-ciclo-de-cine-v-o-s-e-la-noche-de-12-anos/
LOCATION:Cines Victoria Mérida\, Centro Comercial El Foro\, Mérida\, 06800
CATEGORIES:Cine
ATTACH;FMTTYPE=image/jpeg:https://merida.es/wp-content/uploads/2019/04/noche-12-anyos-peq.jpg
END:VEVENT
BEGIN:VEVENT
DTSTART;TZID=Europe/Madrid:20190403T200000
DTEND;TZID=Europe/Madrid:20190403T200000
DTSTAMP:20260420T064715
CREATED:20190402T071630Z
LAST-MODIFIED:20190402T071630Z
UID:64694-1554321600-1554321600@merida.es
SUMMARY:Proyección documental: "Pero que todos sepan que no he muerto"
DESCRIPTION:La Enredadera organiza un cineforum\, el miércoles 3 de abril\, a las 20:00 horas\, en Fundación Caja Badajoz\, con la proyección de la película “Pero que todos sepan que no he muerto” (Bones of Contention)\, documental escrito y dirigido por Andrea Weiss. Posteriormente tendrá lugar un coloquio.\nEstrenado mundialmente en el Festival de Berlín (2017)\, la película explora el tema de la memoria histórica en España y la represión que las lesbianas\, gays y transexuales sufrieron bajo el franquismo\, todo ello tomando como nexo de unión la figura y la poesía de Federico García Lorca.\nEl acto se realiza con la colaboración de Cineclub de Mérida\, Fundación Caja Badajoz\, Fundación Triángulo\, la ARMHEX (Asociación para la Recuperación de la Memoria Histórica de Extremadura) y AGCEX (Asociación de Gestores Culturales de Extremadura)\, que\, el mismo día\, exhibirá en idéntico lugar la exposición ‘Lorca Mujer’.
URL:https://merida.es/agenda/proyeccion-documental-pero-que-todos-sepan-que-no-he-muerto/
LOCATION:Centro Cultural Santo Domingo Fundación CB\, Plaza de Santo Domingo\, s/n\, Mérida
CATEGORIES:Charla-Conferencia,Cine,Exposición
ATTACH;FMTTYPE=image/jpeg:https://merida.es/wp-content/uploads/2019/04/NoheMuerto-peq.jpg
END:VEVENT
BEGIN:VEVENT
DTSTART;TZID=Europe/Madrid:20190404T203000
DTEND;TZID=Europe/Madrid:20190404T203000
DTSTAMP:20260420T064715
CREATED:20190402T072345Z
LAST-MODIFIED:20190402T072345Z
UID:64697-1554409800-1554409800@merida.es
SUMMARY:Cine Filmoteca: "Apuntes para una película de atracos"
DESCRIPTION:  \nTítulo original: Apuntes para una película de atracos\nAño: 2018\nDuración: 85 min.\nPaís: España\nGénero: Documental\nDirector: León Siminiani\nGuionista: León Siminiani\nSinopsis:\nElías es un director de cine que soñaba con hacer una película de atracos. Durante el verano de 2013 lee una noticia sobre la detención de ‘El Robin Hood de Vallecas’\, el líder de ‘la banda de las alcantarillas’. Siente entonces que ha encontrado la oportunidad para cumplir su sueño. Le manda una carta a la cárcel donde cumple condena. Contra todo pronóstico\, Elías recibe respuesta tres semanas después. ‘El Robin Hood’ acepta que vaya a la cárcel a visitarle.\nPremios:\n2018: Premios Goya: Nominada a Mejor documental\n2018: Premios Feroz: Mejor documental\nHora: 20:30. Entrada 1 €.
URL:https://merida.es/agenda/cine-filmoteca-apuntes-para-una-pelicula-de-atracos/
LOCATION:Centro Cultural Santo Domingo Fundación CB\, Plaza de Santo Domingo\, s/n\, Mérida
CATEGORIES:Cine
ATTACH;FMTTYPE=image/jpeg:https://merida.es/wp-content/uploads/2019/04/atracos-peq.jpg
END:VEVENT
BEGIN:VEVENT
DTSTART;TZID=Europe/Madrid:20190408T193000
DTEND;TZID=Europe/Madrid:20190408T220000
DTSTAMP:20260420T064715
CREATED:20190407T155125Z
LAST-MODIFIED:20190407T155125Z
UID:64832-1554751800-1554760800@merida.es
SUMMARY:XXX Ciclo de Cine V.O.S.E.: 'Entre dos aguas'
DESCRIPTION:  \nTítulo original: Entre dos aguas\nAño: 2018\nDuración: 136 min.\nPaís: España\nGénero: Drama\nDirector: Isaki Lacuesta\nGuión: Isa Campo\, Isaki Lacuesta\, Fran Araújo\nReparto: Israel Gómez Romero\,  Francisco José Gómez Romero\,  Rocío Rendón\, Yolanda Carmona\,  Lorrein Galea\,  Manuel González del Tanago\nSinopsis: Isra y Cheíto son dos hermanos que han tomado caminos muy diferentes en la vida. Cuando Isra sale de la cárcel y Cheíto termina una larga misión enrolado en la Marina\, ambos regresan a la Isla de San Fernando. El reencuentro de los hermanos renovará el recuerdo de la muerte violenta de su padre cuando eran niños; la necesidad de retomar sus vidas y reconciliarse con ellos mismos les unirá de nuevo. Doce años después de “La Leyenda del Tiempo”\, Isaki Lacuesta vuelve a San Fernando. \n2018: Premios Goya: Nominada a Mejor película y Mejor director\n2018: Festival de San Sebastián: Concha de Oro – mejor película\n2018: Festival de Mar del Plata: Mejor película y actor (Gómez Romero)\nDos pases: 19:30 y 22:00. Entrada 5\,5 €.
URL:https://merida.es/agenda/xxix-ciclo-de-cine-v-o-s-e-entre-dos-aguas/
LOCATION:Cines Victoria Mérida\, Centro Comercial El Foro\, Mérida\, 06800
CATEGORIES:Cine
ATTACH;FMTTYPE=image/jpeg:https://merida.es/wp-content/uploads/2019/04/entredosaguas-peq2.jpg
END:VEVENT
BEGIN:VEVENT
DTSTART;TZID=Europe/Madrid:20190411T203000
DTEND;TZID=Europe/Madrid:20190411T203000
DTSTAMP:20260420T064715
CREATED:20190410T064014Z
LAST-MODIFIED:20190410T064014Z
UID:64873-1555014600-1555014600@merida.es
SUMMARY:Cine Filmoteca: "El sol en una red"
DESCRIPTION:  \nTítulo original: Slnko v sieti (Sunshine in a Net / Catching the Sun in a Net)\nAño: 1962\nDuración: 90 min.\nPaís: Checoslovaquia\nGénero: Drama\nDirector: Stefan Uher\nGuionista: Alfonz Bednár\nSinopsis:\nUna historia lírica sobre las emociones que surgen entre dos jóvenes que reaccionan con cinismo y rechazo ante la sociedad en un intento de ocultar sus inseguridades\, su falta de experiencia y miedo a la vida adulta\, abordando además por vez primera las diferencias de valores y de la vida social entre los ambientes urbanos y rurales. La película se considera el inicio de la nueva ola de cine eslovaco y checo de la década de 1960.\nHora: 20:30. Entrada 1 €.
URL:https://merida.es/agenda/cine-filmoteca-el-sol-en-una-red/
LOCATION:Centro Cultural Santo Domingo Fundación CB\, Plaza de Santo Domingo\, s/n\, Mérida
CATEGORIES:Cine
ATTACH;FMTTYPE=image/jpeg:https://merida.es/wp-content/uploads/2019/04/sol-en-una-red-peq.jpg
END:VEVENT
BEGIN:VEVENT
DTSTART;TZID=Europe/Madrid:20190412T210000
DTEND;TZID=Europe/Madrid:20190412T210000
DTSTAMP:20260420T064715
CREATED:20190410T065114Z
LAST-MODIFIED:20190410T065114Z
UID:64876-1555102800-1555102800@merida.es
SUMMARY:Teatro: "Espacio disponible"
DESCRIPTION:  \nEspectáculo: “ESPACIO DISPONIBLE”\nCompañía: Perigallo teatro\nSinopsis:\nPalmira y Jenaro\, son una pareja ronda los 70 años\, esperan la visita de su hijo durante una memorable noche de insomnio. El hijo un cooperante expatriado vive con la intención de llevárselos a vivir con él y poder así\, atenderles como merecen. Esta visita va a desencadenar en la pareja un conflicto en torno a la defensa del propio espacio y su sensación de inutilidad en esta sociedad del beneficio.\nMientras tanto\, ahí fuera\, en la vida\, el mundo se ha vuelto loco\, y han puesto la luna en venta.\nReparto: Celia Nadal\, Javier Manzaneda\nDirección: Antonio C. Guijosa\nDuración: 70 minutos\nTaquilla: 8 €\nTaquilla: Días 11 y 12 de abril\, de 11:00 a 13:00 y de 18:00 a 21:00 horas.
URL:https://merida.es/agenda/espacio-disponible/
LOCATION:Sala Trajano\, Calle Muza\, 50\, Mérida
CATEGORIES:Cine
ATTACH;FMTTYPE=image/jpeg:https://merida.es/wp-content/uploads/2019/04/espacio-peq.jpg
END:VEVENT
BEGIN:VEVENT
DTSTART;TZID=Europe/Madrid:20190414T190000
DTEND;TZID=Europe/Madrid:20190414T190000
DTSTAMP:20260420T064715
CREATED:20190410T070159Z
LAST-MODIFIED:20190410T070159Z
UID:64879-1555268400-1555268400@merida.es
SUMMARY:Teatro Familiar: "Deshielo"
DESCRIPTION:  \nEspectáculo: “DESHIELO”\nCompañía: LA COJA DANSA S.L.\nSinopsis:\nChica Inuit vive en un poblado de iglús donde el frío es intenso y constante excepto unas pocas semanas al año. El pueblo de la Chica Inuit tiene una Piedra Sagrada que de repente se rompe\, después de siglos sin cambiar. Chica Inuit decide partir en busca de aquello que ha hecho que su Piedra Sagrada se rompa. Durante el camino\, el Zorro Blanco le acompaña\, y conocen el testimonio del Hombre que Planta Árboles y El Transformador de Basura\, quienes les estimulan a continuar con acciones pequeñas que cambian muchas cosas.\nDeshielo habla del viaje\, de las soluciones personales y colectivas ante el cambio climático y el deterioro de nuestro ecosistema. Habla de sumar voluntades y de crear costumbres que respeten el equilibrio de nuestro entorno.\nReparto: Olga Clavel\, Santi de la Fuente\, Paula Romero\, José Lis\nDirección: Tatiana Clavel\nDuración: 50 minutos\nEdad recomendada: Entre 5 y 9 años\nTaquilla: 3 € NIÑOS/ 5€ ADULTO\nTaquilla: Días 13 y 14 de abril\, de 10:00 a 12:00 y de 17:00 a 19:00 horas.
URL:https://merida.es/agenda/teatro-familiar-deshielo/
CATEGORIES:Cine,Infantil
ATTACH;FMTTYPE=image/jpeg:https://merida.es/wp-content/uploads/2019/04/deshielo-peq.jpg
END:VEVENT
BEGIN:VEVENT
DTSTART;TZID=Europe/Madrid:20190417T203000
DTEND;TZID=Europe/Madrid:20190417T203000
DTSTAMP:20260420T064715
CREATED:20190417T101850Z
LAST-MODIFIED:20190417T101850Z
UID:64956-1555533000-1555533000@merida.es
SUMMARY:Cine Filmoteca: "La profesora"
DESCRIPTION:  \nTítulo original: Ucitelka\nAño: 2106\nDuración: 102 min.\nPaís: República Checa\nGénero: Drama\nDirector: Jan Hrebejk\nGuionista: Petr Jarchovský\nSinopsis:\nLa llegada en 1983 de una nueva profesora muy bien conectada con el partido a un colegio en un suburbio de Bratislava\, complica la vida de padres y alumnos. Su comportamiento lleva al director del centro a convocar una reunión urgente que de repente pondrá en riesgo el futuro de las familias. ¿Se atreverán a desafiar a la Srta. Drazdechova\, con fuertes conexiones con el poder\,  y defender lo que piensan contra todo riesgo?\nPremios:\n2016: Festival de Karlovy Vary: Mejor Actriz (Zuzana Mauréry)\n2016: Festival de Gijón: Mejor BSO y Mejor Dirección Artística\nHora: 20:30. Entrada 1 €. La película se emite en versión original con subtítulos.
URL:https://merida.es/agenda/cine-filmoteca-la-profesora/
LOCATION:Centro Cultural Santo Domingo Fundación CB\, Plaza de Santo Domingo\, s/n\, Mérida
CATEGORIES:Cine
ATTACH;FMTTYPE=image/jpeg:https://merida.es/wp-content/uploads/2019/04/la-profesora-peq.jpg
END:VEVENT
BEGIN:VEVENT
DTSTART;TZID=Europe/Madrid:20190422T210000
DTEND;TZID=Europe/Madrid:20190422T210000
DTSTAMP:20260420T064715
CREATED:20190417T095755Z
LAST-MODIFIED:20190417T095755Z
UID:64952-1555966800-1555966800@merida.es
SUMMARY:XXX Ciclo de Cine V.O.S.E.: 'Buñuel en el laberinto de las tortugas'
DESCRIPTION:Título original: Buñuel en el laberinto de las tortugas\nAño: 2019\nDuración: 84 min.\nPaís: España\nGénero: Animación\nDirector: Salvador Simó Busom\nGuión: Eligio R. Montero\, Salvador Simó Busom (Cómic: Fermín Solís)\nReparto: Israel Gómez Romero\,  Francisco José Gómez Romero\,  Rocío Rendón\, Yolanda Carmona\,  Lorrein Galea\,  Manuel González del Tanago\nSinopsis: París\, 1930. Salvador Dalí y Luis Buñuel son las principales figuras del movimiento surrealista\, pero Buñuel ve como se le cierran todas las puertas después del escandaloso estreno de La Edad de Oro\, su primera película. Sin embargo\, su buen amigo\, el escultor Ramón Acín\, compra un billete de lotería con la loca promesa de que\, si gana\, pagará el documental que su amigo quiere rodar sobre Las Hurdes\, una de las regiones más pobres y olvidadas de España. \n2019: Festival de Málaga: Mejor banda sonora\, Premio Feroz mejor película\n2018: Animation is Film de Los Ángeles : Premio Especial del Jurado\nUn pase: 21:00. Entrada 5\,5 €. \nSe trata del Preestreno a nivel nacional y contará con la asistencia de parte del equipo que presentará la película. Habrá photocall y sorteo de posters entre los asistentes.
URL:https://merida.es/agenda/xxix-ciclo-de-cine-v-o-s-e-bunuel-en-el-laberinto-de-las-tortugas/
LOCATION:Cines Victoria Mérida\, Centro Comercial El Foro\, Mérida\, 06800
CATEGORIES:Cine
ATTACH;FMTTYPE=image/jpeg:https://merida.es/wp-content/uploads/2019/04/laberinto-tortugas-peq.jpg
END:VEVENT
BEGIN:VEVENT
DTSTART;TZID=Europe/Madrid:20190425T203000
DTEND;TZID=Europe/Madrid:20190425T203000
DTSTAMP:20260420T064715
CREATED:20190422T072008Z
LAST-MODIFIED:20190422T072008Z
UID:64965-1556224200-1556224200@merida.es
SUMMARY:Cine Filmoteca: "Nosotros"
DESCRIPTION:  \nTítulo original: Nosotros\nAño: 2017\nDuración: 100 min.\nPaís: España\nGénero: Drama\nDirector: Felipe Vara de Rey\nGuionista: Hugo Mas\, Felipe Vara de Rey\nSinopsis:\nNosotros sigue a un grupo de cinco amigos en Madrid durante el fin de semana de las elecciones generales de diciembre de 2015. María\, Seda\, Sarah\, Suko y Felipe están en una encrucijada vital; como el conjunto del país\, a lo largo de estos días tendrán que tomar una serie de decisiones que podrán sacudir el rumbo de su existencia.\nHora: 20:30. Entrada 1 €.
URL:https://merida.es/agenda/cine-filmoteca-nosotros/
LOCATION:Centro Cultural Santo Domingo Fundación CB\, Plaza de Santo Domingo\, s/n\, Mérida
CATEGORIES:Cine
ATTACH;FMTTYPE=image/jpeg:https://merida.es/wp-content/uploads/2019/04/nosotros-peq.jpg
END:VEVENT
BEGIN:VEVENT
DTSTART;TZID=Europe/Madrid:20190429T193000
DTEND;TZID=Europe/Madrid:20190429T220000
DTSTAMP:20260420T064715
CREATED:20190424T094746Z
LAST-MODIFIED:20190424T094746Z
UID:65032-1556566200-1556575200@merida.es
SUMMARY:XXX Ciclo de Cine V.O.S.E.: 'Yuli'
DESCRIPTION:  \nTítulo original: Yuli\nAño: 2018\nDuración: 109 min.\nPaís: España\nGénero: Drama\nDirector: Icíar Bollaín\nGuión: Isa Campo\, Isaki Lacuesta\, Fran Araújo\nReparto: Carlos Acosta\,  Santiago Alfonso\,  Keyvin Martínez\,  Edison Manuel Olvera\, Laura de la Uz\,  Yerlin Pérez\,  Mario Elías\,  Andrea Doimeadiós\, Carlos Enrique Almirante\,  Cesar Domínguez\nSinopsis: Film sobre el bailarín cubano Carlos Acosta\, un viaje temporal a través de su vida\, leyenda de la danza y primer bailarín negro en interpretar algunos de los papeles más famosos del ballet\, originariamente escritos para blancos\, en compañías como el Houston Ballet o Royal Ballet de Londres (donde ha sido primer bailarín durante más de 15 años). Cuenta desde su dura infancia hasta su madurez\, etapa que será protagonizada por el propio bailarín\, quien\, pese a su éxito y reconocimiento internacional\, nunca olvidó sus orígenes. \n2018: Premios Goya: 5 nominaciones\, incluyendo Mejor actor revelación (Acosta)\n2018: Festival de San Sebastián: Mejor guión (ex aequo)\n2018: Premios Feroz: Nominada a Mejor música (Alberto Iglesias)\nDos pases: 19:30 y 22:00. Entrada 5\,5 €.
URL:https://merida.es/agenda/xxix-ciclo-de-cine-v-o-s-e-yuli/
LOCATION:Cines Victoria Mérida\, Centro Comercial El Foro\, Mérida\, 06800
CATEGORIES:Cine
ATTACH;FMTTYPE=image/jpeg:https://merida.es/wp-content/uploads/2019/04/yuli-peq.jpg
END:VEVENT
END:VCALENDAR