﻿BEGIN:VCALENDAR
VERSION:2.0
PRODID:-//Ayuntamiento de Mérida - ECPv6.15.17.1//NONSGML v1.0//EN
CALSCALE:GREGORIAN
METHOD:PUBLISH
X-WR-CALNAME:Ayuntamiento de Mérida
X-ORIGINAL-URL:https://merida.es
X-WR-CALDESC:Eventos para Ayuntamiento de Mérida
REFRESH-INTERVAL;VALUE=DURATION:PT1H
X-Robots-Tag:noindex
X-PUBLISHED-TTL:PT1H
BEGIN:VTIMEZONE
TZID:Europe/Madrid
BEGIN:DAYLIGHT
TZOFFSETFROM:+0100
TZOFFSETTO:+0200
TZNAME:CEST
DTSTART:20180325T010000
END:DAYLIGHT
BEGIN:STANDARD
TZOFFSETFROM:+0200
TZOFFSETTO:+0100
TZNAME:CET
DTSTART:20181028T010000
END:STANDARD
BEGIN:DAYLIGHT
TZOFFSETFROM:+0100
TZOFFSETTO:+0200
TZNAME:CEST
DTSTART:20190331T010000
END:DAYLIGHT
BEGIN:STANDARD
TZOFFSETFROM:+0200
TZOFFSETTO:+0100
TZNAME:CET
DTSTART:20191027T010000
END:STANDARD
BEGIN:DAYLIGHT
TZOFFSETFROM:+0100
TZOFFSETTO:+0200
TZNAME:CEST
DTSTART:20200329T010000
END:DAYLIGHT
BEGIN:STANDARD
TZOFFSETFROM:+0200
TZOFFSETTO:+0100
TZNAME:CET
DTSTART:20201025T010000
END:STANDARD
END:VTIMEZONE
BEGIN:VEVENT
DTSTART;TZID=Europe/Madrid:20190606T203000
DTEND;TZID=Europe/Madrid:20190606T203000
DTSTAMP:20260422T104459
CREATED:20190603T071127Z
LAST-MODIFIED:20190603T071127Z
UID:65553-1559853000-1559853000@merida.es
SUMMARY:Cine Filmoteca: "Cambio de reinas"
DESCRIPTION:  \nTítulo original: L’échange des princesses\nAño: 2017\nDuración: 100 min.\nPaís: Francia\, Bélgica\nGénero: Drama\nDirector: Marc Dugain\nGuionista: Marc Dugain\, Chantal Thomas\nReparto: Lambert Wilson\, Gwendolyn Gourvenec\, Andrea Ferrél\, Kacey Mottet Klein\nSinopsis:\nTras años de guerra entre Francia y España\, que han dejado a los dos países debilitados\, Felipe de Orleans\, el regente de Francia\, pone en marcha un plan para consolidar la paz entre ambas naciones. Casará a su hija de 12 años con el heredero del trono español y a Luis XV\, Rey de Francia\, con Mariana Victoria\, de 4 años\, Infanta de España. Una adolescente y una niña se verán atrapadas en una red de alianzas\, traiciones y juegos de poder.\nHora: 20:30. Entrada 1 €. Se emite en versión original con subtítulos\nProgramación de la Filmoteca: http://filmotecaextremadura.juntaex.es
URL:https://merida.es/agenda/cine-filmoteca-cambio-de-reinas/
LOCATION:Centro Cultural Santo Domingo Fundación CB\, Plaza de Santo Domingo\, s/n\, Mérida
CATEGORIES:Cine
ATTACH;FMTTYPE=image/jpeg:https://merida.es/wp-content/uploads/2019/06/cambio-de-reinas-peq.jpg
END:VEVENT
BEGIN:VEVENT
DTSTART;TZID=Europe/Madrid:20190613T203000
DTEND;TZID=Europe/Madrid:20190613T203000
DTSTAMP:20260422T104459
CREATED:20190610T074202Z
LAST-MODIFIED:20190610T074202Z
UID:65652-1560457800-1560457800@merida.es
SUMMARY:Cine Filmoteca: "Historia antigua del cine España"
DESCRIPTION:  \nTítulo original: Historia antigua del cine España\nAño: 2017\nDuración: 99 min.\nPaís: España\nGénero: Documental\nDirector: Pedro Burgos\nGuionista: Pedro Burgos\nReparto: –\nSinopsis:\nEn un pequeño pueblo de España se abre una mina de uranio en los años 50 para abastecer la demanda nuclear por la guerra fría. La llegada del contingente de mineros y sus familias genera riqueza en la localidad y la apertura del Cine España.\nHora: 20:30. Entrada 1 €. Se emite en versión original con subtítulos\nProgramación de la Filmoteca: http://filmotecaextremadura.juntaex.es
URL:https://merida.es/agenda/cine-filmoteca-historia-antigua-del-cine-espana/
LOCATION:Centro Cultural Santo Domingo Fundación CB\, Plaza de Santo Domingo\, s/n\, Mérida
CATEGORIES:Cine
ATTACH;FMTTYPE=image/jpeg:https://merida.es/wp-content/uploads/2019/06/historia-cine-peq.jpg
END:VEVENT
BEGIN:VEVENT
DTSTART;TZID=Europe/Madrid:20190620T203000
DTEND;TZID=Europe/Madrid:20190620T203000
DTSTAMP:20260422T104459
CREATED:20190617T090539Z
LAST-MODIFIED:20190617T090539Z
UID:65776-1561062600-1561062600@merida.es
SUMMARY:Cine Filmoteca: "Buenos vecinos"
DESCRIPTION:  \nTítulo original: Undir trénu\nAño: 2017\nDuración: 89 min.\nPaís: Islandia\nGénero: Drama\, Comedia\nDirector: Hafsteinn Gunnar Sigurðsson\nGuionista: Huldar Breiðfjörð\, Hafsteinn Gunnar Sigurðsson\nReparto: Steinþór Hróar Steinþórsson\, Edda Björgvinsdóttir\, Sigurður Sigurjónsson\nSinopsis:\nUn hombre acusado de adulterio por su prometida\, se ve obligado a trasladarse a casa de sus padres. Mientras lucha por la custodia de su hija de cuatro años\, se ve progresivamente involucrado en una disputa entre sus progenitores y los vecinos de estos\, a propósito de un viejo y hermoso árbol.\nHora: 20:30. Entrada 1 €. Se emite en versión original con subtítulos\nProgramación de la Filmoteca: http://filmotecaextremadura.juntaex.es\n— — \nPreviamente\, se emitirá el cortometraje ‘Un buen hombre’ con dirección y guión de Matías Valenzuela Brito y protagonizada por Alberto Amarilla y Santiago Meléndez.\nSinopsis: Eduardo ha vivido hasta ahora una vida aparentemente normal lejos de casa\, emigrado a Chile por motivos de trabajo. De vuelta a su España natal por Navidad\, tendrá que enfrentarse al reencuentro con los suyos y a un secreto deseo interior que le atormenta.
URL:https://merida.es/agenda/cine-filmoteca-buenos-vecinos/
LOCATION:Centro Cultural Santo Domingo Fundación CB\, Plaza de Santo Domingo\, s/n\, Mérida
CATEGORIES:Cine
ATTACH;FMTTYPE=image/jpeg:https://merida.es/wp-content/uploads/2019/06/buenos-vecinos-peq.jpg
END:VEVENT
BEGIN:VEVENT
DTSTART;TZID=Europe/Madrid:20190621T193000
DTEND;TZID=Europe/Madrid:20190621T193000
DTSTAMP:20260422T104459
CREATED:20190619T075636Z
LAST-MODIFIED:20190619T075636Z
UID:65838-1561145400-1561145400@merida.es
SUMMARY:Proyección: "La teoría del todo" (Día Mundial de la ELA 2019)
DESCRIPTION:SECINDI (Semana de Cine Inclusivo y Discapacidad) realiza una proyección especial\, con motivo del Día Mundial de la ELA (Esclerosis Lateral Amiotrófica)\, de la película ‘LA TEORÍA DEL TODO’ de James Marsh\, basada en la historia del científico Stephen Hawking. La proyección será accesible con Audiodescripción y subtitulado y la sala es accesible para personas con discapacidad física. La proyección comenzará a las 20:00 horas.\nPreviamente\, a las 19:30 horas\, intervendrán Antonio Gil Aparicio\, director de SECiNDI; Marco A. Sánchez\, enfermo de ELA y que presentará su libro ‘La novELA de Marco’; Lola Dorado\, Presidenta ELA Extremadura; y Emilio Jiménez\, Director Fundación CB. Dichas intervenciones llevarán interprete en lengua de signos.\nPor último\, sobre las 22:00h\, tras la finalización de la proyección\, el Templo de Diana se iluminará de manera especial con motivo del Día Internacional de la ELA (Esclerosis Lateral Amiotrófica).
URL:https://merida.es/agenda/proyeccion-la-teoria-del-todo-dia-mundial-de-la-ela-2019/
LOCATION:Centro Cultural Santo Domingo Fundación CB\, Plaza de Santo Domingo\, s/n\, Mérida
CATEGORIES:Cine
ATTACH;FMTTYPE=image/jpeg:https://merida.es/wp-content/uploads/2019/06/dia-mundial-ela-peq2.jpg
END:VEVENT
BEGIN:VEVENT
DTSTART;TZID=Europe/Madrid:20190627T203000
DTEND;TZID=Europe/Madrid:20190627T203000
DTSTAMP:20260422T104459
CREATED:20190624T084039Z
LAST-MODIFIED:20190624T084039Z
UID:65938-1561667400-1561667400@merida.es
SUMMARY:Cine Filmoteca: "La caída del imperio americano"
DESCRIPTION:  \nTítulo original: La chute de l’empire américain\nAño: 2018\nDuración: 128 min.\nPaís: Canadá\nGénero: Comedia\, Drama\nDirector: Denys Arcand\nGuionista: Denys Arcand\nReparto: Alexandre Landry\, Maripier Morin\, Rémy Girard\, Louis Morissette\nSinopsis:\nPierre-Paul\, un intelectual y doctor en filosofía\, se ve obligado a trabajar como repartidor para tener un salario decente. Un día\, mientras entrega un paquete\, se topa con la escena de un robo a mano armada; se encuentra con dos bolsas de deporte repletas de billetes. Pierre-Paul se enfrenta a un dilema: largarse con las manos vacías o coger el dinero y huir…\nPremios: 2018: Festival de Valladolid – Seminci: Premio FIPRESCI\nHora: 20:30. Entrada 1 €. Se emite en versión original con subtítulos\nProgramación de la Filmoteca: http://filmotecaextremadura.juntaex.es
URL:https://merida.es/agenda/cine-filmoteca-la-caida-del-imperio-americano/
LOCATION:Centro Cultural Santo Domingo Fundación CB\, Plaza de Santo Domingo\, s/n\, Mérida
CATEGORIES:Cine
ATTACH;FMTTYPE=image/jpeg:https://merida.es/wp-content/uploads/2019/06/caida-imperio-peq.jpg
END:VEVENT
END:VCALENDAR