﻿BEGIN:VCALENDAR
VERSION:2.0
PRODID:-//Ayuntamiento de Mérida - ECPv6.15.17.1//NONSGML v1.0//EN
CALSCALE:GREGORIAN
METHOD:PUBLISH
X-WR-CALNAME:Ayuntamiento de Mérida
X-ORIGINAL-URL:https://merida.es
X-WR-CALDESC:Eventos para Ayuntamiento de Mérida
REFRESH-INTERVAL;VALUE=DURATION:PT1H
X-Robots-Tag:noindex
X-PUBLISHED-TTL:PT1H
BEGIN:VTIMEZONE
TZID:Europe/Madrid
BEGIN:DAYLIGHT
TZOFFSETFROM:+0100
TZOFFSETTO:+0200
TZNAME:CEST
DTSTART:20240331T010000
END:DAYLIGHT
BEGIN:STANDARD
TZOFFSETFROM:+0200
TZOFFSETTO:+0100
TZNAME:CET
DTSTART:20241027T010000
END:STANDARD
BEGIN:DAYLIGHT
TZOFFSETFROM:+0100
TZOFFSETTO:+0200
TZNAME:CEST
DTSTART:20250330T010000
END:DAYLIGHT
BEGIN:STANDARD
TZOFFSETFROM:+0200
TZOFFSETTO:+0100
TZNAME:CET
DTSTART:20251026T010000
END:STANDARD
BEGIN:DAYLIGHT
TZOFFSETFROM:+0100
TZOFFSETTO:+0200
TZNAME:CEST
DTSTART:20260329T010000
END:DAYLIGHT
BEGIN:STANDARD
TZOFFSETFROM:+0200
TZOFFSETTO:+0100
TZNAME:CET
DTSTART:20261025T010000
END:STANDARD
END:VTIMEZONE
BEGIN:VEVENT
DTSTART;TZID=Europe/Madrid:20250911T203000
DTEND;TZID=Europe/Madrid:20250911T203000
DTSTAMP:20260421T081956
CREATED:20250909T085125Z
LAST-MODIFIED:20250909T085340Z
UID:143162-1757622600-1757622600@merida.es
SUMMARY:Cine Filmoteca: "Aún estoy aquí"
DESCRIPTION:Título original: Ainda estou aqui\nPaís: Brasil\nAño: 2024\nDuración: 137’ \nCiclo: Foco festivales \nDirección: Walter Salles\nGuion: Murilo Hauser\, Heitor Lorega. Libro: Marcelo Rubens Paiva \nGénero: Drama \nReparto: Fernanda Torres\, Selton Mello\, Fernanda Montenegro\, Luiza Kosovski \nSinopsis: Basada en las memorias de Marcelo Rubens Paiva\, en las que narra\ncómo su madre se vio obligada al activismo político cuando su marido\, el diputado izquierdista Rubens Paiva\, fue capturado por el gobierno durante la dictadura militar de Brasil\, en 1971. \nNO RECOMENDADA PARA MENORES DE 12 AÑOS \n2024: Premios Oscar: Mejor película internacional. 3 nominaciones.\n2024: Festival de Venecia: Mejor guion\n2024: Premios Goya: Mejor película iberoamericana \nEntrada: 1€.\nSe emite en V.O. portugués con subtítulos en español\nProgramación de la Filmoteca: http://filmotecaextremadura.juntaex.es
URL:https://merida.es/agenda/cine-filmoteca-aun-estoy-aqui/
LOCATION:Centro Cultural Santo Domingo Fundación CB\, Plaza de Santo Domingo\, s/n\, Mérida
CATEGORIES:Cine
ATTACH;FMTTYPE=image/jpeg:https://merida.es/wp-content/uploads/2025/09/2025-aun-estoy-aqui-peq.jpg
END:VEVENT
BEGIN:VEVENT
DTSTART;VALUE=DATE:20250915
DTEND;VALUE=DATE:20251028
DTSTAMP:20260421T081956
CREATED:20250912T073647Z
LAST-MODIFIED:20250912T073856Z
UID:143289-1757894400-1761609599@merida.es
SUMMARY:XXXVII Ciclo de Cine (Primer Ciclo Adiccine)
DESCRIPTION:El Cine Club Fórum\, el Ayuntamiento de Mérida y ADICINE\, la asociación de distribuidores de cine independiente de España\, se han unido para poner en marcha un nuevo ciclo VOSE\, el XXXVII del Cine Club y el primero en colaboración con ADICINE\, dentro de una iniciativa de esta última que se denomina ADICCINE\, un ambicioso proyecto que busca descentralizar la oferta cultural y garantizar un mayor acceso al cine independiente en todo el territorio nacional.  \nEl esfuerzo se centra en incluir tanto a ciudades periféricas como a zonas rurales tradicionalmente apartadas de los circuitos convencionales de distribución. Del 15 septiembre al 27 de octubre\, todos los lunes\, en Cines Victoria Mérida. \nMás información: https://festivalcinemerida.com/cineclub/ \n15 Septiembre – 18:30 – 21:00\nSORDA – España\, 2025\nDirección: Eva Libertad \n22 Septiembre – 18:30 – 21:00\nLA BUENA LETRA – España\, 2025\nDirección: Celia Rico Clavellino \n29 Septiembre – 18:30 – 21:00\nSIRÂT. TRANCE EN EL DESIERTO – España\, 2025\nDirección: Oliver Laxe \n06 Octubre – 18:30 – 21:00\nUNA QUINTA PORTUGUESA – España\, 2025\nDirección: Avelina Prat \n13 Octubre  – 18:30 – 21:00 – Teatro Cine María Luisa – II CINE BEAT\nBETTER MAN – REINO UNIDO\, 2024\nVOSE (Inglés)\nDirección: Michael Gracey \n20 Octubre – 18:30 – 21:00\nLO QUE QUEDA DE TI – España\, 2025\nDirección: Gala Gracia \n27 Octubre – 18:30 – 21:00\nROMERÍA – España\, 2025\nDirección: Carla Simón
URL:https://merida.es/agenda/xxxvii-ciclo-de-cine-primer-ciclo-adiccine/
LOCATION:Cines Victoria Mérida\, Centro Comercial El Foro\, Mérida\, 06800
CATEGORIES:Cine
ATTACH;FMTTYPE=image/jpeg:https://merida.es/wp-content/uploads/2025/09/2025-ciclo-cine-forum-peq.jpg
END:VEVENT
BEGIN:VEVENT
DTSTART;TZID=Europe/Madrid:20250915T183000
DTEND;TZID=Europe/Madrid:20250915T210000
DTSTAMP:20260421T081956
CREATED:20250912T105117Z
LAST-MODIFIED:20250912T105609Z
UID:143308-1757961000-1757970000@merida.es
SUMMARY:XXXVII Ciclo de Cine: "Sorda"
DESCRIPTION:Título original: Sorda\nPaís: España\nAño: 2025\nDuración: 99’ \nDirección: Eva Libertad\nGuion: Eva Libertad \nGénero: Drama \nReparto: Miriam Garlo\, Álvaro Cervantes\, Elena Irureta\, Joaquín Notario \nSinopsis: Ángela\, una mujer sorda\, va a tener un bebé con Héctor\, su pareja oyente. El embarazo hace aflorar sus miedos frente la maternidad y sobre cómo podrá comunicarse con su hija. La llegada de la niña genera una crisis en la pareja y lleva a Ángela a afrontar la crianza de su hija en un mundo que no está hecho para ella. Largometraje basado en el corto de 2021 del mismo nombre. \n2025: Festival de Málaga: Mejor película\, mejor actriz\, actor y Premio del Público\n2025: Festival de Berlín: Sección Panorama – Premio del Público (Film) \nAPTA PARA TODOS LOS PÚBLICOS \nEntrada: 5€.\nProgramación XXXVII Ciclo de Cine: https://festivalcinemerida.com/cineclub/
URL:https://merida.es/agenda/xxxvii-ciclo-de-cine-sorda/
LOCATION:Cines Victoria Mérida\, Centro Comercial El Foro\, Mérida\, 06800
CATEGORIES:Cine
ATTACH;FMTTYPE=image/jpeg:https://merida.es/wp-content/uploads/2025/09/2025-sorda-peq.jpg
END:VEVENT
BEGIN:VEVENT
DTSTART;TZID=Europe/Madrid:20250918T203000
DTEND;TZID=Europe/Madrid:20250918T203000
DTSTAMP:20260421T081956
CREATED:20250909T085946Z
LAST-MODIFIED:20250909T085946Z
UID:143166-1758227400-1758227400@merida.es
SUMMARY:Cine Filmoteca: "Muy lejos"
DESCRIPTION:Título original: Molt iluny\nPaís: España\nAño: 2025\nDuración: 100’ \nCiclo: Cine Español \nDirección: Gerard Oms\nGuion: Gerard Oms \nGénero: Drama \nReparto: Mario Casas\, David Verdaguer\, Ilyass El Ouahdani\, Raúl Prieto \nSinopsis: Sergio viaja a Utrecht con su familia para asistir a un partido de fútbol. Antes de coger el vuelo de regreso a Barcelona\, sufre un ataque de ansiedad y decide quedarse en Holanda. Incapaz de dar una explicación coherente a los suyos\, corta el contacto con su pasado. A partir de ese momento\, tendrá que sobrevivir sin apenas dinero y sin hablar el idioma local. \nNO RECOMENDADA PARA MENORES DE 12 AÑOS \nEntrada: 1€.\nProgramación de la Filmoteca: http://filmotecaextremadura.juntaex.es
URL:https://merida.es/agenda/cine-filmoteca-muy-lejos/
LOCATION:Centro Cultural Santo Domingo Fundación CB\, Plaza de Santo Domingo\, s/n\, Mérida
CATEGORIES:Cine
ATTACH;FMTTYPE=image/jpeg:https://merida.es/wp-content/uploads/2025/09/2025-muy-lejos-peq.jpg
END:VEVENT
BEGIN:VEVENT
DTSTART;TZID=Europe/Madrid:20250922T183000
DTEND;TZID=Europe/Madrid:20250922T210000
DTSTAMP:20260421T081956
CREATED:20250916T075738Z
LAST-MODIFIED:20250916T075738Z
UID:143374-1758565800-1758574800@merida.es
SUMMARY:XXXVII Ciclo de Cine: "La buena letra"
DESCRIPTION:Título original: La buena letra\nPaís: España\nAño: 2025\nDuración: 110’ \nDirección: Celia Rico Clavellino\nGuion: Celia Rico Clavellino. Novela: Rafael Chirbes \nGénero: Drama \nReparto: Loreto Mauleón\, Enric Auquer\, Roger Casamajor\, Ana Rujas\, Teresa Lozano \nSinopsis: En un pueblo valenciano\, durante la posguerra\, Ana trata de salir adelante con su familia; la guerra civil ha abierto una profunda herida en todos ellos\, especialmente en su cuñado\, Antonio. Ana intenta curar esa herida a base de guisos\, secretos y silencios\, pero cuando Isabel\, recién casada con Antonio\, llega a la familia\, las atenciones y cuidados de Ana valdrán de poco o nada: el sacrificio no siempre tiene su recompensa. \n2025: Festival de Málaga. Mención Especial del Jurado \nRECOMENDADA A PARTIR DE 12 AÑOS \nEntrada: 5€. Dos pases: 18:30 y 21:00 horas.\nProgramación XXXVII Ciclo de Cine: https://festivalcinemerida.com/cineclub/
URL:https://merida.es/agenda/xxxvii-ciclo-de-cine-la-buena-letra/
LOCATION:Cines Victoria Mérida\, Centro Comercial El Foro\, Mérida\, 06800
CATEGORIES:Cine
ATTACH;FMTTYPE=image/jpeg:https://merida.es/wp-content/uploads/2025/09/la-buena-letra-peq.jpg
END:VEVENT
BEGIN:VEVENT
DTSTART;TZID=Europe/Madrid:20250925T203000
DTEND;TZID=Europe/Madrid:20250925T203000
DTSTAMP:20260421T081956
CREATED:20250909T090645Z
LAST-MODIFIED:20250912T105524Z
UID:143169-1758832200-1758832200@merida.es
SUMMARY:Cine Filmoteca: "Sorda"
DESCRIPTION:Título original: Sorda\nPaís: España\nAño: 2025\nDuración: 99’ \nCiclo: Cine Español \nDirección: Eva Libertad\nGuion: Eva Libertad \nGénero: Drama \nReparto: Miriam Garlo\, Álvaro Cervantes\, Elena Irureta\, Joaquín Notario \nSinopsis: Ángela\, una mujer sorda\, va a tener un bebé con Héctor\, su pareja oyente. El embarazo hace aflorar sus miedos frente la maternidad y sobre cómo podrá comunicarse con su hija. La llegada de la niña genera una crisis en la pareja y lleva a Ángela a afrontar la crianza de su hija en un mundo que no está hecho para ella. Largometraje basado en el corto de 2021 del mismo nombre. \n2025: Festival de Málaga: Mejor película\, mejor actriz\, actor y Premio del Público\n2025: Festival de Berlín: Sección Panorama – Premio del Público (Film) \nAPTA PARA TODOS LOS PÚBLICOS. PELÍCULA ACCESIBLE PARA PERSONAS SORDAS CON SUBTÍTULOS Y PARA PERSONAS CIEGAS CON AUDIODESCRIPCIÓN (App – AudescMobile) \nEntrada: 1€.\nProgramación de la Filmoteca: http://filmotecaextremadura.juntaex.es
URL:https://merida.es/agenda/cine-filmoteca-sorda/
LOCATION:Centro Cultural Santo Domingo Fundación CB\, Plaza de Santo Domingo\, s/n\, Mérida
CATEGORIES:Cine
ATTACH;FMTTYPE=image/jpeg:https://merida.es/wp-content/uploads/2025/09/2025-sorda-peq.jpg
END:VEVENT
BEGIN:VEVENT
DTSTART;TZID=Europe/Madrid:20250929T183000
DTEND;TZID=Europe/Madrid:20250929T210000
DTSTAMP:20260421T081956
CREATED:20250916T104252Z
LAST-MODIFIED:20250916T104252Z
UID:143388-1759170600-1759179600@merida.es
SUMMARY:XXXVII Ciclo de Cine: "Sirat. Trance en el desierto"
DESCRIPTION:Título original: Sirat. Trance en el desierto\nPaís: España\nAño: 2025\nDuración: 114’ \nDirección: Oliver Laxe\nGuion: Oliver Laxe\, Santiago Fillol \nGénero: Drama\, Intriga \nReparto: Sergi López\, Bruno Nuñez\, Jade Oukid\, Stefania Gadda\, Joshua Liam\, Richard Bellamy\, Tonin Janvier \nSinopsis: Un hombre y su hijo llegan a una rave perdida en Marruecos. Buscan a Mar\, su hija y hermana\, desaparecida hace meses en una de esas fiestas. Reparten su foto una y otra vez rodeados de música electrónica y un tipo de libertad que desconocen. Conocen a un grupo de raveros y deciden seguirlos a una última fiesta que se celebrará en el desierto\, donde esperan encontrar a la joven. \n2025: Festival de Cannes. Sección Oficial a Concurso. Premio del Jurado. \nRECOMENDADA A PARTIR DE 16 AÑOS \nEntrada: 5€. Dos pases: 18:30 y 21:00 horas.\nProgramación XXXVII Ciclo de Cine: https://festivalcinemerida.com/cineclub/
URL:https://merida.es/agenda/xxxvii-ciclo-de-cine-sirat-trance-en-el-desierto/
LOCATION:Cines Victoria Mérida\, Centro Comercial El Foro\, Mérida\, 06800
CATEGORIES:Cine
ATTACH;FMTTYPE=image/jpeg:https://merida.es/wp-content/uploads/2025/09/sirat-peq.jpg
END:VEVENT
END:VCALENDAR