﻿BEGIN:VCALENDAR
VERSION:2.0
PRODID:-//Ayuntamiento de Mérida - ECPv6.15.17.1//NONSGML v1.0//EN
CALSCALE:GREGORIAN
METHOD:PUBLISH
X-WR-CALNAME:Ayuntamiento de Mérida
X-ORIGINAL-URL:https://merida.es
X-WR-CALDESC:Eventos para Ayuntamiento de Mérida
REFRESH-INTERVAL;VALUE=DURATION:PT1H
X-Robots-Tag:noindex
X-PUBLISHED-TTL:PT1H
BEGIN:VTIMEZONE
TZID:Europe/Madrid
BEGIN:DAYLIGHT
TZOFFSETFROM:+0100
TZOFFSETTO:+0200
TZNAME:CEST
DTSTART:20150329T010000
END:DAYLIGHT
BEGIN:STANDARD
TZOFFSETFROM:+0200
TZOFFSETTO:+0100
TZNAME:CET
DTSTART:20151025T010000
END:STANDARD
BEGIN:DAYLIGHT
TZOFFSETFROM:+0100
TZOFFSETTO:+0200
TZNAME:CEST
DTSTART:20160327T010000
END:DAYLIGHT
BEGIN:STANDARD
TZOFFSETFROM:+0200
TZOFFSETTO:+0100
TZNAME:CET
DTSTART:20161030T010000
END:STANDARD
BEGIN:DAYLIGHT
TZOFFSETFROM:+0100
TZOFFSETTO:+0200
TZNAME:CEST
DTSTART:20170326T010000
END:DAYLIGHT
BEGIN:STANDARD
TZOFFSETFROM:+0200
TZOFFSETTO:+0100
TZNAME:CET
DTSTART:20171029T010000
END:STANDARD
END:VTIMEZONE
BEGIN:VEVENT
DTSTART;TZID=Europe/Madrid:20160411T193000
DTEND;TZID=Europe/Madrid:20160411T214500
DTSTAMP:20260423T061938
CREATED:20160330T110512Z
LAST-MODIFIED:20160330T110512Z
UID:38816-1460403000-1460411100@merida.es
SUMMARY:Ciclo Cine V.O.S.E.: "La juventud"
DESCRIPTION:LA JUVENTUD\nItalia · 2015 · 118 minutos · Drama\nDirección: Paolo Sorrentino\nGuión: Paolo Sorrentino\nReparto: Michael Caine\, Harvey Keitel\, Rachel Weisz\, Paul Dano\, Jane Fonda\, Tom Lipinski\nSinopsis: Fred Ballinger (Michael Caine)\, un gran director de orquesta\, pasa unas vacaciones en un hotel de los Alpes con su hija Lena y su amigo Mick\, un director de cine al que le cuesta acabar su última película. Fred hace tiempo que ha renunciado a su carrera musical\, pero hay alguien que quiere que vuelva a trabajar; desde Londres llega un emisario de la reina Isabel\, que debe convencerlo para dirigir un concierto en el Palacio de Buckingham\, con motivo del cumpleaños del príncipe Felipe.\n2015: Premios Oscar: Nominada a mejor canción\n2015: Premios César: Nominada a mejor película extranjera\n2015: Festival de Cannes: Sección oficial largometrajes a concurso\n2015: Globos de Oro: Nominada a mejor actriz de reparto (Fonda) y canción original\n2015: Premios del Cine Europeo: Mejor película\, director y actor (Michael Caine)\nPases: 19:30 y 21:45 h. El precio de la entrada es de 4 euros. Se emite en versión original con subtítulos.\nOrganizan el Cine Club Fórum y Cinesa El Foro.
URL:https://merida.es/agenda/ciclo-cine-v-o-s-e-la-juventud/
LOCATION:Cinesa El Foro\, Centro Comercial El Foro\, Mérida
CATEGORIES:Cine
ATTACH;FMTTYPE=image/jpeg:https://merida.es/wp-content/uploads/2016/03/la-juventud-img.jpg
END:VEVENT
END:VCALENDAR