﻿BEGIN:VCALENDAR
VERSION:2.0
PRODID:-//Ayuntamiento de Mérida - ECPv6.15.17.1//NONSGML v1.0//EN
CALSCALE:GREGORIAN
METHOD:PUBLISH
X-WR-CALNAME:Ayuntamiento de Mérida
X-ORIGINAL-URL:https://merida.es
X-WR-CALDESC:Eventos para Ayuntamiento de Mérida
REFRESH-INTERVAL;VALUE=DURATION:PT1H
X-Robots-Tag:noindex
X-PUBLISHED-TTL:PT1H
BEGIN:VTIMEZONE
TZID:Europe/Madrid
BEGIN:DAYLIGHT
TZOFFSETFROM:+0100
TZOFFSETTO:+0200
TZNAME:CEST
DTSTART:20150329T010000
END:DAYLIGHT
BEGIN:STANDARD
TZOFFSETFROM:+0200
TZOFFSETTO:+0100
TZNAME:CET
DTSTART:20151025T010000
END:STANDARD
BEGIN:DAYLIGHT
TZOFFSETFROM:+0100
TZOFFSETTO:+0200
TZNAME:CEST
DTSTART:20160327T010000
END:DAYLIGHT
BEGIN:STANDARD
TZOFFSETFROM:+0200
TZOFFSETTO:+0100
TZNAME:CET
DTSTART:20161030T010000
END:STANDARD
BEGIN:DAYLIGHT
TZOFFSETFROM:+0100
TZOFFSETTO:+0200
TZNAME:CEST
DTSTART:20170326T010000
END:DAYLIGHT
BEGIN:STANDARD
TZOFFSETFROM:+0200
TZOFFSETTO:+0100
TZNAME:CET
DTSTART:20171029T010000
END:STANDARD
END:VTIMEZONE
BEGIN:VEVENT
DTSTART;TZID=Europe/Madrid:20160413T203000
DTEND;TZID=Europe/Madrid:20160413T203000
DTSTAMP:20260423T012117
CREATED:20160412T162507Z
LAST-MODIFIED:20160412T162507Z
UID:39312-1460579400-1460579400@merida.es
SUMMARY:Cine Filmoteca: "Los santos inocentes"
DESCRIPTION:LOS SANTOS INOCENTES\nEspaña · 1984 · 103 minutos · Drama\nDirección: Mario Camus\nGuión: Mario Camus\, Antonio Larreta\, Manuel Matji (Novela: Miguel Delibes)\nReparto: Alfredo Landa\, Francisco Rabal\, Juan Diego\, Terele Pávez\, Belén Ballesteros\, Juan Sanchez\, Ágata Lys\, Agustín González\, Manuel Zarzo\, Mary Carrillo\, José Guardiola\nSinopsis: Durante la década de los sesenta\, una familia de campesinos vive miserablemente en un cortijo extremeño bajo la tiranía del terrateniente. Su vida es renuncia\, sacrificio y obediencia. Su destino está marcado\, a no ser que algún acontecimiento imprevisto les permita romper sus cadenas.\n1984: Cannes: Mejor Actor (ex aequo: Rabal y Landa)\, Premio del Jurado Ecuménico\nProyección especial con motivo de la exposición ‘Cazando Imágenes con Miguel Delibes’ en Santa Clara\, promovida por la Junta de Extremadura y la Fundación Miguel Delibes.
URL:https://merida.es/agenda/cine-filmoteca-los-santos-inocentes/
LOCATION:Centro Cultural Santo Domingo Fundación CB\, Plaza de Santo Domingo\, s/n\, Mérida
CATEGORIES:Cine
ATTACH;FMTTYPE=image/jpeg:https://merida.es/wp-content/uploads/2016/04/los-santos-inocentes-peq.jpg
END:VEVENT
END:VCALENDAR