﻿BEGIN:VCALENDAR
VERSION:2.0
PRODID:-//Ayuntamiento de Mérida - ECPv6.15.17.1//NONSGML v1.0//EN
CALSCALE:GREGORIAN
METHOD:PUBLISH
X-ORIGINAL-URL:https://merida.es
X-WR-CALDESC:Eventos para Ayuntamiento de Mérida
REFRESH-INTERVAL;VALUE=DURATION:PT1H
X-Robots-Tag:noindex
X-PUBLISHED-TTL:PT1H
BEGIN:VTIMEZONE
TZID:Europe/Madrid
BEGIN:DAYLIGHT
TZOFFSETFROM:+0100
TZOFFSETTO:+0200
TZNAME:CEST
DTSTART:20150329T010000
END:DAYLIGHT
BEGIN:STANDARD
TZOFFSETFROM:+0200
TZOFFSETTO:+0100
TZNAME:CET
DTSTART:20151025T010000
END:STANDARD
BEGIN:DAYLIGHT
TZOFFSETFROM:+0100
TZOFFSETTO:+0200
TZNAME:CEST
DTSTART:20160327T010000
END:DAYLIGHT
BEGIN:STANDARD
TZOFFSETFROM:+0200
TZOFFSETTO:+0100
TZNAME:CET
DTSTART:20161030T010000
END:STANDARD
BEGIN:DAYLIGHT
TZOFFSETFROM:+0100
TZOFFSETTO:+0200
TZNAME:CEST
DTSTART:20170326T010000
END:DAYLIGHT
BEGIN:STANDARD
TZOFFSETFROM:+0200
TZOFFSETTO:+0100
TZNAME:CET
DTSTART:20171029T010000
END:STANDARD
END:VTIMEZONE
BEGIN:VEVENT
DTSTART;TZID=Europe/Madrid:20160418T193000
DTEND;TZID=Europe/Madrid:20160418T214500
DTSTAMP:20260423T062458
CREATED:20160330T111021Z
LAST-MODIFIED:20160330T111021Z
UID:38817-1461007800-1461015900@merida.es
SUMMARY:Ciclo Cine V.O.S.E.: "RAMS (El valle de los carneros)"
DESCRIPTION:RAMS (El valle de los carneros)\nIslandia · 2015 · 93 minutos · Drama\nDirección: Grímur Hákonarson\nGuión: Grímur Hákonarson\nReparto: Sigurður Sigurjónsson\, Theodór Júlíusson\, Charlotte Bøving\, Jon Benonysson\nSinopsis: Gummi y Kiddi son vecinos y hermanos en un solitario valle de Islandia. Se dedican al cuidado de sus ovejas\, premiadas en numerosas ocasiones como las mejores de todo el país por su antiguo y ancestral linaje. Aunque comparten tierras y estilo de vida\, Gummi y Kiddi no se hablan desde hace décadas. Tras un concurso ovino descubren que una enfermedad mortal y repentina infecta una de las ovejas de Kiddi\, por lo que todo el valle se verá amenazado y las autoridades se verán obligadas a sacrificar a todo el ganado de la zona para frenar la enfermedad. Esto se convierte en una sentencia de muerte para algunos granjeros\, que tienen en las ovejas su principal fuente de ingresos. Pero Gummi y Kiddi no se rinden tan fácilmente aunque para hacer frente a las autoridades tengan que dejar a un lado viejas rencillas.\n2015: Festival de Cannes: Mejor película («Un Certain Regard»)\n2015: Premios del Cine Europeo: Nominada a Mejor película\n2015: Festival de Valladolid – Seminci: Espiga de Oro (Mejor película)\nPases: 19:30 y 21:45 h. El precio de la entrada es de 4 euros. Se emite en versión original con subtítulos.\nOrganizan el Cine Club Fórum y Cinesa El Foro.
URL:https://merida.es/agenda/ciclo-cine-v-o-s-e-rams-el-valle-de-los-carneros/
LOCATION:Cinesa El Foro\, Centro Comercial El Foro\, Mérida
CATEGORIES:Cine
ATTACH;FMTTYPE=image/jpeg:https://merida.es/wp-content/uploads/2016/03/rams-img.jpg
END:VEVENT
END:VCALENDAR