﻿BEGIN:VCALENDAR
VERSION:2.0
PRODID:-//Ayuntamiento de Mérida - ECPv6.15.17.1//NONSGML v1.0//EN
CALSCALE:GREGORIAN
METHOD:PUBLISH
X-ORIGINAL-URL:https://merida.es
X-WR-CALDESC:Eventos para Ayuntamiento de Mérida
REFRESH-INTERVAL;VALUE=DURATION:PT1H
X-Robots-Tag:noindex
X-PUBLISHED-TTL:PT1H
BEGIN:VTIMEZONE
TZID:Europe/Madrid
BEGIN:DAYLIGHT
TZOFFSETFROM:+0100
TZOFFSETTO:+0200
TZNAME:CEST
DTSTART:20150329T010000
END:DAYLIGHT
BEGIN:STANDARD
TZOFFSETFROM:+0200
TZOFFSETTO:+0100
TZNAME:CET
DTSTART:20151025T010000
END:STANDARD
BEGIN:DAYLIGHT
TZOFFSETFROM:+0100
TZOFFSETTO:+0200
TZNAME:CEST
DTSTART:20160327T010000
END:DAYLIGHT
BEGIN:STANDARD
TZOFFSETFROM:+0200
TZOFFSETTO:+0100
TZNAME:CET
DTSTART:20161030T010000
END:STANDARD
BEGIN:DAYLIGHT
TZOFFSETFROM:+0100
TZOFFSETTO:+0200
TZNAME:CEST
DTSTART:20170326T010000
END:DAYLIGHT
BEGIN:STANDARD
TZOFFSETFROM:+0200
TZOFFSETTO:+0100
TZNAME:CET
DTSTART:20171029T010000
END:STANDARD
END:VTIMEZONE
BEGIN:VEVENT
DTSTART;TZID=Europe/Madrid:20160421T180000
DTEND;TZID=Europe/Madrid:20160421T180000
DTSTAMP:20260423T050740
CREATED:20160421T062955Z
LAST-MODIFIED:20160421T062955Z
UID:39566-1461261600-1461261600@merida.es
SUMMARY:Documental: "Investigación médica: Houston\, tenemos un problema"
DESCRIPTION:«Investigación médica: Houston\, tenemos un problema»\, es un documental sobre la necesidad de transparencia en la industria farmacéutica y priorización en I+D frente al márketing. El Laboratorio de Prácticas Innovadoras en Polimedicación y Salud\, junto a la Fundación Salud por Derecho\, lo proyectan hoy en el centro cultural Alcazaba a las 18 horas\, seguido de un debate y coloquio con los asistentes.\nEl documental analiza desde el testimonio de expertos y activistas de diferentes ámbitos el problema del acceso a los medicamentos en el mundo y en nuestro entorno; así como las posibles soluciones y alternativas a un modelo de innovación injusto e ineficaz.\nEl reto es construir un sistema de I+D y comercialización de fármacos eficiente\, sostenible y que garantice el acceso a los medicamentos que la población necesite a un precio asequible.\nSe presentará la iniciativa ‘No Es Sano’\, una campaña para “sanear” el modelo de innovación de los medicamentos\, de la que ‘Salud por Derecho’ es promotora y en la que el Laboratorio de Prácticas Innovadoras en Polimedicación y Salud participa activamente\, junto con un buen número de organizaciones sociales\, académicas y científicas.
URL:https://merida.es/agenda/documental-investigacion-medica-houston-tenemos-un-problema/
LOCATION:Centro Cultural Alcazaba\, Calle John Lennon\, 5\, Mérida
CATEGORIES:Charla-Conferencia,Cine
ATTACH;FMTTYPE=image/jpeg:https://merida.es/wp-content/uploads/2016/04/houston-tenemos-problema-peq.jpg
END:VEVENT
BEGIN:VEVENT
DTSTART;TZID=Europe/Madrid:20160421T203000
DTEND;TZID=Europe/Madrid:20160421T203000
DTSTAMP:20260423T050740
CREATED:20160419T171023Z
LAST-MODIFIED:20160419T171023Z
UID:39500-1461270600-1461270600@merida.es
SUMMARY:Cine Filmoteca: "Mia Madre"
DESCRIPTION:MIA MADRE\nTítulo original: Ein Atem\nItalia · 2015 · 102 minutos · Drama\nDirección: Nanni Moretti\nGuión: Nanni Moretti\, Francesco Piccolo\, Valia Santella\nReparto: Margherita Buy\, Nanni Moretti\, John Turturro\, Giulia Lazzarini\nSinopsis: Margherita es una directora de cine que está realizando una película protagonizada por un famoso e insoportable actor estadounidense de origen italiano. Tiene que enfrentarse a los cuestionamientos de su compromiso como artista y a las angustias de su vida privada: su madre hospitalizada y su hija atravesando la crisis de la adolescencia. Y su hermano\, como de costumbre\, es irreprochable…\n2015: Premios César: Nominada a mejor película extranjera 2015: Festival de Cannes: Sección oficial largometrajes a concurso 2015: Premios del Cine Europeo: Nominada a Mejor director y actriz 2014: 2 Premios David di Donatello\, incluyendo mejor actriz\nPase: 20:30 h. Se emite en versión original con subtítulos. El precio de la entrada es de 1 euro.\nAbono 10 sesiones: 6 euros.\nOrganiza la Filmoteca de Extremadura con la colaboración del Cine Club Forum.
URL:https://merida.es/agenda/cine-filmoteca-mia-madre/
LOCATION:Centro Cultural Santo Domingo Fundación CB\, Plaza de Santo Domingo\, s/n\, Mérida
CATEGORIES:Cine
ATTACH;FMTTYPE=image/jpeg:https://merida.es/wp-content/uploads/2016/04/miamadre-peq.jpg
END:VEVENT
END:VCALENDAR