﻿BEGIN:VCALENDAR
VERSION:2.0
PRODID:-//Ayuntamiento de Mérida - ECPv6.15.17.1//NONSGML v1.0//EN
CALSCALE:GREGORIAN
METHOD:PUBLISH
X-ORIGINAL-URL:https://merida.es
X-WR-CALDESC:Eventos para Ayuntamiento de Mérida
REFRESH-INTERVAL;VALUE=DURATION:PT1H
X-Robots-Tag:noindex
X-PUBLISHED-TTL:PT1H
BEGIN:VTIMEZONE
TZID:Europe/Madrid
BEGIN:DAYLIGHT
TZOFFSETFROM:+0100
TZOFFSETTO:+0200
TZNAME:CEST
DTSTART:20150329T010000
END:DAYLIGHT
BEGIN:STANDARD
TZOFFSETFROM:+0200
TZOFFSETTO:+0100
TZNAME:CET
DTSTART:20151025T010000
END:STANDARD
BEGIN:DAYLIGHT
TZOFFSETFROM:+0100
TZOFFSETTO:+0200
TZNAME:CEST
DTSTART:20160327T010000
END:DAYLIGHT
BEGIN:STANDARD
TZOFFSETFROM:+0200
TZOFFSETTO:+0100
TZNAME:CET
DTSTART:20161030T010000
END:STANDARD
BEGIN:DAYLIGHT
TZOFFSETFROM:+0100
TZOFFSETTO:+0200
TZNAME:CEST
DTSTART:20170326T010000
END:DAYLIGHT
BEGIN:STANDARD
TZOFFSETFROM:+0200
TZOFFSETTO:+0100
TZNAME:CET
DTSTART:20171029T010000
END:STANDARD
END:VTIMEZONE
BEGIN:VEVENT
DTSTART;TZID=Europe/Madrid:20160505T203000
DTEND;TZID=Europe/Madrid:20160505T203000
DTSTAMP:20260423T065944
CREATED:20160504T095819Z
LAST-MODIFIED:20160504T095819Z
UID:39934-1462480200-1462480200@merida.es
SUMMARY:Cine Fimoteca: "Langosta"
DESCRIPTION:LANGOSTA\nTítulo original: The Lobster\nGrecia · 2015 · 118 minutos · Ciencia-Ficción\, Drama\nDirección: Yorgos Lanthimos\nGuión: Efthymis Filippou\, Yorgos Lanthimos\nReparto: Colin Farrell\, Rachel Weisz\, Jessica Barden\, Olivia Colman\, Ashley Jensen\, Ariane Labed\, Angeliki Papoulia\, John C. Reilly\, Léa Seydoux\nSinopsis: Narra una historia de amor no convencional\, ambientada en un mundo distópico\, en el que según las reglas establecidas\, los solteros son arrestados y enviados a un lugar donde tienen que encontrar pareja en un plazo de 45 días. El tema central es la soledad\, el temor a morir solo\, a vivir solo\, y también al temor a vivir con alguien.\n2015: Festival de Cannes: Premio del Jurado\n2015: Premios del Cine Europeo: Mejor guión y diseño de vestuario\n2015: Premios BAFTA: Nominada a Mejor film británico\nPase: 20:30 h. Se emite en versión original con subtítulos. El precio de la entrada es de 1 euro.\nAbono 10 sesiones: 6 euros.\nOrganiza la Filmoteca de Extremadura con la colaboración del Cine Club Forum.
URL:https://merida.es/agenda/cine-fimoteca-langosta/
LOCATION:Centro Cultural Santo Domingo Fundación CB\, Plaza de Santo Domingo\, s/n\, Mérida
CATEGORIES:Cine
ATTACH;FMTTYPE=image/jpeg:https://merida.es/wp-content/uploads/2016/05/langosta-peq.jpg
END:VEVENT
END:VCALENDAR