﻿BEGIN:VCALENDAR
VERSION:2.0
PRODID:-//Ayuntamiento de Mérida - ECPv6.15.17.1//NONSGML v1.0//EN
CALSCALE:GREGORIAN
METHOD:PUBLISH
X-ORIGINAL-URL:https://merida.es
X-WR-CALDESC:Eventos para Ayuntamiento de Mérida
REFRESH-INTERVAL;VALUE=DURATION:PT1H
X-Robots-Tag:noindex
X-PUBLISHED-TTL:PT1H
BEGIN:VTIMEZONE
TZID:Europe/Madrid
BEGIN:DAYLIGHT
TZOFFSETFROM:+0100
TZOFFSETTO:+0200
TZNAME:CEST
DTSTART:20150329T010000
END:DAYLIGHT
BEGIN:STANDARD
TZOFFSETFROM:+0200
TZOFFSETTO:+0100
TZNAME:CET
DTSTART:20151025T010000
END:STANDARD
BEGIN:DAYLIGHT
TZOFFSETFROM:+0100
TZOFFSETTO:+0200
TZNAME:CEST
DTSTART:20160327T010000
END:DAYLIGHT
BEGIN:STANDARD
TZOFFSETFROM:+0200
TZOFFSETTO:+0100
TZNAME:CET
DTSTART:20161030T010000
END:STANDARD
BEGIN:DAYLIGHT
TZOFFSETFROM:+0100
TZOFFSETTO:+0200
TZNAME:CEST
DTSTART:20170326T010000
END:DAYLIGHT
BEGIN:STANDARD
TZOFFSETFROM:+0200
TZOFFSETTO:+0100
TZNAME:CET
DTSTART:20171029T010000
END:STANDARD
END:VTIMEZONE
BEGIN:VEVENT
DTSTART;TZID=Europe/Madrid:20160606T193000
DTEND;TZID=Europe/Madrid:20160606T220000
DTSTAMP:20260420T062853
CREATED:20160429T071053Z
LAST-MODIFIED:20160429T071053Z
UID:39803-1465241400-1465250400@merida.es
SUMMARY:Ciclo Cine V.O.S.E.: "Mustang"
DESCRIPTION:MUSTANG\nFrancia · 2015 · 97 minutos · Drama\nDirección: Deniz Gamze Ergüven\nGuión: Deniz Gamze Ergüven\, Alice Winocour\nReparto: Erol Afsin\, Ilayda Akdogan\, Doga Zeynep Doguslu\, Elit Iscan\, Ayberk Pekcan\, Günes Sensoy\, Tugba Sunguroglu\, Burak Yigit\nSinopsis: En un pequeño pueblo\, al norte de Turquía\, cinco hermanas huérfanas de edades comprendidas entre los 12 y los 16 años pasan el verano en un jardín paradisíaco de risas y juegos inocentes sobre las olas del Mar Negro con los chicos de la escuela. Sin embargo\, la condición de la mujer en el país no tardará en provocar rumores de inmoralidad y escándalo de las jóvenes\, así que sus familiares\, a través de la abuela y el tío\, deciden hacerse cargo del asunto; esto es\, prepararlas y precipitarlas hacia su destino de futuras esposas.\n2015: Premios Oscar: Nominada a Mejor película de habla no inglesa\n2015: Globos de Oro: Nominada a Mejor película de habla no inglesa\n2015: 4 Premios César: Mejor ópera prima\, guión\, montaje y bso. 9 nom.\n2015: Premios del Cine Europeo: Premio Discovery (mejor ópera prima)\n2015: Premios Goya: Mejor película europea\nPases: 19:30 y 22:00 h. El precio de la entrada es de 4 euros. Se emite en versión original con subtítulos en castellano.\nOrganizan el Cine Club Fórum y Cinesa El Foro.
URL:https://merida.es/agenda/ciclo-cine-v-o-s-e-mustang/
LOCATION:Cinesa El Foro\, Centro Comercial El Foro\, Mérida
CATEGORIES:Cine
ATTACH;FMTTYPE=image/jpeg:https://merida.es/wp-content/uploads/2016/04/mustang-peq.jpg
END:VEVENT
END:VCALENDAR