﻿BEGIN:VCALENDAR
VERSION:2.0
PRODID:-//Ayuntamiento de Mérida - ECPv6.15.17.1//NONSGML v1.0//EN
CALSCALE:GREGORIAN
METHOD:PUBLISH
X-ORIGINAL-URL:https://merida.es
X-WR-CALDESC:Eventos para Ayuntamiento de Mérida
REFRESH-INTERVAL;VALUE=DURATION:PT1H
X-Robots-Tag:noindex
X-PUBLISHED-TTL:PT1H
BEGIN:VTIMEZONE
TZID:Europe/Madrid
BEGIN:DAYLIGHT
TZOFFSETFROM:+0100
TZOFFSETTO:+0200
TZNAME:CEST
DTSTART:20150329T010000
END:DAYLIGHT
BEGIN:STANDARD
TZOFFSETFROM:+0200
TZOFFSETTO:+0100
TZNAME:CET
DTSTART:20151025T010000
END:STANDARD
BEGIN:DAYLIGHT
TZOFFSETFROM:+0100
TZOFFSETTO:+0200
TZNAME:CEST
DTSTART:20160327T010000
END:DAYLIGHT
BEGIN:STANDARD
TZOFFSETFROM:+0200
TZOFFSETTO:+0100
TZNAME:CET
DTSTART:20161030T010000
END:STANDARD
BEGIN:DAYLIGHT
TZOFFSETFROM:+0100
TZOFFSETTO:+0200
TZNAME:CEST
DTSTART:20170326T010000
END:DAYLIGHT
BEGIN:STANDARD
TZOFFSETFROM:+0200
TZOFFSETTO:+0100
TZNAME:CET
DTSTART:20171029T010000
END:STANDARD
END:VTIMEZONE
BEGIN:VEVENT
DTSTART;TZID=Europe/Madrid:20160609T203000
DTEND;TZID=Europe/Madrid:20160609T203000
DTSTAMP:20260420T031408
CREATED:20160531T161533Z
LAST-MODIFIED:20160531T161533Z
UID:41016-1465504200-1465504200@merida.es
SUMMARY:Cine Filmoteca: "La academia de las musas"
DESCRIPTION:LA ACADEMIA DE LAS MUSAS\nTítulo original: La academia de las musas\nEspaña · 2015 · 92 minutos · Drama | Enseñanza\nDirección: José Luis Guerín\nGuión: José Luis Guerín\nReparto: Raffaele Pinto\, Emanuela Forgetta\, Rosa Delor Muns\, Mireia Iniesta\, Patricia Gil\, Carolina LLacher\, Juan Rubiño\nSinopsis: Un profesor italiano imparte una clase en un posgrado de Filología acerca de las musas y su influencia\, particularmente en la Divina Comedia\, de Dante. Sus alumnos\, y sobre todo sus alumnas\, interactúan mientras José Luis Guerín\, creador de este fascinante experimento cinematográfico\, los filma con realismo.\n2015: Festival de Sevilla: Giraldillo de Oro a la Mejor película\nPase: 20:30 h. Se emite en versión original con subtítulos. El precio de la entrada es de 1 euro.\nAbono 10 sesiones: 6 euros.\nOrganiza la Filmoteca de Extremadura con la colaboración del Cine Club Forum.
URL:https://merida.es/agenda/cine-filmoteca-la-academia-de-las-musas/
LOCATION:Centro Cultural Santo Domingo Fundación CB\, Plaza de Santo Domingo\, s/n\, Mérida
CATEGORIES:Cine
ATTACH;FMTTYPE=image/jpeg:https://merida.es/wp-content/uploads/2016/05/musas-peq.jpg
END:VEVENT
END:VCALENDAR