﻿BEGIN:VCALENDAR
VERSION:2.0
PRODID:-//Ayuntamiento de Mérida - ECPv6.15.17.1//NONSGML v1.0//EN
CALSCALE:GREGORIAN
METHOD:PUBLISH
X-WR-CALNAME:Ayuntamiento de Mérida
X-ORIGINAL-URL:https://merida.es
X-WR-CALDESC:Eventos para Ayuntamiento de Mérida
REFRESH-INTERVAL;VALUE=DURATION:PT1H
X-Robots-Tag:noindex
X-PUBLISHED-TTL:PT1H
BEGIN:VTIMEZONE
TZID:Europe/Madrid
BEGIN:DAYLIGHT
TZOFFSETFROM:+0100
TZOFFSETTO:+0200
TZNAME:CEST
DTSTART:20150329T010000
END:DAYLIGHT
BEGIN:STANDARD
TZOFFSETFROM:+0200
TZOFFSETTO:+0100
TZNAME:CET
DTSTART:20151025T010000
END:STANDARD
BEGIN:DAYLIGHT
TZOFFSETFROM:+0100
TZOFFSETTO:+0200
TZNAME:CEST
DTSTART:20160327T010000
END:DAYLIGHT
BEGIN:STANDARD
TZOFFSETFROM:+0200
TZOFFSETTO:+0100
TZNAME:CET
DTSTART:20161030T010000
END:STANDARD
BEGIN:DAYLIGHT
TZOFFSETFROM:+0100
TZOFFSETTO:+0200
TZNAME:CEST
DTSTART:20170326T010000
END:DAYLIGHT
BEGIN:STANDARD
TZOFFSETFROM:+0200
TZOFFSETTO:+0100
TZNAME:CET
DTSTART:20171029T010000
END:STANDARD
END:VTIMEZONE
BEGIN:VEVENT
DTSTART;TZID=Europe/Madrid:20160613T193000
DTEND;TZID=Europe/Madrid:20160613T220000
DTSTAMP:20260420T031156
CREATED:20160429T090533Z
LAST-MODIFIED:20160429T090533Z
UID:39815-1465846200-1465855200@merida.es
SUMMARY:Ciclo Cine V.O.S.E.: "El cuento de la princesa Kaguya"
DESCRIPTION:EL CUNETO DE LA PRINCESA KAGUYA\nTítulo original: Kaguya-hime no Monogatari\nJapón · 2013 · 137 minutos · Animación\nDirección: Isao Takahata\nGuión: Isao Takahata\, Riko Sakaguchi\nSinopsis: Basada en un cuento popular japonés anónimo del siglo IX\, «El cortador de bambú». La historia comienza cuando una pareja de ancianos campesinos encuentran a una niña diminuta dentro de una planta de bambú\, y deciden adoptarla como si fuera su hija. Convertida rápidamente en una hermosa mujer\, es pretendida por muchos hombres\, incluido el emperador\, pero ella los rechaza a todos porque asegura venir de la Luna y debe volver allí…\n2014: Premios Oscar: Nominada a Mejor largometraje animación\n2014: Críticos de Los Angeles: Mejor largometraje de animación\n2014: Premios Annie: 3 nominaciones a Mejor película\, director y música.\n2014: Festival de Cannes: Sección oficial («Directors’ Fortnight»)\nPases: 19:30 y 22:00 h. El precio de la entrada es de 4 euros. La película se emite en versión original con subtítulos en castellano.\nOrganizan el Cine Club Fórum y Cinesa El Foro.
URL:https://merida.es/agenda/ciclo-cine-v-o-s-e-el-cuento-de-la-princesa-kaguya/
LOCATION:Cinesa El Foro\, Centro Comercial El Foro\, Mérida
CATEGORIES:Cine
ATTACH;FMTTYPE=image/jpeg:https://merida.es/wp-content/uploads/2016/04/kaguya-peq.jpg
END:VEVENT
END:VCALENDAR