﻿BEGIN:VCALENDAR
VERSION:2.0
PRODID:-//Ayuntamiento de Mérida - ECPv6.15.17.1//NONSGML v1.0//EN
CALSCALE:GREGORIAN
METHOD:PUBLISH
X-WR-CALNAME:Ayuntamiento de Mérida
X-ORIGINAL-URL:https://merida.es
X-WR-CALDESC:Eventos para Ayuntamiento de Mérida
REFRESH-INTERVAL;VALUE=DURATION:PT1H
X-Robots-Tag:noindex
X-PUBLISHED-TTL:PT1H
BEGIN:VTIMEZONE
TZID:Europe/Madrid
BEGIN:DAYLIGHT
TZOFFSETFROM:+0100
TZOFFSETTO:+0200
TZNAME:CEST
DTSTART:20150329T010000
END:DAYLIGHT
BEGIN:STANDARD
TZOFFSETFROM:+0200
TZOFFSETTO:+0100
TZNAME:CET
DTSTART:20151025T010000
END:STANDARD
BEGIN:DAYLIGHT
TZOFFSETFROM:+0100
TZOFFSETTO:+0200
TZNAME:CEST
DTSTART:20160327T010000
END:DAYLIGHT
BEGIN:STANDARD
TZOFFSETFROM:+0200
TZOFFSETTO:+0100
TZNAME:CET
DTSTART:20161030T010000
END:STANDARD
BEGIN:DAYLIGHT
TZOFFSETFROM:+0100
TZOFFSETTO:+0200
TZNAME:CEST
DTSTART:20170326T010000
END:DAYLIGHT
BEGIN:STANDARD
TZOFFSETFROM:+0200
TZOFFSETTO:+0100
TZNAME:CET
DTSTART:20171029T010000
END:STANDARD
END:VTIMEZONE
BEGIN:VEVENT
DTSTART;TZID=Europe/Madrid:20160623T083000
DTEND;TZID=Europe/Madrid:20160623T083000
DTSTAMP:20260420T000002
CREATED:20160616T104545Z
LAST-MODIFIED:20160616T104545Z
UID:41722-1466670600-1466670600@merida.es
SUMMARY:Cine Filmoteca: "Papusza"
DESCRIPTION:PAPUSZA\nTítulo original: Papusza\nPolonia · 2013 · 125 minutos · Drama | Biográfico\nDirección: Joanna Kos-Krauze\, Krzysztof Krauze\nGuión: Joanna Kos-Krauze\, Krzysztof Krauze\nReparto: Jowita Miondlikowska\, Zbigniew Walerys\, Antoni Pawlicki\, Artur Steranko\, Andrzej Walden\nSinopsis: Relata la vida de Bronislawa Wajs (Papusza)\, primera poeta gitana que recibió el reconocimiento de ver su obra publicada en Polonia. Repudiada por su propia comunidad\, que la acusó de haber traicionado los secretos de su pueblo\, Papusza vivió inmersa en la pobreza y la abnegación\, torturada por la culpabilidad hasta su muerte en 1987\n2013: Seminci de Valladolid: Mejor director y mejor actor (Zbigniew Walerys)\nPase: 20:30 h. Se emite en versión original con subtítulos. El precio de la entrada es de 1 euro.\nAbono 10 sesiones: 6 euros.\nOrganiza la Filmoteca de Extremadura con la colaboración del Cine Club Forum.
URL:https://merida.es/agenda/cine-filmoteca-papusza/
LOCATION:Centro Cultural Santo Domingo Fundación CB\, Plaza de Santo Domingo\, s/n\, Mérida
CATEGORIES:Cine
ATTACH;FMTTYPE=image/jpeg:https://merida.es/wp-content/uploads/2016/06/papusza-peq.jpg
END:VEVENT
END:VCALENDAR