﻿BEGIN:VCALENDAR
VERSION:2.0
PRODID:-//Ayuntamiento de Mérida - ECPv6.15.17.1//NONSGML v1.0//EN
CALSCALE:GREGORIAN
METHOD:PUBLISH
X-WR-CALNAME:Ayuntamiento de Mérida
X-ORIGINAL-URL:https://merida.es
X-WR-CALDESC:Eventos para Ayuntamiento de Mérida
REFRESH-INTERVAL;VALUE=DURATION:PT1H
X-Robots-Tag:noindex
X-PUBLISHED-TTL:PT1H
BEGIN:VTIMEZONE
TZID:Europe/Madrid
BEGIN:DAYLIGHT
TZOFFSETFROM:+0100
TZOFFSETTO:+0200
TZNAME:CEST
DTSTART:20170326T010000
END:DAYLIGHT
BEGIN:STANDARD
TZOFFSETFROM:+0200
TZOFFSETTO:+0100
TZNAME:CET
DTSTART:20171029T010000
END:STANDARD
BEGIN:DAYLIGHT
TZOFFSETFROM:+0100
TZOFFSETTO:+0200
TZNAME:CEST
DTSTART:20180325T010000
END:DAYLIGHT
BEGIN:STANDARD
TZOFFSETFROM:+0200
TZOFFSETTO:+0100
TZNAME:CET
DTSTART:20181028T010000
END:STANDARD
BEGIN:DAYLIGHT
TZOFFSETFROM:+0100
TZOFFSETTO:+0200
TZNAME:CEST
DTSTART:20190331T010000
END:DAYLIGHT
BEGIN:STANDARD
TZOFFSETFROM:+0200
TZOFFSETTO:+0100
TZNAME:CET
DTSTART:20191027T010000
END:STANDARD
END:VTIMEZONE
BEGIN:VEVENT
DTSTART;TZID=Europe/Madrid:20181213T203000
DTEND;TZID=Europe/Madrid:20181213T203000
DTSTAMP:20260419T162007
CREATED:20181204T204347Z
LAST-MODIFIED:20181204T204347Z
UID:62621-1544733000-1544733000@merida.es
SUMMARY:Cine Filmoteca: "Climax"
DESCRIPTION:  \nTítulo original: Climax\nAño: 2018\nDuración: 95 min.\nPaís: Francia\nDirección: Gaspar Noé\nGuión: Gaspar Noé\nGénero: Thriller. Drama\nIntérpretes: Sofia Boutella\,  Romain Guillermic\,  Souheila Yacoub\,  Kiddy Smile\, Claude Gajan Maull\,  Giselle Palmer\,  Taylor Kastle\,  Thea Carla Schott\nSinopsis:\nA mediados de los años noventa\, veinte jóvenes bailarines de danza urbana que se habían reunido para unas jornadas de tres días de ensayos en un internado en desuso situado en el corazón de un bosque\, hacen su último baile común y luego festejan una última fiesta de celebración alrededor de una gran fuente de sangría. Pronto\, la atmósfera se vuelve eléctrica y una extraña locura los atrapará toda la noche. Les parece obvio que han sido drogados\, pero no saben por quién o por qué.\nHora: 20:30. Entrada 1 €. Se emite en versión original con subtítulos en español.
URL:https://merida.es/agenda/cine-filmoteca-climax/
LOCATION:Centro Cultural Santo Domingo Fundación CB\, Plaza de Santo Domingo\, s/n\, Mérida
CATEGORIES:Cine
ATTACH;FMTTYPE=image/jpeg:https://merida.es/wp-content/uploads/2018/12/climax-peq2.jpg
END:VEVENT
END:VCALENDAR