﻿BEGIN:VCALENDAR
VERSION:2.0
PRODID:-//Ayuntamiento de Mérida - ECPv6.15.17.1//NONSGML v1.0//EN
CALSCALE:GREGORIAN
METHOD:PUBLISH
X-ORIGINAL-URL:https://merida.es
X-WR-CALDESC:Eventos para Ayuntamiento de Mérida
REFRESH-INTERVAL;VALUE=DURATION:PT1H
X-Robots-Tag:noindex
X-PUBLISHED-TTL:PT1H
BEGIN:VTIMEZONE
TZID:Europe/Madrid
BEGIN:DAYLIGHT
TZOFFSETFROM:+0100
TZOFFSETTO:+0200
TZNAME:CEST
DTSTART:20180325T010000
END:DAYLIGHT
BEGIN:STANDARD
TZOFFSETFROM:+0200
TZOFFSETTO:+0100
TZNAME:CET
DTSTART:20181028T010000
END:STANDARD
BEGIN:DAYLIGHT
TZOFFSETFROM:+0100
TZOFFSETTO:+0200
TZNAME:CEST
DTSTART:20190331T010000
END:DAYLIGHT
BEGIN:STANDARD
TZOFFSETFROM:+0200
TZOFFSETTO:+0100
TZNAME:CET
DTSTART:20191027T010000
END:STANDARD
BEGIN:DAYLIGHT
TZOFFSETFROM:+0100
TZOFFSETTO:+0200
TZNAME:CEST
DTSTART:20200329T010000
END:DAYLIGHT
BEGIN:STANDARD
TZOFFSETFROM:+0200
TZOFFSETTO:+0100
TZNAME:CET
DTSTART:20201025T010000
END:STANDARD
END:VTIMEZONE
BEGIN:VEVENT
DTSTART;TZID=Europe/Madrid:20190207T203000
DTEND;TZID=Europe/Madrid:20190207T203000
DTSTAMP:20260419T213707
CREATED:20190201T110019Z
LAST-MODIFIED:20190201T110019Z
UID:63599-1549571400-1549571400@merida.es
SUMMARY:Cine Filmoteca: "Dogman"
DESCRIPTION:  \n\nTítulo original: Dogman\nAño: 2018\nDuración: 102 min.\nPaís: Italia\nGénero: Thriller\, Drama\nDirector: Matteo Garrone\nGuionistas: Maurizio Braucci\, Ugo Chiti\, Matteo Garrone\, Massimo Gaudioso\nIntérpretes: Marcello Fonte\,  Edoardo Pesce\,  Nunzia Schiano\,  Adamo Dionisi\, Francesco Acquaroli\,  Alida Baldari Calabria\,  Gianluca Gobbi\,  Aniello Arena\nSinopsis:\nEn un lugar en las afueras de la ciudad\, Marcello vive su día a día entre el trabajo en su modesta peluquería para perros\, los momentos con su adorada hija Alida y una extraña relación con Simoncino\, un ex boxeador que aterroriza a todo el barrio y que obliga a Marcello a hacer cosas contra su voluntad. Pero algo va a cambiar.\nHora: 20:30. Entrada 1 €. Se emite en versión original con subtítulos en español.
URL:https://merida.es/agenda/cine-filmoteca-dogman/
LOCATION:Centro Cultural Santo Domingo Fundación CB\, Plaza de Santo Domingo\, s/n\, Mérida
CATEGORIES:Cine
ATTACH;FMTTYPE=image/jpeg:https://merida.es/wp-content/uploads/2019/02/dogman-peq.jpg
END:VEVENT
END:VCALENDAR