﻿BEGIN:VCALENDAR
VERSION:2.0
PRODID:-//Ayuntamiento de Mérida - ECPv6.15.17.1//NONSGML v1.0//EN
CALSCALE:GREGORIAN
METHOD:PUBLISH
X-WR-CALNAME:Ayuntamiento de Mérida
X-ORIGINAL-URL:https://merida.es
X-WR-CALDESC:Eventos para Ayuntamiento de Mérida
REFRESH-INTERVAL;VALUE=DURATION:PT1H
X-Robots-Tag:noindex
X-PUBLISHED-TTL:PT1H
BEGIN:VTIMEZONE
TZID:Europe/Madrid
BEGIN:DAYLIGHT
TZOFFSETFROM:+0100
TZOFFSETTO:+0200
TZNAME:CEST
DTSTART:20180325T010000
END:DAYLIGHT
BEGIN:STANDARD
TZOFFSETFROM:+0200
TZOFFSETTO:+0100
TZNAME:CET
DTSTART:20181028T010000
END:STANDARD
BEGIN:DAYLIGHT
TZOFFSETFROM:+0100
TZOFFSETTO:+0200
TZNAME:CEST
DTSTART:20190331T010000
END:DAYLIGHT
BEGIN:STANDARD
TZOFFSETFROM:+0200
TZOFFSETTO:+0100
TZNAME:CET
DTSTART:20191027T010000
END:STANDARD
BEGIN:DAYLIGHT
TZOFFSETFROM:+0100
TZOFFSETTO:+0200
TZNAME:CEST
DTSTART:20200329T010000
END:DAYLIGHT
BEGIN:STANDARD
TZOFFSETFROM:+0200
TZOFFSETTO:+0100
TZNAME:CET
DTSTART:20201025T010000
END:STANDARD
END:VTIMEZONE
BEGIN:VEVENT
DTSTART;TZID=Europe/Madrid:20190221T203000
DTEND;TZID=Europe/Madrid:20190221T203000
DTSTAMP:20260419T141235
CREATED:20190218T082107Z
LAST-MODIFIED:20190218T082107Z
UID:63907-1550781000-1550781000@merida.es
SUMMARY:Cine Filmoteca: "Cold War"
DESCRIPTION:  \n\nTítulo original: Zimna wojna\nAño: 2018\nDuración: 88 min.\nPaís: Polonia\nGénero: Romance\, Drama\nDirector: Pawel Pawlikowski\nGuionistas: Pawel Pawlikowski\, Janusz Glowacki\nIntérpretes: Joanna Kulig\,  Tomasz Kot\,  Agata Kulesza\,  Borys Szyc\,  Cédric Kahn\,  Jeanne Balibar\, Adam Woronowicz\,  Adam Ferency\,  Adam Szyszkowski\nSinopsis:\nCon la Guerra Fría como telón de fondo\, “Cold War” presenta una apasionada historia de amor entre dos personas de diferente origen y temperamento que son totalmente incompatibles\, pero cuyo destino les condena a estar juntos. (FILMAFFINITY)\nPremios:\n2018: Premios Oscar: Nominada a mejor director\, fotografía y película extranjera\n2018: Festival de Cannes: Mejor director\n2018: Premios BAFTA: 4 nominaciones\, inc. a Mejor película en habla no inglesa\n2018: Círculo de Críticos de Nueva York: Mejor película extranjera\n2018: Premios del Cine Europeo: Mejor película\, director\, guion\, montaje y actriz\nHora: 20:30. Entrada 1 €. Se emite en versión original con subtítulos en español.
URL:https://merida.es/agenda/cine-filmoteca-cold-war/
LOCATION:Centro Cultural Santo Domingo Fundación CB\, Plaza de Santo Domingo\, s/n\, Mérida
CATEGORIES:Cine
ATTACH;FMTTYPE=image/jpeg:https://merida.es/wp-content/uploads/2019/02/Cold_War-peq.jpg
END:VEVENT
END:VCALENDAR