﻿BEGIN:VCALENDAR
VERSION:2.0
PRODID:-//Ayuntamiento de Mérida - ECPv6.15.17.1//NONSGML v1.0//EN
CALSCALE:GREGORIAN
METHOD:PUBLISH
X-ORIGINAL-URL:https://merida.es
X-WR-CALDESC:Eventos para Ayuntamiento de Mérida
REFRESH-INTERVAL;VALUE=DURATION:PT1H
X-Robots-Tag:noindex
X-PUBLISHED-TTL:PT1H
BEGIN:VTIMEZONE
TZID:Europe/Madrid
BEGIN:DAYLIGHT
TZOFFSETFROM:+0100
TZOFFSETTO:+0200
TZNAME:CEST
DTSTART:20180325T010000
END:DAYLIGHT
BEGIN:STANDARD
TZOFFSETFROM:+0200
TZOFFSETTO:+0100
TZNAME:CET
DTSTART:20181028T010000
END:STANDARD
BEGIN:DAYLIGHT
TZOFFSETFROM:+0100
TZOFFSETTO:+0200
TZNAME:CEST
DTSTART:20190331T010000
END:DAYLIGHT
BEGIN:STANDARD
TZOFFSETFROM:+0200
TZOFFSETTO:+0100
TZNAME:CET
DTSTART:20191027T010000
END:STANDARD
BEGIN:DAYLIGHT
TZOFFSETFROM:+0100
TZOFFSETTO:+0200
TZNAME:CEST
DTSTART:20200329T010000
END:DAYLIGHT
BEGIN:STANDARD
TZOFFSETFROM:+0200
TZOFFSETTO:+0100
TZNAME:CET
DTSTART:20201025T010000
END:STANDARD
END:VTIMEZONE
BEGIN:VEVENT
DTSTART;TZID=Europe/Madrid:20190228T203000
DTEND;TZID=Europe/Madrid:20190228T203000
DTSTAMP:20260419T144714
CREATED:20190225T081841Z
LAST-MODIFIED:20190225T081841Z
UID:64070-1551385800-1551385800@merida.es
SUMMARY:Cine Filmoteca: "Oasis"
DESCRIPTION:  \n\nTítulo original: Zimna wojna\nAño: 2002\nDuración: 132 min.\nPaís: Corea del Sur\nGénero: Drama\nDirector: Lee Chang-dong\nGuionistas: Lee Chang-dong\nIntérpretes: Kyoung-gu Sul\, Moon So-ri\, Ahn Nae-Sang\, Ryoo Seung-Wan\nSinopsis:\nJong-Du\, un hombre con una leve discapacidad psíquica\, acaba de salir de la prisión después de cumplir condena por un atropello accidental. Decide visitar a la familia del hombre muerto en el accidente\, y conoce a su hija\, Gong-Ju\, que sufre parálisis cerebral. Jong-Du y Gong-Ju pronto mantendrán una relación amorosa que sufrirá la incomprensión de aquéllos que los rodean.\nPremios:\n2002: Festival de Venecia: 4 premios\, incl. Mejor Director\, FIPRESCI y Premio Signis\nHora: 20:30. Entrada 1 €. Se emite en versión original con subtítulos en español.
URL:https://merida.es/agenda/cine-filmoteca-oasis/
LOCATION:Centro Cultural Santo Domingo Fundación CB\, Plaza de Santo Domingo\, s/n\, Mérida
CATEGORIES:Cine
ATTACH;FMTTYPE=image/jpeg:https://merida.es/wp-content/uploads/2019/02/oasis-peq.jpg
END:VEVENT
END:VCALENDAR