﻿BEGIN:VCALENDAR
VERSION:2.0
PRODID:-//Ayuntamiento de Mérida - ECPv6.15.17.1//NONSGML v1.0//EN
CALSCALE:GREGORIAN
METHOD:PUBLISH
X-WR-CALNAME:Ayuntamiento de Mérida
X-ORIGINAL-URL:https://merida.es
X-WR-CALDESC:Eventos para Ayuntamiento de Mérida
REFRESH-INTERVAL;VALUE=DURATION:PT1H
X-Robots-Tag:noindex
X-PUBLISHED-TTL:PT1H
BEGIN:VTIMEZONE
TZID:Europe/Madrid
BEGIN:DAYLIGHT
TZOFFSETFROM:+0100
TZOFFSETTO:+0200
TZNAME:CEST
DTSTART:20180325T010000
END:DAYLIGHT
BEGIN:STANDARD
TZOFFSETFROM:+0200
TZOFFSETTO:+0100
TZNAME:CET
DTSTART:20181028T010000
END:STANDARD
BEGIN:DAYLIGHT
TZOFFSETFROM:+0100
TZOFFSETTO:+0200
TZNAME:CEST
DTSTART:20190331T010000
END:DAYLIGHT
BEGIN:STANDARD
TZOFFSETFROM:+0200
TZOFFSETTO:+0100
TZNAME:CET
DTSTART:20191027T010000
END:STANDARD
BEGIN:DAYLIGHT
TZOFFSETFROM:+0100
TZOFFSETTO:+0200
TZNAME:CEST
DTSTART:20200329T010000
END:DAYLIGHT
BEGIN:STANDARD
TZOFFSETFROM:+0200
TZOFFSETTO:+0100
TZNAME:CET
DTSTART:20201025T010000
END:STANDARD
END:VTIMEZONE
BEGIN:VEVENT
DTSTART;VALUE=DATE:20190316
DTEND;VALUE=DATE:20190318
DTSTAMP:20260419T205234
CREATED:20190313T103743Z
LAST-MODIFIED:20190313T103743Z
UID:64391-1552694400-1552867199@merida.es
SUMMARY:Jornada Flamenca de Mérida
DESCRIPTION: \n\n					\n				\n					\n				 \nLos días 16 y 17 de marzo se celebra la Jornada Flamenca de Mérida que incluirá la proyección de la película documental ‘La chana’\, con debate posterior\, el sábado 16\, a las 18:00 horas\, en el Centro Cultural Santo Domingo de la Fundación CB\, y una conferencia ‘Conoce a la artista y el flamenco’ a cargo de la bailaora Mercedes de Córdoba\, el domingo 17\, a las 13:00 horas\, en el Centro Cultural de Nueva Ciudad.\nAdemás\, la misma bailaora impartirá dos cursos\, Curso Avanzado por Alegrías y Curso Básico por Tangos\, los dos días\, de 10:00 a 13:00 horas\, el mismo Centro Cultural de Nueva Ciudad.\nMás información e inscripciones: 618 71 29 31 (Laura Serrano)\, 636 86 96 81 (Julia Báez) y 615 86 75 22 (Yolanda Burgos)\n 
URL:https://merida.es/agenda/jornada-flamenca-en-merida/
LOCATION:Varios puntos de la ciudad\, Mérida
CATEGORIES:Charla-Conferencia,Cine,Curso-Taller,Danza
ATTACH;FMTTYPE=image/jpeg:https://merida.es/wp-content/uploads/2019/03/jornada-flamenco-peq.jpg
END:VEVENT
END:VCALENDAR