﻿BEGIN:VCALENDAR
VERSION:2.0
PRODID:-//Ayuntamiento de Mérida - ECPv6.15.17.1//NONSGML v1.0//EN
CALSCALE:GREGORIAN
METHOD:PUBLISH
X-WR-CALNAME:Ayuntamiento de Mérida
X-ORIGINAL-URL:https://merida.es
X-WR-CALDESC:Eventos para Ayuntamiento de Mérida
REFRESH-INTERVAL;VALUE=DURATION:PT1H
X-Robots-Tag:noindex
X-PUBLISHED-TTL:PT1H
BEGIN:VTIMEZONE
TZID:Europe/Madrid
BEGIN:DAYLIGHT
TZOFFSETFROM:+0100
TZOFFSETTO:+0200
TZNAME:CEST
DTSTART:20180325T010000
END:DAYLIGHT
BEGIN:STANDARD
TZOFFSETFROM:+0200
TZOFFSETTO:+0100
TZNAME:CET
DTSTART:20181028T010000
END:STANDARD
BEGIN:DAYLIGHT
TZOFFSETFROM:+0100
TZOFFSETTO:+0200
TZNAME:CEST
DTSTART:20190331T010000
END:DAYLIGHT
BEGIN:STANDARD
TZOFFSETFROM:+0200
TZOFFSETTO:+0100
TZNAME:CET
DTSTART:20191027T010000
END:STANDARD
BEGIN:DAYLIGHT
TZOFFSETFROM:+0100
TZOFFSETTO:+0200
TZNAME:CEST
DTSTART:20200329T010000
END:DAYLIGHT
BEGIN:STANDARD
TZOFFSETFROM:+0200
TZOFFSETTO:+0100
TZNAME:CET
DTSTART:20201025T010000
END:STANDARD
END:VTIMEZONE
BEGIN:VEVENT
DTSTART;TZID=Europe/Madrid:20190325T193000
DTEND;TZID=Europe/Madrid:20190325T220000
DTSTAMP:20260420T035245
CREATED:20190325T073812Z
LAST-MODIFIED:20190325T073812Z
UID:64580-1553542200-1553551200@merida.es
SUMMARY:XXIX Ciclo de Cine V.O.S.E.: 'El vicio del poder'
DESCRIPTION:  \nTítulo original: Vice\nAño: 2018\nDuración: 132 min.\nPaís: Estados Unidos\nGénero: Drama. Comedia\nDirector: Adam McKay\nGuión: Adam McKay\nReparto: Christian Bale\,  Amy Adams\,  Steve Carell\,  Sam Rockwell\,  Jesse Plemons\, Eddie Marsan\,  Alison Pill\,  Stefania Owen\,  Jillian Armenante\,  Brandon Sklenar\nSinopsis: Explora la historia real sobre cómo Dick Cheney (Christian Bale)\, un callado burócrata de Washington\, acabó convirtiéndose en el hombre más poderoso del mundo como vicepresidente de los Estados Unidos durante el mandato de George W. Bush (Sam Rockwell)\, con consecuencias en su país y el resto del mundo que aún se dejan sentir hoy en día.\n2018: Premios Oscar: Mejor maquillaje. 8 nominaciones\n2018: Globos de Oro: Mejor actor comedia (Bale). 6 nominaciones\n2018: Premios BAFTA: Mejor montaje. 6 nominaciones.\n2018: Critics Choice Awards: Mejor actor y actor comedia (Bale) y maquillaje. 9 nom\nDos pases: 19:30 y 22:00. Entrada 5\,5 €.
URL:https://merida.es/agenda/xxix-ciclo-de-cine-v-o-s-e-el-vicio-del-poder/
LOCATION:Cines Victoria Mérida\, Centro Comercial El Foro\, Mérida\, 06800
CATEGORIES:Cine
ATTACH;FMTTYPE=image/jpeg:https://merida.es/wp-content/uploads/2019/03/el-vicio-del-poder-peq.jpg
END:VEVENT
END:VCALENDAR