﻿BEGIN:VCALENDAR
VERSION:2.0
PRODID:-//Ayuntamiento de Mérida - ECPv6.15.17.1//NONSGML v1.0//EN
CALSCALE:GREGORIAN
METHOD:PUBLISH
X-WR-CALNAME:Ayuntamiento de Mérida
X-ORIGINAL-URL:https://merida.es
X-WR-CALDESC:Eventos para Ayuntamiento de Mérida
REFRESH-INTERVAL;VALUE=DURATION:PT1H
X-Robots-Tag:noindex
X-PUBLISHED-TTL:PT1H
BEGIN:VTIMEZONE
TZID:Europe/Madrid
BEGIN:DAYLIGHT
TZOFFSETFROM:+0100
TZOFFSETTO:+0200
TZNAME:CEST
DTSTART:20180325T010000
END:DAYLIGHT
BEGIN:STANDARD
TZOFFSETFROM:+0200
TZOFFSETTO:+0100
TZNAME:CET
DTSTART:20181028T010000
END:STANDARD
BEGIN:DAYLIGHT
TZOFFSETFROM:+0100
TZOFFSETTO:+0200
TZNAME:CEST
DTSTART:20190331T010000
END:DAYLIGHT
BEGIN:STANDARD
TZOFFSETFROM:+0200
TZOFFSETTO:+0100
TZNAME:CET
DTSTART:20191027T010000
END:STANDARD
BEGIN:DAYLIGHT
TZOFFSETFROM:+0100
TZOFFSETTO:+0200
TZNAME:CEST
DTSTART:20200329T010000
END:DAYLIGHT
BEGIN:STANDARD
TZOFFSETFROM:+0200
TZOFFSETTO:+0100
TZNAME:CET
DTSTART:20201025T010000
END:STANDARD
END:VTIMEZONE
BEGIN:VEVENT
DTSTART;TZID=Europe/Madrid:20190328T203000
DTEND;TZID=Europe/Madrid:20190328T203000
DTSTAMP:20260420T065008
CREATED:20190325T074409Z
LAST-MODIFIED:20190325T074409Z
UID:64583-1553805000-1553805000@merida.es
SUMMARY:Cine Filmoteca: "La número uno"
DESCRIPTION:  \nTítulo original: Numéro une\nAño: 2017\nDuración: 110 min.\nPaís: Francia\nGénero: Drama\, Comedia\nDirector: Tonie Marshall\nGuionista: Raphaëlle Bacqué\, Marion Doussot\, Tonie Marshall\nIntérpretes: Emmanuelle Devos\, Suzanne Clément\, Richard Berry\, Sami Frey\nSinopsis:\nEmmanuelle Blachey es una brillante ingeniera que ha conseguido entrar en el comité ejecutivo de su empresa\, el gigante francés de la energía. Un día\, una red de mujeres influyentes le propone ayuda para conquistar la dirección de una importante empresa que cotiza en bolsa. Esto la convertiría en la primera mujer en ocupar un puesto de tal calibre.\nPremios:\n2017: Premios César: Nominada a Mejor actriz (Emmanuelle Devos)\nHora: 20:30. Entrada 1 €.
URL:https://merida.es/agenda/cine-filmoteca-la-numero-uno/
LOCATION:Centro Cultural Santo Domingo Fundación CB\, Plaza de Santo Domingo\, s/n\, Mérida
CATEGORIES:Cine
ATTACH;FMTTYPE=image/jpeg:https://merida.es/wp-content/uploads/2019/03/la-numero-uno-peq.jpg
END:VEVENT
END:VCALENDAR