﻿BEGIN:VCALENDAR
VERSION:2.0
PRODID:-//Ayuntamiento de Mérida - ECPv6.15.17.1//NONSGML v1.0//EN
CALSCALE:GREGORIAN
METHOD:PUBLISH
X-ORIGINAL-URL:https://merida.es
X-WR-CALDESC:Eventos para Ayuntamiento de Mérida
REFRESH-INTERVAL;VALUE=DURATION:PT1H
X-Robots-Tag:noindex
X-PUBLISHED-TTL:PT1H
BEGIN:VTIMEZONE
TZID:Europe/Madrid
BEGIN:DAYLIGHT
TZOFFSETFROM:+0100
TZOFFSETTO:+0200
TZNAME:CEST
DTSTART:20180325T010000
END:DAYLIGHT
BEGIN:STANDARD
TZOFFSETFROM:+0200
TZOFFSETTO:+0100
TZNAME:CET
DTSTART:20181028T010000
END:STANDARD
BEGIN:DAYLIGHT
TZOFFSETFROM:+0100
TZOFFSETTO:+0200
TZNAME:CEST
DTSTART:20190331T010000
END:DAYLIGHT
BEGIN:STANDARD
TZOFFSETFROM:+0200
TZOFFSETTO:+0100
TZNAME:CET
DTSTART:20191027T010000
END:STANDARD
BEGIN:DAYLIGHT
TZOFFSETFROM:+0100
TZOFFSETTO:+0200
TZNAME:CEST
DTSTART:20200329T010000
END:DAYLIGHT
BEGIN:STANDARD
TZOFFSETFROM:+0200
TZOFFSETTO:+0100
TZNAME:CET
DTSTART:20201025T010000
END:STANDARD
END:VTIMEZONE
BEGIN:VEVENT
DTSTART;TZID=Europe/Madrid:20190404T203000
DTEND;TZID=Europe/Madrid:20190404T203000
DTSTAMP:20260420T065143
CREATED:20190402T072345Z
LAST-MODIFIED:20190402T072345Z
UID:64697-1554409800-1554409800@merida.es
SUMMARY:Cine Filmoteca: "Apuntes para una película de atracos"
DESCRIPTION:  \nTítulo original: Apuntes para una película de atracos\nAño: 2018\nDuración: 85 min.\nPaís: España\nGénero: Documental\nDirector: León Siminiani\nGuionista: León Siminiani\nSinopsis:\nElías es un director de cine que soñaba con hacer una película de atracos. Durante el verano de 2013 lee una noticia sobre la detención de ‘El Robin Hood de Vallecas’\, el líder de ‘la banda de las alcantarillas’. Siente entonces que ha encontrado la oportunidad para cumplir su sueño. Le manda una carta a la cárcel donde cumple condena. Contra todo pronóstico\, Elías recibe respuesta tres semanas después. ‘El Robin Hood’ acepta que vaya a la cárcel a visitarle.\nPremios:\n2018: Premios Goya: Nominada a Mejor documental\n2018: Premios Feroz: Mejor documental\nHora: 20:30. Entrada 1 €.
URL:https://merida.es/agenda/cine-filmoteca-apuntes-para-una-pelicula-de-atracos/
LOCATION:Centro Cultural Santo Domingo Fundación CB\, Plaza de Santo Domingo\, s/n\, Mérida
CATEGORIES:Cine
ATTACH;FMTTYPE=image/jpeg:https://merida.es/wp-content/uploads/2019/04/atracos-peq.jpg
END:VEVENT
END:VCALENDAR