﻿BEGIN:VCALENDAR
VERSION:2.0
PRODID:-//Ayuntamiento de Mérida - ECPv6.15.17.1//NONSGML v1.0//EN
CALSCALE:GREGORIAN
METHOD:PUBLISH
X-WR-CALNAME:Ayuntamiento de Mérida
X-ORIGINAL-URL:https://merida.es
X-WR-CALDESC:Eventos para Ayuntamiento de Mérida
REFRESH-INTERVAL;VALUE=DURATION:PT1H
X-Robots-Tag:noindex
X-PUBLISHED-TTL:PT1H
BEGIN:VTIMEZONE
TZID:Europe/Madrid
BEGIN:DAYLIGHT
TZOFFSETFROM:+0100
TZOFFSETTO:+0200
TZNAME:CEST
DTSTART:20180325T010000
END:DAYLIGHT
BEGIN:STANDARD
TZOFFSETFROM:+0200
TZOFFSETTO:+0100
TZNAME:CET
DTSTART:20181028T010000
END:STANDARD
BEGIN:DAYLIGHT
TZOFFSETFROM:+0100
TZOFFSETTO:+0200
TZNAME:CEST
DTSTART:20190331T010000
END:DAYLIGHT
BEGIN:STANDARD
TZOFFSETFROM:+0200
TZOFFSETTO:+0100
TZNAME:CET
DTSTART:20191027T010000
END:STANDARD
BEGIN:DAYLIGHT
TZOFFSETFROM:+0100
TZOFFSETTO:+0200
TZNAME:CEST
DTSTART:20200329T010000
END:DAYLIGHT
BEGIN:STANDARD
TZOFFSETFROM:+0200
TZOFFSETTO:+0100
TZNAME:CET
DTSTART:20201025T010000
END:STANDARD
END:VTIMEZONE
BEGIN:VEVENT
DTSTART;TZID=Europe/Madrid:20190408T193000
DTEND;TZID=Europe/Madrid:20190408T220000
DTSTAMP:20260420T064829
CREATED:20190407T155125Z
LAST-MODIFIED:20190407T155125Z
UID:64832-1554751800-1554760800@merida.es
SUMMARY:XXX Ciclo de Cine V.O.S.E.: 'Entre dos aguas'
DESCRIPTION:  \nTítulo original: Entre dos aguas\nAño: 2018\nDuración: 136 min.\nPaís: España\nGénero: Drama\nDirector: Isaki Lacuesta\nGuión: Isa Campo\, Isaki Lacuesta\, Fran Araújo\nReparto: Israel Gómez Romero\,  Francisco José Gómez Romero\,  Rocío Rendón\, Yolanda Carmona\,  Lorrein Galea\,  Manuel González del Tanago\nSinopsis: Isra y Cheíto son dos hermanos que han tomado caminos muy diferentes en la vida. Cuando Isra sale de la cárcel y Cheíto termina una larga misión enrolado en la Marina\, ambos regresan a la Isla de San Fernando. El reencuentro de los hermanos renovará el recuerdo de la muerte violenta de su padre cuando eran niños; la necesidad de retomar sus vidas y reconciliarse con ellos mismos les unirá de nuevo. Doce años después de “La Leyenda del Tiempo”\, Isaki Lacuesta vuelve a San Fernando. \n2018: Premios Goya: Nominada a Mejor película y Mejor director\n2018: Festival de San Sebastián: Concha de Oro – mejor película\n2018: Festival de Mar del Plata: Mejor película y actor (Gómez Romero)\nDos pases: 19:30 y 22:00. Entrada 5\,5 €.
URL:https://merida.es/agenda/xxix-ciclo-de-cine-v-o-s-e-entre-dos-aguas/
LOCATION:Cines Victoria Mérida\, Centro Comercial El Foro\, Mérida\, 06800
CATEGORIES:Cine
ATTACH;FMTTYPE=image/jpeg:https://merida.es/wp-content/uploads/2019/04/entredosaguas-peq2.jpg
END:VEVENT
END:VCALENDAR