﻿BEGIN:VCALENDAR
VERSION:2.0
PRODID:-//Ayuntamiento de Mérida - ECPv6.15.17.1//NONSGML v1.0//EN
CALSCALE:GREGORIAN
METHOD:PUBLISH
X-WR-CALNAME:Ayuntamiento de Mérida
X-ORIGINAL-URL:https://merida.es
X-WR-CALDESC:Eventos para Ayuntamiento de Mérida
REFRESH-INTERVAL;VALUE=DURATION:PT1H
X-Robots-Tag:noindex
X-PUBLISHED-TTL:PT1H
BEGIN:VTIMEZONE
TZID:Europe/Madrid
BEGIN:DAYLIGHT
TZOFFSETFROM:+0100
TZOFFSETTO:+0200
TZNAME:CEST
DTSTART:20180325T010000
END:DAYLIGHT
BEGIN:STANDARD
TZOFFSETFROM:+0200
TZOFFSETTO:+0100
TZNAME:CET
DTSTART:20181028T010000
END:STANDARD
BEGIN:DAYLIGHT
TZOFFSETFROM:+0100
TZOFFSETTO:+0200
TZNAME:CEST
DTSTART:20190331T010000
END:DAYLIGHT
BEGIN:STANDARD
TZOFFSETFROM:+0200
TZOFFSETTO:+0100
TZNAME:CET
DTSTART:20191027T010000
END:STANDARD
BEGIN:DAYLIGHT
TZOFFSETFROM:+0100
TZOFFSETTO:+0200
TZNAME:CEST
DTSTART:20200329T010000
END:DAYLIGHT
BEGIN:STANDARD
TZOFFSETFROM:+0200
TZOFFSETTO:+0100
TZNAME:CET
DTSTART:20201025T010000
END:STANDARD
END:VTIMEZONE
BEGIN:VEVENT
DTSTART;TZID=Europe/Madrid:20190411T203000
DTEND;TZID=Europe/Madrid:20190411T203000
DTSTAMP:20260422T104744
CREATED:20190410T064014Z
LAST-MODIFIED:20190410T064014Z
UID:64873-1555014600-1555014600@merida.es
SUMMARY:Cine Filmoteca: "El sol en una red"
DESCRIPTION:  \nTítulo original: Slnko v sieti (Sunshine in a Net / Catching the Sun in a Net)\nAño: 1962\nDuración: 90 min.\nPaís: Checoslovaquia\nGénero: Drama\nDirector: Stefan Uher\nGuionista: Alfonz Bednár\nSinopsis:\nUna historia lírica sobre las emociones que surgen entre dos jóvenes que reaccionan con cinismo y rechazo ante la sociedad en un intento de ocultar sus inseguridades\, su falta de experiencia y miedo a la vida adulta\, abordando además por vez primera las diferencias de valores y de la vida social entre los ambientes urbanos y rurales. La película se considera el inicio de la nueva ola de cine eslovaco y checo de la década de 1960.\nHora: 20:30. Entrada 1 €.
URL:https://merida.es/agenda/cine-filmoteca-el-sol-en-una-red/
LOCATION:Centro Cultural Santo Domingo Fundación CB\, Plaza de Santo Domingo\, s/n\, Mérida
CATEGORIES:Cine
ATTACH;FMTTYPE=image/jpeg:https://merida.es/wp-content/uploads/2019/04/sol-en-una-red-peq.jpg
END:VEVENT
END:VCALENDAR