﻿BEGIN:VCALENDAR
VERSION:2.0
PRODID:-//Ayuntamiento de Mérida - ECPv6.15.17.1//NONSGML v1.0//EN
CALSCALE:GREGORIAN
METHOD:PUBLISH
X-ORIGINAL-URL:https://merida.es
X-WR-CALDESC:Eventos para Ayuntamiento de Mérida
REFRESH-INTERVAL;VALUE=DURATION:PT1H
X-Robots-Tag:noindex
X-PUBLISHED-TTL:PT1H
BEGIN:VTIMEZONE
TZID:Europe/Madrid
BEGIN:DAYLIGHT
TZOFFSETFROM:+0100
TZOFFSETTO:+0200
TZNAME:CEST
DTSTART:20180325T010000
END:DAYLIGHT
BEGIN:STANDARD
TZOFFSETFROM:+0200
TZOFFSETTO:+0100
TZNAME:CET
DTSTART:20181028T010000
END:STANDARD
BEGIN:DAYLIGHT
TZOFFSETFROM:+0100
TZOFFSETTO:+0200
TZNAME:CEST
DTSTART:20190331T010000
END:DAYLIGHT
BEGIN:STANDARD
TZOFFSETFROM:+0200
TZOFFSETTO:+0100
TZNAME:CET
DTSTART:20191027T010000
END:STANDARD
BEGIN:DAYLIGHT
TZOFFSETFROM:+0100
TZOFFSETTO:+0200
TZNAME:CEST
DTSTART:20200329T010000
END:DAYLIGHT
BEGIN:STANDARD
TZOFFSETFROM:+0200
TZOFFSETTO:+0100
TZNAME:CET
DTSTART:20201025T010000
END:STANDARD
END:VTIMEZONE
BEGIN:VEVENT
DTSTART;TZID=Europe/Madrid:20190417T203000
DTEND;TZID=Europe/Madrid:20190417T203000
DTSTAMP:20260422T105159
CREATED:20190417T101850Z
LAST-MODIFIED:20190417T101850Z
UID:64956-1555533000-1555533000@merida.es
SUMMARY:Cine Filmoteca: "La profesora"
DESCRIPTION:  \nTítulo original: Ucitelka\nAño: 2106\nDuración: 102 min.\nPaís: República Checa\nGénero: Drama\nDirector: Jan Hrebejk\nGuionista: Petr Jarchovský\nSinopsis:\nLa llegada en 1983 de una nueva profesora muy bien conectada con el partido a un colegio en un suburbio de Bratislava\, complica la vida de padres y alumnos. Su comportamiento lleva al director del centro a convocar una reunión urgente que de repente pondrá en riesgo el futuro de las familias. ¿Se atreverán a desafiar a la Srta. Drazdechova\, con fuertes conexiones con el poder\,  y defender lo que piensan contra todo riesgo?\nPremios:\n2016: Festival de Karlovy Vary: Mejor Actriz (Zuzana Mauréry)\n2016: Festival de Gijón: Mejor BSO y Mejor Dirección Artística\nHora: 20:30. Entrada 1 €. La película se emite en versión original con subtítulos.
URL:https://merida.es/agenda/cine-filmoteca-la-profesora/
LOCATION:Centro Cultural Santo Domingo Fundación CB\, Plaza de Santo Domingo\, s/n\, Mérida
CATEGORIES:Cine
ATTACH;FMTTYPE=image/jpeg:https://merida.es/wp-content/uploads/2019/04/la-profesora-peq.jpg
END:VEVENT
END:VCALENDAR