﻿BEGIN:VCALENDAR
VERSION:2.0
PRODID:-//Ayuntamiento de Mérida - ECPv6.15.17.1//NONSGML v1.0//EN
CALSCALE:GREGORIAN
METHOD:PUBLISH
X-ORIGINAL-URL:https://merida.es
X-WR-CALDESC:Eventos para Ayuntamiento de Mérida
REFRESH-INTERVAL;VALUE=DURATION:PT1H
X-Robots-Tag:noindex
X-PUBLISHED-TTL:PT1H
BEGIN:VTIMEZONE
TZID:Europe/Madrid
BEGIN:DAYLIGHT
TZOFFSETFROM:+0100
TZOFFSETTO:+0200
TZNAME:CEST
DTSTART:20180325T010000
END:DAYLIGHT
BEGIN:STANDARD
TZOFFSETFROM:+0200
TZOFFSETTO:+0100
TZNAME:CET
DTSTART:20181028T010000
END:STANDARD
BEGIN:DAYLIGHT
TZOFFSETFROM:+0100
TZOFFSETTO:+0200
TZNAME:CEST
DTSTART:20190331T010000
END:DAYLIGHT
BEGIN:STANDARD
TZOFFSETFROM:+0200
TZOFFSETTO:+0100
TZNAME:CET
DTSTART:20191027T010000
END:STANDARD
BEGIN:DAYLIGHT
TZOFFSETFROM:+0100
TZOFFSETTO:+0200
TZNAME:CEST
DTSTART:20200329T010000
END:DAYLIGHT
BEGIN:STANDARD
TZOFFSETFROM:+0200
TZOFFSETTO:+0100
TZNAME:CET
DTSTART:20201025T010000
END:STANDARD
END:VTIMEZONE
BEGIN:VEVENT
DTSTART;TZID=Europe/Madrid:20190502T203000
DTEND;TZID=Europe/Madrid:20190502T203000
DTSTAMP:20260422T123420
CREATED:20190502T070640Z
LAST-MODIFIED:20190502T070640Z
UID:65141-1556829000-1556829000@merida.es
SUMMARY:Cine Filmoteca: "El reverendo"
DESCRIPTION:  \nTítulo original: First Reformed\nAño: 2017\nDuración: 108 min.\nPaís: Estados Unidos\nGénero: Drama\nDirector: Paul Schrader\nGuionista: Paul Schrader\nReparto: Ethan Hawke\, Amanda Seyfried\, Cedric the Entertainer\, Michael Gaston\nSinopsis:\nLa vida del reverendo Toller\, un antiguo militar atormentado por su pasado\, cambia radicalmente cuando una joven pareja acude a pedirle consejo. Mary está preocupada con la obsesión por preservar el medio ambiente de su marido Michael\, un militante ecologista. El reverendo se encuentra un hombre que\, al contrario que él\, mantiene una fe inquebrantable en algo.\nPremios:\n2018: Premios Oscar: Nominada a Mejor Guion Original\n2018: Círculo de Críticos de Nueva York: Mejor Guion y Mejor Actor (Hawke)\nHora: 20:30. Entrada 1 €. Se emite en versión original con subtítulos
URL:https://merida.es/agenda/cine-filmoteca-el-reverendo/
LOCATION:Centro Cultural Santo Domingo Fundación CB\, Plaza de Santo Domingo\, s/n\, Mérida
CATEGORIES:Cine
ATTACH;FMTTYPE=image/jpeg:https://merida.es/wp-content/uploads/2019/05/el-reverendo-peq.jpg
END:VEVENT
END:VCALENDAR