﻿BEGIN:VCALENDAR
VERSION:2.0
PRODID:-//Ayuntamiento de Mérida - ECPv6.15.17.1//NONSGML v1.0//EN
CALSCALE:GREGORIAN
METHOD:PUBLISH
X-WR-CALNAME:Ayuntamiento de Mérida
X-ORIGINAL-URL:https://merida.es
X-WR-CALDESC:Eventos para Ayuntamiento de Mérida
REFRESH-INTERVAL;VALUE=DURATION:PT1H
X-Robots-Tag:noindex
X-PUBLISHED-TTL:PT1H
BEGIN:VTIMEZONE
TZID:Europe/Madrid
BEGIN:DAYLIGHT
TZOFFSETFROM:+0100
TZOFFSETTO:+0200
TZNAME:CEST
DTSTART:20180325T010000
END:DAYLIGHT
BEGIN:STANDARD
TZOFFSETFROM:+0200
TZOFFSETTO:+0100
TZNAME:CET
DTSTART:20181028T010000
END:STANDARD
BEGIN:DAYLIGHT
TZOFFSETFROM:+0100
TZOFFSETTO:+0200
TZNAME:CEST
DTSTART:20190331T010000
END:DAYLIGHT
BEGIN:STANDARD
TZOFFSETFROM:+0200
TZOFFSETTO:+0100
TZNAME:CET
DTSTART:20191027T010000
END:STANDARD
BEGIN:DAYLIGHT
TZOFFSETFROM:+0100
TZOFFSETTO:+0200
TZNAME:CEST
DTSTART:20200329T010000
END:DAYLIGHT
BEGIN:STANDARD
TZOFFSETFROM:+0200
TZOFFSETTO:+0100
TZNAME:CET
DTSTART:20201025T010000
END:STANDARD
END:VTIMEZONE
BEGIN:VEVENT
DTSTART;TZID=Europe/Madrid:20190506T193000
DTEND;TZID=Europe/Madrid:20190506T220000
DTSTAMP:20260423T001357
CREATED:20190506T065716Z
LAST-MODIFIED:20190506T065716Z
UID:65164-1557171000-1557180000@merida.es
SUMMARY:XXX Ciclo de Cine V.O.S.E.: 'Perdidos en París'
DESCRIPTION:  \nTítulo original: Paris pieds nus\nAño: 2016\nDuración: 83 min.\nPaís: Francia\nGénero: Comedia\nDirector: Dominique Abel\,  Fiona Gordon\nGuión: Dominique Abel\,  Fiona Gordon\nReparto: Emmanuelle Riva\,  Pierre Richard\,  Dominique Abel\,  Fiona Gordon\,  Balla Gagny Diop\nSinopsis: Fiona\, una bibliotecaria de Canadá\, llega a París para ayudar a su tía Martha\, amenazada con ser internada en una residencia de ancianos. Fiona pierde su equipaje y además descubre que Martha ha desaparecido. Es el comienzo de una cadena de alocados enredos\, que le harán cruzarse en el camino con Dom\, un vagabundo egoísta y presumido\, con quien surge un extraño encanto en la Ciudad de la Luz.\nDos pases: 19:30 y 22:00. Entrada 5\,5 €. Se emite en versión original con subtítulos.
URL:https://merida.es/agenda/xxix-ciclo-de-cine-v-o-s-e-perdidos-en-paris/
LOCATION:Cines Victoria Mérida\, Centro Comercial El Foro\, Mérida\, 06800
CATEGORIES:Cine
ATTACH;FMTTYPE=image/jpeg:https://merida.es/wp-content/uploads/2019/05/perdidos-paris-peq.jpg
END:VEVENT
END:VCALENDAR