﻿BEGIN:VCALENDAR
VERSION:2.0
PRODID:-//Ayuntamiento de Mérida - ECPv6.15.17.1//NONSGML v1.0//EN
CALSCALE:GREGORIAN
METHOD:PUBLISH
X-WR-CALNAME:Ayuntamiento de Mérida
X-ORIGINAL-URL:https://merida.es
X-WR-CALDESC:Eventos para Ayuntamiento de Mérida
REFRESH-INTERVAL;VALUE=DURATION:PT1H
X-Robots-Tag:noindex
X-PUBLISHED-TTL:PT1H
BEGIN:VTIMEZONE
TZID:Europe/Madrid
BEGIN:DAYLIGHT
TZOFFSETFROM:+0100
TZOFFSETTO:+0200
TZNAME:CEST
DTSTART:20180325T010000
END:DAYLIGHT
BEGIN:STANDARD
TZOFFSETFROM:+0200
TZOFFSETTO:+0100
TZNAME:CET
DTSTART:20181028T010000
END:STANDARD
BEGIN:DAYLIGHT
TZOFFSETFROM:+0100
TZOFFSETTO:+0200
TZNAME:CEST
DTSTART:20190331T010000
END:DAYLIGHT
BEGIN:STANDARD
TZOFFSETFROM:+0200
TZOFFSETTO:+0100
TZNAME:CET
DTSTART:20191027T010000
END:STANDARD
BEGIN:DAYLIGHT
TZOFFSETFROM:+0100
TZOFFSETTO:+0200
TZNAME:CEST
DTSTART:20200329T010000
END:DAYLIGHT
BEGIN:STANDARD
TZOFFSETFROM:+0200
TZOFFSETTO:+0100
TZNAME:CET
DTSTART:20201025T010000
END:STANDARD
END:VTIMEZONE
BEGIN:VEVENT
DTSTART;TZID=Europe/Madrid:20190513T193000
DTEND;TZID=Europe/Madrid:20190513T220000
DTSTAMP:20260423T003933
CREATED:20190513T064205Z
LAST-MODIFIED:20190513T064205Z
UID:65263-1557775800-1557784800@merida.es
SUMMARY:XXX Ciclo de Cine V.O.S.E.: 'Lazzaro Feliz'
DESCRIPTION:  \nTítulo original: Lazzaro Felice\nAño: 2018\nDuración: 125 min.\nPaís: Italia\nGénero: Comedia\nDirector: Alice Rohrwacher\nGuión: Alice Rohrwacher\nReparto: Adriano Tardiolo\,  Alba Rohrwacher\,  Agnese Graziani\,  Luca Chikovani\,  Sergi López\, Natalino Balasso\,  Tommaso Ragno\,  Nicoletta Braschi\,  Leonardo Nigro\nSinopsis: Lazzaro\, un joven campesino de excepcional bondad\, vive en La Inviolata\, una aldea que ha permanecido alejada del mundo y es controlada por la marquesa Alfonsina de Luna. Allí\, la vida de los campesinos no ha cambiado nunca; son explotados\, y ellos\, a su vez\, abusan de la bondad de Lazzaro. Un verano\, se hace amigo de Tancredi\, el hijo de la Marquesa. Entre ellos surge una amistad tan preciosa que hará viajar a Lazzaro a través del tiempo y le llevará a conocer el mundo moderno.\nPremios:\n2018: Festival de Cannes: Mejor guion (ex aequo)\n2018: Premios del Cine Europeo: 4 nominaciones incluyendo mejor película\n2018: Festival de Sitges: Premio Especial del Jurado\, Sección oficial a competición\nDos pases: 19:30 y 22:00. Entrada 5\,5 €. Se emite en versión original con subtítulos.
URL:https://merida.es/agenda/xxx-ciclo-de-cine-v-o-s-e-lazzaro-feliz/
LOCATION:Cines Victoria Mérida\, Centro Comercial El Foro\, Mérida\, 06800
CATEGORIES:Cine
ATTACH;FMTTYPE=image/jpeg:https://merida.es/wp-content/uploads/2019/05/Lazzaro_feliz_peq.jpg
END:VEVENT
END:VCALENDAR