﻿BEGIN:VCALENDAR
VERSION:2.0
PRODID:-//Ayuntamiento de Mérida - ECPv6.15.17.1//NONSGML v1.0//EN
CALSCALE:GREGORIAN
METHOD:PUBLISH
X-ORIGINAL-URL:https://merida.es
X-WR-CALDESC:Eventos para Ayuntamiento de Mérida
REFRESH-INTERVAL;VALUE=DURATION:PT1H
X-Robots-Tag:noindex
X-PUBLISHED-TTL:PT1H
BEGIN:VTIMEZONE
TZID:Europe/Madrid
BEGIN:DAYLIGHT
TZOFFSETFROM:+0100
TZOFFSETTO:+0200
TZNAME:CEST
DTSTART:20180325T010000
END:DAYLIGHT
BEGIN:STANDARD
TZOFFSETFROM:+0200
TZOFFSETTO:+0100
TZNAME:CET
DTSTART:20181028T010000
END:STANDARD
BEGIN:DAYLIGHT
TZOFFSETFROM:+0100
TZOFFSETTO:+0200
TZNAME:CEST
DTSTART:20190331T010000
END:DAYLIGHT
BEGIN:STANDARD
TZOFFSETFROM:+0200
TZOFFSETTO:+0100
TZNAME:CET
DTSTART:20191027T010000
END:STANDARD
BEGIN:DAYLIGHT
TZOFFSETFROM:+0100
TZOFFSETTO:+0200
TZNAME:CEST
DTSTART:20200329T010000
END:DAYLIGHT
BEGIN:STANDARD
TZOFFSETFROM:+0200
TZOFFSETTO:+0100
TZNAME:CET
DTSTART:20201025T010000
END:STANDARD
END:VTIMEZONE
BEGIN:VEVENT
DTSTART;TZID=Europe/Madrid:20190516T203000
DTEND;TZID=Europe/Madrid:20190516T203000
DTSTAMP:20260423T051224
CREATED:20190513T070619Z
LAST-MODIFIED:20190513T070619Z
UID:65272-1558038600-1558038600@merida.es
SUMMARY:Cine Filmoteca: "Burning"
DESCRIPTION:  \nTítulo original: Burning\nAño: 2018\nDuración: 148 min.\nPaís: Corea del Sur\nGénero: Drama\nDirector: Lee Chang-Dong\nGuionista: Lee Chang-Dong\, Jungmi Oh (Historia: Haruki Murakami)\nReparto: Yoo Ah In\, Steven Yeun\, Jun Jong-seo\, Gang Dong-won\nSinopsis:\nJongsu trabaja como mensajero\, aunque su deseo es llegar a ser escritor algún día. En una de sus entregas se cruza con una antigua compañera del colegio\, Haemi. La joven le pide que cuide a su gato durante un viaje a África. A su regreso\, Haemi le presenta a Ben\, un joven misterioso que conoció allí. Un día\, Ben revela a Jongsu un pasatiempo muy extraño.\nPremios:\n2018: Festival de Cannes: Sección oficial a concurso\, Premio FIPRESCI\n2018: Asociación de críticos de Los Angeles: Mejor Film extranjero y actor sec.\nHora: 20:30. Entrada 1 €. Se emite en versión original con subtítulos
URL:https://merida.es/agenda/cine-filmoteca-burning/
LOCATION:Centro Cultural Santo Domingo Fundación CB\, Plaza de Santo Domingo\, s/n\, Mérida
CATEGORIES:Cine
ATTACH;FMTTYPE=image/jpeg:https://merida.es/wp-content/uploads/2019/05/burning-peq.jpg
END:VEVENT
END:VCALENDAR