﻿BEGIN:VCALENDAR
VERSION:2.0
PRODID:-//Ayuntamiento de Mérida - ECPv6.15.17.1//NONSGML v1.0//EN
CALSCALE:GREGORIAN
METHOD:PUBLISH
X-WR-CALNAME:Ayuntamiento de Mérida
X-ORIGINAL-URL:https://merida.es
X-WR-CALDESC:Eventos para Ayuntamiento de Mérida
REFRESH-INTERVAL;VALUE=DURATION:PT1H
X-Robots-Tag:noindex
X-PUBLISHED-TTL:PT1H
BEGIN:VTIMEZONE
TZID:Europe/Madrid
BEGIN:DAYLIGHT
TZOFFSETFROM:+0100
TZOFFSETTO:+0200
TZNAME:CEST
DTSTART:20180325T010000
END:DAYLIGHT
BEGIN:STANDARD
TZOFFSETFROM:+0200
TZOFFSETTO:+0100
TZNAME:CET
DTSTART:20181028T010000
END:STANDARD
BEGIN:DAYLIGHT
TZOFFSETFROM:+0100
TZOFFSETTO:+0200
TZNAME:CEST
DTSTART:20190331T010000
END:DAYLIGHT
BEGIN:STANDARD
TZOFFSETFROM:+0200
TZOFFSETTO:+0100
TZNAME:CET
DTSTART:20191027T010000
END:STANDARD
BEGIN:DAYLIGHT
TZOFFSETFROM:+0100
TZOFFSETTO:+0200
TZNAME:CEST
DTSTART:20200329T010000
END:DAYLIGHT
BEGIN:STANDARD
TZOFFSETFROM:+0200
TZOFFSETTO:+0100
TZNAME:CET
DTSTART:20201025T010000
END:STANDARD
END:VTIMEZONE
BEGIN:VEVENT
DTSTART;TZID=Europe/Madrid:20190520T193000
DTEND;TZID=Europe/Madrid:20190520T220000
DTSTAMP:20260423T001356
CREATED:20190520T071940Z
LAST-MODIFIED:20190520T071940Z
UID:65371-1558380600-1558389600@merida.es
SUMMARY:XXX Ciclo de Cine V.O.S.E.: 'Juliet\, desnuda'
DESCRIPTION:  \nTítulo original: Juliet\, Naked\nAño: 2018\nDuración: 105 min.\nPaís: Italia\nGénero: Comedia\, Drama\nDirector: Jesse Peretz\nGuión: Tamara Jenkins\, Evgenia Peretz\, Jim Taylor (Novela: Nick Hornby)\nReparto: Rose Byrne\,  Ethan Hawke\,  Chris O’Dowd\,  Megan Dodds\,  Jimmy O. Yang\, Lily Newmark\,\nSinopsis: Annie (Rose Byrne) y Duncan (Chris O’Dowd) están cerca de la cuarentena y son pareja desde hace quince años. Ambos llevan una vida tranquila\, pero a Annie le inquieta el paso del tiempo sin ninguna pasión. Duncan\, en cambio\, concentra toda su atención en Tucker Crowe (Ethan Hawke)\, un músico americano que desapareció tras publicar el exitoso álbum ‘Juliet’. Pero cuando los caminos de Annie\, Tucker y Duncan comienzan a cruzarse\, descubrirán que la vida da inesperadas sorpresas y que todo puede cambiar. (FILMAFFINITY)\nDos pases: 19:30 y 22:00. Entrada 5\,5 €. Se emite en versión original con subtítulos.
URL:https://merida.es/agenda/xxx-ciclo-de-cine-v-o-s-e-juliet-desnuda/
LOCATION:Cines Victoria Mérida\, Centro Comercial El Foro\, Mérida\, 06800
CATEGORIES:Cine
ATTACH;FMTTYPE=image/jpeg:https://merida.es/wp-content/uploads/2019/05/juliet-desnuda-peq.jpg
END:VEVENT
END:VCALENDAR