﻿BEGIN:VCALENDAR
VERSION:2.0
PRODID:-//Ayuntamiento de Mérida - ECPv6.15.17.1//NONSGML v1.0//EN
CALSCALE:GREGORIAN
METHOD:PUBLISH
X-WR-CALNAME:Ayuntamiento de Mérida
X-ORIGINAL-URL:https://merida.es
X-WR-CALDESC:Eventos para Ayuntamiento de Mérida
REFRESH-INTERVAL;VALUE=DURATION:PT1H
X-Robots-Tag:noindex
X-PUBLISHED-TTL:PT1H
BEGIN:VTIMEZONE
TZID:Europe/Madrid
BEGIN:DAYLIGHT
TZOFFSETFROM:+0100
TZOFFSETTO:+0200
TZNAME:CEST
DTSTART:20180325T010000
END:DAYLIGHT
BEGIN:STANDARD
TZOFFSETFROM:+0200
TZOFFSETTO:+0100
TZNAME:CET
DTSTART:20181028T010000
END:STANDARD
BEGIN:DAYLIGHT
TZOFFSETFROM:+0100
TZOFFSETTO:+0200
TZNAME:CEST
DTSTART:20190331T010000
END:DAYLIGHT
BEGIN:STANDARD
TZOFFSETFROM:+0200
TZOFFSETTO:+0100
TZNAME:CET
DTSTART:20191027T010000
END:STANDARD
BEGIN:DAYLIGHT
TZOFFSETFROM:+0100
TZOFFSETTO:+0200
TZNAME:CEST
DTSTART:20200329T010000
END:DAYLIGHT
BEGIN:STANDARD
TZOFFSETFROM:+0200
TZOFFSETTO:+0100
TZNAME:CET
DTSTART:20201025T010000
END:STANDARD
END:VTIMEZONE
BEGIN:VEVENT
DTSTART;TZID=Europe/Madrid:20190530T203000
DTEND;TZID=Europe/Madrid:20190530T203000
DTSTAMP:20260423T001359
CREATED:20190527T073311Z
LAST-MODIFIED:20190527T073311Z
UID:65455-1559248200-1559248200@merida.es
SUMMARY:Cine Filmoteca: "Indiana"
DESCRIPTION:  \nTítulo original: Indiana\nAño: 2017\nDuración: 76 min.\nPaís: Estados Unidos\nGénero: Thriller. Fantástico\nDirector: Toni Comas\nGuionista: Toni Comas\, Charlie Williams\nReparto: Gabe Fazio\, Stuart Rudin\, Bradford West\, Noah McCartySlaughter\nSinopsis:\nEl Medio Oeste de Estados Unidos es una tierra supersticiosa en la que muchos de sus habitantes viven creyendo en posesiones\, presencias sobrenaturales y casas encantadas. Michael y Josh\, conocidos como Spirit Doctors\, se encargan de ayudar a personas perturbadas por episodios sobrenaturales en Indiana.\nHora: 20:30. Entrada 1 €. Se emite en versión original con subtítulos
URL:https://merida.es/agenda/cine-filmoteca-indiana/
LOCATION:Centro Cultural Santo Domingo Fundación CB\, Plaza de Santo Domingo\, s/n\, Mérida
CATEGORIES:Cine
ATTACH;FMTTYPE=image/jpeg:https://merida.es/wp-content/uploads/2019/05/indiana-peq.jpg
END:VEVENT
END:VCALENDAR