﻿BEGIN:VCALENDAR
VERSION:2.0
PRODID:-//Ayuntamiento de Mérida - ECPv6.15.17.1//NONSGML v1.0//EN
CALSCALE:GREGORIAN
METHOD:PUBLISH
X-ORIGINAL-URL:https://merida.es
X-WR-CALDESC:Eventos para Ayuntamiento de Mérida
REFRESH-INTERVAL;VALUE=DURATION:PT1H
X-Robots-Tag:noindex
X-PUBLISHED-TTL:PT1H
BEGIN:VTIMEZONE
TZID:Europe/Madrid
BEGIN:DAYLIGHT
TZOFFSETFROM:+0100
TZOFFSETTO:+0200
TZNAME:CEST
DTSTART:20180325T010000
END:DAYLIGHT
BEGIN:STANDARD
TZOFFSETFROM:+0200
TZOFFSETTO:+0100
TZNAME:CET
DTSTART:20181028T010000
END:STANDARD
BEGIN:DAYLIGHT
TZOFFSETFROM:+0100
TZOFFSETTO:+0200
TZNAME:CEST
DTSTART:20190331T010000
END:DAYLIGHT
BEGIN:STANDARD
TZOFFSETFROM:+0200
TZOFFSETTO:+0100
TZNAME:CET
DTSTART:20191027T010000
END:STANDARD
BEGIN:DAYLIGHT
TZOFFSETFROM:+0100
TZOFFSETTO:+0200
TZNAME:CEST
DTSTART:20200329T010000
END:DAYLIGHT
BEGIN:STANDARD
TZOFFSETFROM:+0200
TZOFFSETTO:+0100
TZNAME:CET
DTSTART:20201025T010000
END:STANDARD
END:VTIMEZONE
BEGIN:VEVENT
DTSTART;TZID=Europe/Madrid:20190708T223000
DTEND;TZID=Europe/Madrid:20190708T223000
DTSTAMP:20260423T070049
CREATED:20190704T105923Z
LAST-MODIFIED:20190704T105923Z
UID:66258-1562625000-1562625000@merida.es
SUMMARY:Cinema Aestas: "Mary y la flor de la bruja"
DESCRIPTION:  \nTítulo original: Meari to majo no hana\nAño: 2017\nDuración: 103 min.\nPaís: Japón\nGénero: Animación\nDirector: Hiromasa Yonebayashi\nGuionista: Riko Sakaguchi (Historia: Mary Stewart)\nReparto: –\nSinopsis:\nMary es una niña que vive con su tía abuela Charlotte en el campo\, donde no pasa casi nada. Un día sigue a un misterioso gato hasta el bosque y descubre un viejo palo de escoba y una extraña flor que sólo florece cada siete años en ese mismo bosque. El palo de escoba y la flor llevarán a Mary por encima de las nubes hasta Endor College\, una escuela de magia dirigida por Madam Mumblechook y el brillante Doctor Dee. Pero allí suceden cosas extrañas y Mary tendrá que arriesgar su vida para que todo vaya bien. (FILMAFFINITY)\nHora: 22:30. Entrada 3 €. \n\nLa heroicidad es una cualidad\, atribuida generalmente a los hombres\, que vincula la capacidad de solucionar una situación extrema con la violencia y el riesgo físico. En 2019\, la selección de películas que componen el ciclo ‘Cinema Aestas’ ampliará este concepto al elegir historias en las que una o varias mujeres se enfrentan a la adversidad\, rompen con el rol habitualmente atribuido a su género\, se transforman en protagonistas de su propio destino y convierten sus acciones en un referente para el resto de la sociedad.\nProgramación ‘Cinema Aestas’ del Festival de Teatro Clásico de Mérida: https://www.festivaldemerida.es/
URL:https://merida.es/agenda/cinema-aestas-mary-y-la-flor-de-la-bruja/
LOCATION:Pórtico del Foro\, Calle Sagasta s/n\, Mérida\, Badajoz\, 06800\, Spain
CATEGORIES:Cine
ATTACH;FMTTYPE=image/jpeg:https://merida.es/wp-content/uploads/2019/07/mary-flor-bruja-peq.jpg
END:VEVENT
END:VCALENDAR