﻿BEGIN:VCALENDAR
VERSION:2.0
PRODID:-//Ayuntamiento de Mérida - ECPv6.15.17.1//NONSGML v1.0//EN
CALSCALE:GREGORIAN
METHOD:PUBLISH
X-WR-CALNAME:Ayuntamiento de Mérida
X-ORIGINAL-URL:https://merida.es
X-WR-CALDESC:Eventos para Ayuntamiento de Mérida
REFRESH-INTERVAL;VALUE=DURATION:PT1H
X-Robots-Tag:noindex
X-PUBLISHED-TTL:PT1H
BEGIN:VTIMEZONE
TZID:Europe/Madrid
BEGIN:DAYLIGHT
TZOFFSETFROM:+0100
TZOFFSETTO:+0200
TZNAME:CEST
DTSTART:20180325T010000
END:DAYLIGHT
BEGIN:STANDARD
TZOFFSETFROM:+0200
TZOFFSETTO:+0100
TZNAME:CET
DTSTART:20181028T010000
END:STANDARD
BEGIN:DAYLIGHT
TZOFFSETFROM:+0100
TZOFFSETTO:+0200
TZNAME:CEST
DTSTART:20190331T010000
END:DAYLIGHT
BEGIN:STANDARD
TZOFFSETFROM:+0200
TZOFFSETTO:+0100
TZNAME:CET
DTSTART:20191027T010000
END:STANDARD
BEGIN:DAYLIGHT
TZOFFSETFROM:+0100
TZOFFSETTO:+0200
TZNAME:CEST
DTSTART:20200329T010000
END:DAYLIGHT
BEGIN:STANDARD
TZOFFSETFROM:+0200
TZOFFSETTO:+0100
TZNAME:CET
DTSTART:20201025T010000
END:STANDARD
END:VTIMEZONE
BEGIN:VEVENT
DTSTART;TZID=Europe/Madrid:20190712T223000
DTEND;TZID=Europe/Madrid:20190712T223000
DTSTAMP:20260423T120528
CREATED:20190709T093748Z
LAST-MODIFIED:20190709T093748Z
UID:66325-1562970600-1562970600@merida.es
SUMMARY:Ciclo Cine Aire Libre: "Matilda"
DESCRIPTION:  \nTítulo original: Matilda\nAño: 1996\nDuración: 98 min.\nPaís: Estados Unidos\nGénero: Comedia. Fantástico\nDirector: Danny DeVito\nGuionista: Robin Swicord (Cuento: Roald Dahl)\nReparto:\nMara Wilson\,  Danny DeVito\,  Rhea Perlman\,  Embeth Davidtz\,  Pam Ferris\, Brian Levinson\,  Paul Reubens\nSinopsis:\nMatilda Wormwood es una niña muy curiosa e inteligente\, todo lo contrario que sus chabacanos padres\, que suelen ignorarla y despreciarla. Tras descubrir que posee poderes telequinésicos\, llega a la conclusión de que podría usarlos para hacer el bien\, ayudando a los que están en dificultades\, pero también para castigar a las personas crueles y perversas. (FILMAFFINITY)\n>> Ver Programación Ciclo Cine Al Aire Libre (julio y agosto)
URL:https://merida.es/agenda/ciclo-cine-aire-libre-matilda/
LOCATION:Parque de las VII Sillas\, Mérida
CATEGORIES:Cine
ATTACH;FMTTYPE=image/jpeg:https://merida.es/wp-content/uploads/2019/07/matilda-peq.jpg
END:VEVENT
END:VCALENDAR