﻿BEGIN:VCALENDAR
VERSION:2.0
PRODID:-//Ayuntamiento de Mérida - ECPv6.15.17.1//NONSGML v1.0//EN
CALSCALE:GREGORIAN
METHOD:PUBLISH
X-ORIGINAL-URL:https://merida.es
X-WR-CALDESC:Eventos para Ayuntamiento de Mérida
REFRESH-INTERVAL;VALUE=DURATION:PT1H
X-Robots-Tag:noindex
X-PUBLISHED-TTL:PT1H
BEGIN:VTIMEZONE
TZID:Europe/Madrid
BEGIN:DAYLIGHT
TZOFFSETFROM:+0100
TZOFFSETTO:+0200
TZNAME:CEST
DTSTART:20180325T010000
END:DAYLIGHT
BEGIN:STANDARD
TZOFFSETFROM:+0200
TZOFFSETTO:+0100
TZNAME:CET
DTSTART:20181028T010000
END:STANDARD
BEGIN:DAYLIGHT
TZOFFSETFROM:+0100
TZOFFSETTO:+0200
TZNAME:CEST
DTSTART:20190331T010000
END:DAYLIGHT
BEGIN:STANDARD
TZOFFSETFROM:+0200
TZOFFSETTO:+0100
TZNAME:CET
DTSTART:20191027T010000
END:STANDARD
BEGIN:DAYLIGHT
TZOFFSETFROM:+0100
TZOFFSETTO:+0200
TZNAME:CEST
DTSTART:20200329T010000
END:DAYLIGHT
BEGIN:STANDARD
TZOFFSETFROM:+0200
TZOFFSETTO:+0100
TZNAME:CET
DTSTART:20201025T010000
END:STANDARD
END:VTIMEZONE
BEGIN:VEVENT
DTSTART;TZID=Europe/Madrid:20190719T223000
DTEND;TZID=Europe/Madrid:20190719T223000
DTSTAMP:20260423T084941
CREATED:20190709T094441Z
LAST-MODIFIED:20190709T094441Z
UID:66328-1563575400-1563575400@merida.es
SUMMARY:Ciclo Cine Aire Libre: "Kubo y las dos cuerdas mágicas"
DESCRIPTION:  \nTítulo original: Kubo y las dos cuerdas mágicas\nAño: 2016\nDuración: 101 min.\nPaís: Estados Unidos\nGénero: Animación. Fantástico. Aventuras\nDirector: Travis Knight\nGuionista: Marc Haimes\, Chris Butler (Historia: Shannon Tindle\, Marc Haimes)\nReparto:\n–\nSinopsis:\nKubo vive tranquilamente en un pequeño y normal pueblo hasta que un espíritu del pasado vuelve su vida patas arriba\, al reavivar una venganza. Esto causa en Kubo multitud de malos tragos al verse perseguido por dioses y monstruos. Si de verdad Kubo quiere sobrevivir\, antes debe localizar una armadura mágica que una vez fue vestida por su padre\, un legendario guerrero samurái. (FILMAFFINITY)\n>> Ver Programación Ciclo Cine Al Aire Libre (julio y agosto)
URL:https://merida.es/agenda/kubo-dos-cuerdas-magicas/
LOCATION:Parque de las VII Sillas\, Mérida
CATEGORIES:Cine
ATTACH;FMTTYPE=image/jpeg:https://merida.es/wp-content/uploads/2017/07/kubo-peq.jpg
END:VEVENT
END:VCALENDAR