﻿BEGIN:VCALENDAR
VERSION:2.0
PRODID:-//Ayuntamiento de Mérida - ECPv6.15.17.1//NONSGML v1.0//EN
CALSCALE:GREGORIAN
METHOD:PUBLISH
X-ORIGINAL-URL:https://merida.es
X-WR-CALDESC:Eventos para Ayuntamiento de Mérida
REFRESH-INTERVAL;VALUE=DURATION:PT1H
X-Robots-Tag:noindex
X-PUBLISHED-TTL:PT1H
BEGIN:VTIMEZONE
TZID:Europe/Madrid
BEGIN:DAYLIGHT
TZOFFSETFROM:+0100
TZOFFSETTO:+0200
TZNAME:CEST
DTSTART:20230326T010000
END:DAYLIGHT
BEGIN:STANDARD
TZOFFSETFROM:+0200
TZOFFSETTO:+0100
TZNAME:CET
DTSTART:20231029T010000
END:STANDARD
BEGIN:DAYLIGHT
TZOFFSETFROM:+0100
TZOFFSETTO:+0200
TZNAME:CEST
DTSTART:20240331T010000
END:DAYLIGHT
BEGIN:STANDARD
TZOFFSETFROM:+0200
TZOFFSETTO:+0100
TZNAME:CET
DTSTART:20241027T010000
END:STANDARD
BEGIN:DAYLIGHT
TZOFFSETFROM:+0100
TZOFFSETTO:+0200
TZNAME:CEST
DTSTART:20250330T010000
END:DAYLIGHT
BEGIN:STANDARD
TZOFFSETFROM:+0200
TZOFFSETTO:+0100
TZNAME:CET
DTSTART:20251026T010000
END:STANDARD
END:VTIMEZONE
BEGIN:VEVENT
DTSTART;TZID=Europe/Madrid:20241003T203000
DTEND;TZID=Europe/Madrid:20241003T203000
DTSTAMP:20260419T145129
CREATED:20240930T071254Z
LAST-MODIFIED:20240930T071332Z
UID:134094-1727987400-1727987400@merida.es
SUMMARY:Cine Filmoteca: "Camino de la suerte"
DESCRIPTION:Título original: Camino de la suerte\nPaís: España\nAño: 2023\nDuración: 107’ \nCiclo: Cine y el Día del Mayor \nDirección: Jorge Alonso\nGuion: Jorge Alonso \nReparto:  Tito Valverde\, María Jesús Sirvent\, Amada Santos\, Rosario Pardo\, Juan Carlos Sánchez\, Marta García \nGénero: Drama \nSinopsis: Tras la muerte de su mujer\, Joaquín\, un septuagenario que lucha contra la soledad\, deja la ciudad para refugiarse en su pueblo natal\, donde su mejor amigo lo convence para que conozca a una de las solteras de la localidad. \nEntrada: 1€.\nProgramación de la Filmoteca: http://filmotecaextremadura.juntaex.es
URL:https://merida.es/agenda/cine-filmoteca-camino-de-la-suerte/
LOCATION:Centro Cultural Santo Domingo Fundación CB\, Plaza de Santo Domingo\, s/n\, Mérida
CATEGORIES:Cine
ATTACH;FMTTYPE=image/jpeg:https://merida.es/wp-content/uploads/2024/09/camino-de-la-suerte-peq.jpg
END:VEVENT
END:VCALENDAR