﻿BEGIN:VCALENDAR
VERSION:2.0
PRODID:-//Ayuntamiento de Mérida - ECPv6.15.17.1//NONSGML v1.0//EN
CALSCALE:GREGORIAN
METHOD:PUBLISH
X-ORIGINAL-URL:https://merida.es
X-WR-CALDESC:Eventos para Ayuntamiento de Mérida
REFRESH-INTERVAL;VALUE=DURATION:PT1H
X-Robots-Tag:noindex
X-PUBLISHED-TTL:PT1H
BEGIN:VTIMEZONE
TZID:Europe/Madrid
BEGIN:DAYLIGHT
TZOFFSETFROM:+0100
TZOFFSETTO:+0200
TZNAME:CEST
DTSTART:20220327T010000
END:DAYLIGHT
BEGIN:STANDARD
TZOFFSETFROM:+0200
TZOFFSETTO:+0100
TZNAME:CET
DTSTART:20221030T010000
END:STANDARD
BEGIN:DAYLIGHT
TZOFFSETFROM:+0100
TZOFFSETTO:+0200
TZNAME:CEST
DTSTART:20230326T010000
END:DAYLIGHT
BEGIN:STANDARD
TZOFFSETFROM:+0200
TZOFFSETTO:+0100
TZNAME:CET
DTSTART:20231029T010000
END:STANDARD
BEGIN:DAYLIGHT
TZOFFSETFROM:+0100
TZOFFSETTO:+0200
TZNAME:CEST
DTSTART:20240331T010000
END:DAYLIGHT
BEGIN:STANDARD
TZOFFSETFROM:+0200
TZOFFSETTO:+0100
TZNAME:CET
DTSTART:20241027T010000
END:STANDARD
END:VTIMEZONE
BEGIN:VEVENT
DTSTART;VALUE=DATE:20230720
DTEND;VALUE=DATE:20230724
DTSTAMP:20260423T004131
CREATED:20230719T155803Z
LAST-MODIFIED:20230719T155803Z
UID:123279-1689811200-1690156799@merida.es
SUMMARY:Mercado de Artesanía 'A mano sin prisas'
DESCRIPTION:La Asociación “A mano sin prisas” organiza\, una nueva edición de su mercado artesano en la Plaza de las Méridas del Mundo con la presencia de varios artesanos y artesanas que estarán ubicados en el parque que rodea al obelisco instalado en la misma \nEn el mercado se ofrecerán productos de bisutería\, cuero\, moda\, aromas y serigrafía\, entre otros productos\, y estará abierto durante cuatro fines de semana en los periodos comprendidos entre el 5 y el 9 de julio\, del 20 al 23 de julio\, del 2 al 6 de agosto y del 14 al 20 de agosto en horario de 10 a 14 horas y de 19 a 22 horas\, de jueves a viernes\, y de de 19 a 22 horas los miércoles.
URL:https://merida.es/agenda/mercado-de-artesania-a-mano-sin-prisas-verano-2023-3/
LOCATION:Plaza de las Méridas del Mundo
CATEGORIES:Comercio
ATTACH;FMTTYPE=image/jpeg:https://merida.es/wp-content/uploads/2023/07/2023-mercado-artesania-peq.jpg
END:VEVENT
END:VCALENDAR