﻿BEGIN:VCALENDAR
VERSION:2.0
PRODID:-//Ayuntamiento de Mérida - ECPv6.15.17.1//NONSGML v1.0//EN
CALSCALE:GREGORIAN
METHOD:PUBLISH
X-ORIGINAL-URL:https://merida.es
X-WR-CALDESC:Eventos para Ayuntamiento de Mérida
REFRESH-INTERVAL;VALUE=DURATION:PT1H
X-Robots-Tag:noindex
X-PUBLISHED-TTL:PT1H
BEGIN:VTIMEZONE
TZID:Europe/Madrid
BEGIN:DAYLIGHT
TZOFFSETFROM:+0100
TZOFFSETTO:+0200
TZNAME:CEST
DTSTART:20220327T010000
END:DAYLIGHT
BEGIN:STANDARD
TZOFFSETFROM:+0200
TZOFFSETTO:+0100
TZNAME:CET
DTSTART:20221030T010000
END:STANDARD
BEGIN:DAYLIGHT
TZOFFSETFROM:+0100
TZOFFSETTO:+0200
TZNAME:CEST
DTSTART:20230326T010000
END:DAYLIGHT
BEGIN:STANDARD
TZOFFSETFROM:+0200
TZOFFSETTO:+0100
TZNAME:CET
DTSTART:20231029T010000
END:STANDARD
BEGIN:DAYLIGHT
TZOFFSETFROM:+0100
TZOFFSETTO:+0200
TZNAME:CEST
DTSTART:20240331T010000
END:DAYLIGHT
BEGIN:STANDARD
TZOFFSETFROM:+0200
TZOFFSETTO:+0100
TZNAME:CET
DTSTART:20241027T010000
END:STANDARD
END:VTIMEZONE
BEGIN:VEVENT
DTSTART;TZID=Europe/Madrid:20230218T180000
DTEND;TZID=Europe/Madrid:20230218T180000
DTSTAMP:20260423T043613
CREATED:20230216T125937Z
LAST-MODIFIED:20230216T130534Z
UID:118739-1676743200-1676743200@merida.es
SUMMARY:V Concurso de Copla Monumental
DESCRIPTION:El V Concurso de Copla Monumental se celebrará el sábado 18 de febrero\, a las 18 horas\, en el Templo de Diana y podrán participar todas las agrupaciones carnavalescas adultas en su modalidad de chirigotas\, comparsas\, cuartetos y coros\, así como las agrupaciones juveniles e infantiles que se hayan inscrito antes del día 17 de febrero. \nCada agrupación sólo podrá presentar una letra a concurso\, y cuyo tema versará obligatoriamente sobre el patrimonio monumental de Mérida. Esa letra será la única que podrá interpretar en el escenario del Templo de Diana. Las inscripciones y las letras se entregarán en la Delegación de Festejos y Participación Ciudadana o a través del correo electrónico festejos@merida.es. \nEl Jurado\, que estará compuesto por 3 personas nombradas por la delegación\, valorará tanto la letra como la música\, así como la interpretación de la copla presentada. Se han establecido tres premios de 500\, 300 y 200 euros\, respectivamente. \nBases V Copla Monumental
URL:https://merida.es/agenda/v-concurso-copla-monumental/
LOCATION:Templo de Diana\, Calle Romero Leal\, s/n\, Mérida
CATEGORIES:Carnaval,Concurso
ATTACH;FMTTYPE=image/jpeg:https://merida.es/wp-content/uploads/2023/02/2023-carnaval-concurso-copla-peq.jpg
END:VEVENT
END:VCALENDAR