﻿BEGIN:VCALENDAR
VERSION:2.0
PRODID:-//Ayuntamiento de Mérida - ECPv6.15.17.1//NONSGML v1.0//EN
CALSCALE:GREGORIAN
METHOD:PUBLISH
X-WR-CALNAME:Ayuntamiento de Mérida
X-ORIGINAL-URL:https://merida.es
X-WR-CALDESC:Eventos para Ayuntamiento de Mérida
REFRESH-INTERVAL;VALUE=DURATION:PT1H
X-Robots-Tag:noindex
X-PUBLISHED-TTL:PT1H
BEGIN:VTIMEZONE
TZID:Europe/Madrid
BEGIN:DAYLIGHT
TZOFFSETFROM:+0100
TZOFFSETTO:+0200
TZNAME:CEST
DTSTART:20150329T010000
END:DAYLIGHT
BEGIN:STANDARD
TZOFFSETFROM:+0200
TZOFFSETTO:+0100
TZNAME:CET
DTSTART:20151025T010000
END:STANDARD
BEGIN:DAYLIGHT
TZOFFSETFROM:+0100
TZOFFSETTO:+0200
TZNAME:CEST
DTSTART:20160327T010000
END:DAYLIGHT
BEGIN:STANDARD
TZOFFSETFROM:+0200
TZOFFSETTO:+0100
TZNAME:CET
DTSTART:20161030T010000
END:STANDARD
BEGIN:DAYLIGHT
TZOFFSETFROM:+0100
TZOFFSETTO:+0200
TZNAME:CEST
DTSTART:20170326T010000
END:DAYLIGHT
BEGIN:STANDARD
TZOFFSETFROM:+0200
TZOFFSETTO:+0100
TZNAME:CET
DTSTART:20171029T010000
END:STANDARD
END:VTIMEZONE
BEGIN:VEVENT
DTSTART;TZID=Europe/Madrid:20160628T200000
DTEND;TZID=Europe/Madrid:20160628T200000
DTSTAMP:20260422T093431
CREATED:20160618T092332Z
LAST-MODIFIED:20160618T092332Z
UID:41800-1467144000-1467144000@merida.es
SUMMARY:Orgullo LGTBI
DESCRIPTION:El próximo martes 28 de junio a las 20 horas\, en la plaza de España de Mérida\, concentración del Orgullo LGTBI de Extremadura con la lectura del Manifiesto por parte de Fundación Triángulo y Extremdura Entiende\, bajo el lema “Por el Desarrollo de una Ley LGBTI Extremeña. 2016 Año de la VisiBilidad Bisexual”
URL:https://merida.es/agenda/orgullo-lgtbi/
LOCATION:Plaza de España\, Mérida
CATEGORIES:Concentración-Marcha
ATTACH;FMTTYPE=image/jpeg:https://merida.es/wp-content/uploads/2016/06/Orgullo-2016-peq.jpg
END:VEVENT
END:VCALENDAR