﻿BEGIN:VCALENDAR
VERSION:2.0
PRODID:-//Ayuntamiento de Mérida - ECPv6.15.17.1//NONSGML v1.0//EN
CALSCALE:GREGORIAN
METHOD:PUBLISH
X-ORIGINAL-URL:https://merida.es
X-WR-CALDESC:Eventos para Ayuntamiento de Mérida
REFRESH-INTERVAL;VALUE=DURATION:PT1H
X-Robots-Tag:noindex
X-PUBLISHED-TTL:PT1H
BEGIN:VTIMEZONE
TZID:Europe/Madrid
BEGIN:DAYLIGHT
TZOFFSETFROM:+0100
TZOFFSETTO:+0200
TZNAME:CEST
DTSTART:20150329T010000
END:DAYLIGHT
BEGIN:STANDARD
TZOFFSETFROM:+0200
TZOFFSETTO:+0100
TZNAME:CET
DTSTART:20151025T010000
END:STANDARD
BEGIN:DAYLIGHT
TZOFFSETFROM:+0100
TZOFFSETTO:+0200
TZNAME:CEST
DTSTART:20160327T010000
END:DAYLIGHT
BEGIN:STANDARD
TZOFFSETFROM:+0200
TZOFFSETTO:+0100
TZNAME:CET
DTSTART:20161030T010000
END:STANDARD
BEGIN:DAYLIGHT
TZOFFSETFROM:+0100
TZOFFSETTO:+0200
TZNAME:CEST
DTSTART:20170326T010000
END:DAYLIGHT
BEGIN:STANDARD
TZOFFSETFROM:+0200
TZOFFSETTO:+0100
TZNAME:CET
DTSTART:20171029T010000
END:STANDARD
END:VTIMEZONE
BEGIN:VEVENT
DTSTART;TZID=Europe/Madrid:20161005T093000
DTEND;TZID=Europe/Madrid:20161005T093000
DTSTAMP:20260421T210650
CREATED:20160929T071134Z
LAST-MODIFIED:20160929T071134Z
UID:44092-1475659800-1475659800@merida.es
SUMMARY:XVIII Día Mundial de la Salud Mental en Extremadura
DESCRIPTION:FEAFES Extremadura y FEAFES Mérida celebran\, bajo el lema ‘Soy como tú aunque aún no lo sepas’\, el XVIII Día Mundial de la Salud Mental en Extremadura con una jornada de convivencia\, visibilidad y reivindicación en Mérida el próximo 5 de octubre en cuyo programa incluye una Marcha ‘Por la Salud Mental’ con salida desde Plaza de España; un acto central que este año está dedicado a ‘Las Emociones’\, a partir de las 11:45 horas en el Centro Cultural Alcazaba; y\, por último\, una comida de convivencia a partir de las 14:30 horas.
URL:https://merida.es/agenda/xviii-dia-mundial-de-la-salud-mental-en-extremadura/
LOCATION:Centro Cultural Alcazaba\, Calle John Lennon\, 5\, Mérida
CATEGORIES:Charla-Conferencia,Concentración-Marcha
ATTACH;FMTTYPE=image/jpeg:https://merida.es/wp-content/uploads/2016/09/salud-mental-peq.jpg
END:VEVENT
BEGIN:VEVENT
DTSTART;VALUE=DATE:20161019
DTEND;VALUE=DATE:20161020
DTSTAMP:20260421T210650
CREATED:20161017T152935Z
LAST-MODIFIED:20161017T152935Z
UID:44711-1476835200-1476921599@merida.es
SUMMARY:Día Mundial contra el Cáncer de Mama
DESCRIPTION:El Día contra el Cáncer de Mama se conmemorará en la ciudad\, el 19 de octubre\, con varias actividades de sensibilización organizadas por AOEX Mérida.\nA las 18 horas se leerá desde el balcón del ayuntamiento un manifiesto y se colgarán frases de apoyo a quienes padecen la enfermedad en los naranjos de la Plaza de España. El Pórtico del Foro se iluminará de color rosa con foto de familia en torno a las 20 horas.\nAdemás\, tanto en la Plaza de España como en otros puntos de la ciudad se ubicarán mesas informativas.
URL:https://merida.es/agenda/dia-mundial-contra-el-cancer-de-mama/
LOCATION:Varios puntos de la ciudad\, Mérida
CATEGORIES:Concentración-Marcha
ATTACH;FMTTYPE=image/jpeg:https://merida.es/wp-content/uploads/2016/10/no-esta-solo-peq.jpg
END:VEVENT
END:VCALENDAR