﻿BEGIN:VCALENDAR
VERSION:2.0
PRODID:-//Ayuntamiento de Mérida - ECPv6.15.17.1//NONSGML v1.0//EN
CALSCALE:GREGORIAN
METHOD:PUBLISH
X-WR-CALNAME:Ayuntamiento de Mérida
X-ORIGINAL-URL:https://merida.es
X-WR-CALDESC:Eventos para Ayuntamiento de Mérida
REFRESH-INTERVAL;VALUE=DURATION:PT1H
X-Robots-Tag:noindex
X-PUBLISHED-TTL:PT1H
BEGIN:VTIMEZONE
TZID:Europe/Madrid
BEGIN:DAYLIGHT
TZOFFSETFROM:+0100
TZOFFSETTO:+0200
TZNAME:CEST
DTSTART:20220327T010000
END:DAYLIGHT
BEGIN:STANDARD
TZOFFSETFROM:+0200
TZOFFSETTO:+0100
TZNAME:CET
DTSTART:20221030T010000
END:STANDARD
BEGIN:DAYLIGHT
TZOFFSETFROM:+0100
TZOFFSETTO:+0200
TZNAME:CEST
DTSTART:20230326T010000
END:DAYLIGHT
BEGIN:STANDARD
TZOFFSETFROM:+0200
TZOFFSETTO:+0100
TZNAME:CET
DTSTART:20231029T010000
END:STANDARD
BEGIN:DAYLIGHT
TZOFFSETFROM:+0100
TZOFFSETTO:+0200
TZNAME:CEST
DTSTART:20240331T010000
END:DAYLIGHT
BEGIN:STANDARD
TZOFFSETFROM:+0200
TZOFFSETTO:+0100
TZNAME:CET
DTSTART:20241027T010000
END:STANDARD
END:VTIMEZONE
BEGIN:VEVENT
DTSTART;TZID=Europe/Madrid:20231001T110000
DTEND;TZID=Europe/Madrid:20231001T110000
DTSTAMP:20260420T064904
CREATED:20230814T070426Z
LAST-MODIFIED:20230929T072924Z
UID:123741-1696158000-1696158000@merida.es
SUMMARY:II Caminata Vía Rosa
DESCRIPTION:La Asociación Club Deportivo Caminos Romanos organiza la II CAMINATA VÍA ROSA a beneficio de la Asociación Oncologica Extremeña en Mérida (AOEX Mérida). Se trata de un «paseo» por lugares emblemáticos de Mérida: Parque de las VII Sillas; Puente Romano sobre el Guadiana; Loba Capitolina; Alcazaba; Templo de Diana; Foro Municipal de Augusta Emérita; Museo de Arte Romano; Teatro y Anfiteatro Romano; Casa del Anfiteatro; Acueducto de San Lázaro; Parque del rio Albarregas; Puente sobre rio Albarregas y Acueducto Romano de los Milagros. \nEl objetivo de la actividad es dar la máxima visibilidad sobre enfermedades oncológicas y muy especialmente sobre el Cáncer de Mama; su problemática y las necesidades de afectadas y familiares.  \nLa fecha de celebración será el domingo día 1 de octubre\, y los horarios a tener en cuenta son:\n• 10:30 horas – Concentración en Parque de las VII Sillas.\n• 11:00 horas – Salida desde Monumento de las VII Sillas.\n• 12:30 / 13:00 horas – Llegada al Acueducto de los Milagros.\n• 13:30 horas – Lectura de manifiesto.\n• 16:30 horas – Finalización del evento \nLa fecha de apertura de las inscripciones será el viernes 11 de agosto a partir de las 20:00 horas. Y caso de no ser agotadas las plazas\, la fecha de cierre de las inscripciones será a las 24:00 horas del domingo 17 de septiembre de 2023. El precio de la inscripción será de 8 €uros e incluye mochila. \nMás información e inscripciones: https://inscripciones.tucrono.com
URL:https://merida.es/agenda/caminata-via-rosa-2023/
LOCATION:Recorrido Urbano\, Mérida
CATEGORIES:Concentración-Marcha,Deporte
ATTACH;FMTTYPE=image/jpeg:https://merida.es/wp-content/uploads/2023/08/2023-caminata-via-rosa-peq.jpg
END:VEVENT
END:VCALENDAR