﻿BEGIN:VCALENDAR
VERSION:2.0
PRODID:-//Ayuntamiento de Mérida - ECPv6.15.17.1//NONSGML v1.0//EN
CALSCALE:GREGORIAN
METHOD:PUBLISH
X-WR-CALNAME:Ayuntamiento de Mérida
X-ORIGINAL-URL:https://merida.es
X-WR-CALDESC:Eventos para Ayuntamiento de Mérida
REFRESH-INTERVAL;VALUE=DURATION:PT1H
X-Robots-Tag:noindex
X-PUBLISHED-TTL:PT1H
BEGIN:VTIMEZONE
TZID:Europe/Madrid
BEGIN:DAYLIGHT
TZOFFSETFROM:+0100
TZOFFSETTO:+0200
TZNAME:CEST
DTSTART:20210328T010000
END:DAYLIGHT
BEGIN:STANDARD
TZOFFSETFROM:+0200
TZOFFSETTO:+0100
TZNAME:CET
DTSTART:20211031T010000
END:STANDARD
BEGIN:DAYLIGHT
TZOFFSETFROM:+0100
TZOFFSETTO:+0200
TZNAME:CEST
DTSTART:20220327T010000
END:DAYLIGHT
BEGIN:STANDARD
TZOFFSETFROM:+0200
TZOFFSETTO:+0100
TZNAME:CET
DTSTART:20221030T010000
END:STANDARD
BEGIN:DAYLIGHT
TZOFFSETFROM:+0100
TZOFFSETTO:+0200
TZNAME:CEST
DTSTART:20230326T010000
END:DAYLIGHT
BEGIN:STANDARD
TZOFFSETFROM:+0200
TZOFFSETTO:+0100
TZNAME:CET
DTSTART:20231029T010000
END:STANDARD
END:VTIMEZONE
BEGIN:VEVENT
DTSTART;TZID=Europe/Madrid:20220402T170000
DTEND;TZID=Europe/Madrid:20220402T170000
DTSTAMP:20260423T062030
CREATED:20220324T073504Z
LAST-MODIFIED:20220324T073504Z
UID:110348-1648918800-1648918800@merida.es
SUMMARY:Mérida con el Autismo
DESCRIPTION:El sábado\, 2 de abril\, a partir de las 17:00 horas\, la asociación EmeriTEA organiza ‘Mérida con el Autismo’\, una jornada de convivencia y concienciación sobre el autismo\, coincidiendo con la celebración del Día Mundial del Autismo que se celebra ese mismo día. Se organizarán actuaciones\, suelta de globos\, tienda solidaria\, photocall y se finalizará con la iluminación especial de diversos monumentos de la ciudad que lucirán de azul.
URL:https://merida.es/agenda/merida-con-el-autismo/
LOCATION:Templo de Diana\, Calle Romero Leal\, s/n\, Mérida
CATEGORIES:Benéfico,Convivencia,Música
ATTACH;FMTTYPE=image/jpeg:https://merida.es/wp-content/uploads/2022/03/2022-dia-autismo-peq.jpg
END:VEVENT
BEGIN:VEVENT
DTSTART;TZID=Europe/Madrid:20220423T130000
DTEND;TZID=Europe/Madrid:20220423T130000
DTSTAMP:20260423T062030
CREATED:20220421T153200Z
LAST-MODIFIED:20220421T153200Z
UID:111241-1650718800-1650718800@merida.es
SUMMARY:Convivencia Hermandad de Las Lágrimas
DESCRIPTION:El sábado\, 23 de abril\, a partir de las 13:00 horas\, en el parque anexo al Centro Cultural de la Antigua\, la Hermandad de Jesús de la Humildad y María Santísima de Las Lágrimas organiza una jornada de convivencia festiva que contará con barra con bebida y comida a precios populares\, Paella gratis con consumición\, café y postres\, castillo hinchable\, música y animador\, etc
URL:https://merida.es/agenda/convivencia-hermandad-de-las-lagrimas-3/
LOCATION:Centro Cultural La Antigua\, Calle Nerja s/n\, Mérida\, Badajoz\, 06800\, Spain
CATEGORIES:Convivencia
ATTACH;FMTTYPE=image/jpeg:https://merida.es/wp-content/uploads/2022/04/2022-convivencia-lagrimas-peq.jpg
END:VEVENT
END:VCALENDAR