﻿BEGIN:VCALENDAR
VERSION:2.0
PRODID:-//Ayuntamiento de Mérida - ECPv6.15.17.1//NONSGML v1.0//EN
CALSCALE:GREGORIAN
METHOD:PUBLISH
X-WR-CALNAME:Ayuntamiento de Mérida
X-ORIGINAL-URL:https://merida.es
X-WR-CALDESC:Eventos para Ayuntamiento de Mérida
REFRESH-INTERVAL;VALUE=DURATION:PT1H
X-Robots-Tag:noindex
X-PUBLISHED-TTL:PT1H
BEGIN:VTIMEZONE
TZID:Europe/Madrid
BEGIN:DAYLIGHT
TZOFFSETFROM:+0100
TZOFFSETTO:+0200
TZNAME:CEST
DTSTART:20200329T010000
END:DAYLIGHT
BEGIN:STANDARD
TZOFFSETFROM:+0200
TZOFFSETTO:+0100
TZNAME:CET
DTSTART:20201025T010000
END:STANDARD
BEGIN:DAYLIGHT
TZOFFSETFROM:+0100
TZOFFSETTO:+0200
TZNAME:CEST
DTSTART:20210328T010000
END:DAYLIGHT
BEGIN:STANDARD
TZOFFSETFROM:+0200
TZOFFSETTO:+0100
TZNAME:CET
DTSTART:20211031T010000
END:STANDARD
BEGIN:DAYLIGHT
TZOFFSETFROM:+0100
TZOFFSETTO:+0200
TZNAME:CEST
DTSTART:20220327T010000
END:DAYLIGHT
BEGIN:STANDARD
TZOFFSETFROM:+0200
TZOFFSETTO:+0100
TZNAME:CET
DTSTART:20221030T010000
END:STANDARD
END:VTIMEZONE
BEGIN:VEVENT
DTSTART;VALUE=DATE:20210511
DTEND;VALUE=DATE:20210519
DTSTAMP:20260420T085434
CREATED:20210509T110951Z
LAST-MODIFIED:20230427T231404Z
UID:82188-1620691200-1621382399@merida.es
SUMMARY:Mes de las Aves 2021
DESCRIPTION: \n\n					\n				\n					\n				 \nEl Mes de las Aves forma parte de Jovenocio.11\, financiado por el Ministerio de Sanidad y el Ayuntamiento\, un programa municipal de prevención de las drogodependencias y otras conductas adictivas\, dirigido a fomentar nuevas aficiones e intereses de ocio saludable entre la población infantil y juvenil de Mérida.\nLas actividades para todos los públicos comenzarán con un taller familiar de iniciación a la ornitología (martes días 11 y 18 de mayo\, desde las 18.30 horas en la sede de Adenex\, Plaza Santo Ángel). También habrá un observatorio de aves (días 11\, Puente Romano\, y 13 de mayo\, Puente del Albarregas\, de 19 a 21 horas)\, talleres infantiles (domingo\, 16 de mayo\, en el Acueducto de Los Milagros) y anillamiento de aves (domingo\, 16 de mayo\, de 9 a 12.30 horas en el Acueducto de Los Milagros). Colabora ADENEX.\nLas actividades para escolares consistirán en unos talleres educativos sobre anfibios y reptiles durante la segunda semana de mayo dirigidos a los alumnos de 5º y 6º de Primaria de los CEIP Dion Casio\, Maximiliano Macias y Jose Maria de Calatrava. Colabora la Asociación Arborea.\n[list]\n[li type=»glyphicon-arrow-right»]Programa ‘Mes de las Aves'[/li]\n[/list]
URL:https://merida.es/agenda/2021-mes-aves-merida/
LOCATION:Varios puntos de la ciudad\, Mérida
CATEGORIES:Convivencia,Curso-Taller,Ocio
ATTACH;FMTTYPE=image/jpeg:https://merida.es/wp-content/uploads/2021/05/2021-mes-aves-peq-1.jpg
END:VEVENT
BEGIN:VEVENT
DTSTART;VALUE=DATE:20210514
DTEND;VALUE=DATE:20210522
DTSTAMP:20260420T085434
CREATED:20210408T083117Z
LAST-MODIFIED:20210408T083117Z
UID:81116-1620950400-1621641599@merida.es
SUMMARY:IV Festival Claqueta Emérita
DESCRIPTION:El 21 de mayo de 2021\, a las 19:00 horas\, se celebrará la gala final de la IV edición del Festival Claqueta Emérita\, un evento audiovisual organizado por la Asociación EsMérARTE para promover el visionado de cortometrajes amateurs realizados por jóvenes extremeños. Previamente\, del 14 al 20 de mayo\, se realizarán diferentes actividades como talleres\, exposiciones\, visionado de cortometrajes y encuentro online con diferentes autores.\nMás información: https://claquetaemerita.wixsite.com
URL:https://merida.es/agenda/iv-festival-claqueta-emerita/
LOCATION:Varios puntos de la ciudad\, Mérida
CATEGORIES:Cine,Curso-Taller,Danza,Música
ATTACH;FMTTYPE=image/jpeg:https://merida.es/wp-content/uploads/2021/04/2021-claqueta-peq-1-1.jpg
END:VEVENT
END:VCALENDAR