﻿BEGIN:VCALENDAR
VERSION:2.0
PRODID:-//Ayuntamiento de Mérida - ECPv6.15.17.1//NONSGML v1.0//EN
CALSCALE:GREGORIAN
METHOD:PUBLISH
X-ORIGINAL-URL:https://merida.es
X-WR-CALDESC:Eventos para Ayuntamiento de Mérida
REFRESH-INTERVAL;VALUE=DURATION:PT1H
X-Robots-Tag:noindex
X-PUBLISHED-TTL:PT1H
BEGIN:VTIMEZONE
TZID:Europe/Madrid
BEGIN:DAYLIGHT
TZOFFSETFROM:+0100
TZOFFSETTO:+0200
TZNAME:CEST
DTSTART:20230326T010000
END:DAYLIGHT
BEGIN:STANDARD
TZOFFSETFROM:+0200
TZOFFSETTO:+0100
TZNAME:CET
DTSTART:20231029T010000
END:STANDARD
BEGIN:DAYLIGHT
TZOFFSETFROM:+0100
TZOFFSETTO:+0200
TZNAME:CEST
DTSTART:20240331T010000
END:DAYLIGHT
BEGIN:STANDARD
TZOFFSETFROM:+0200
TZOFFSETTO:+0100
TZNAME:CET
DTSTART:20241027T010000
END:STANDARD
BEGIN:DAYLIGHT
TZOFFSETFROM:+0100
TZOFFSETTO:+0200
TZNAME:CEST
DTSTART:20250330T010000
END:DAYLIGHT
BEGIN:STANDARD
TZOFFSETFROM:+0200
TZOFFSETTO:+0100
TZNAME:CET
DTSTART:20251026T010000
END:STANDARD
END:VTIMEZONE
BEGIN:VEVENT
DTSTART;VALUE=DATE:20241005
DTEND;VALUE=DATE:20241012
DTSTAMP:20260420T065019
CREATED:20240927T064623Z
LAST-MODIFIED:20241010T091437Z
UID:134048-1728086400-1728691199@merida.es
SUMMARY:Semana Saludable 'Elige Salud' (C.S. Urbano III - Obispo Paulo)
DESCRIPTION:La semana del 5 al 11 de octubre\, el Centro de Salud Urbano III Obispo Paulo organiza diferentes talleres y charlas durante su Semana Saludable bajo el lema ‘Elige Salud’ que también incluirá una Marcha Saludable y Musicoterapia. Inscripciones en el propio centro
URL:https://merida.es/agenda/semana-saludable-elige-salud/
LOCATION:Varios puntos de la ciudad\, Mérida
CATEGORIES:Charla-Conferencia,Curso-Taller,Deporte
ATTACH;FMTTYPE=image/jpeg:https://merida.es/wp-content/uploads/2024/09/2024-elige-salud-peq.jpg
END:VEVENT
BEGIN:VEVENT
DTSTART;VALUE=DATE:20241014
DTEND;VALUE=DATE:20241020
DTSTAMP:20260420T065019
CREATED:20241010T091918Z
LAST-MODIFIED:20241010T091918Z
UID:134389-1728864000-1729382399@merida.es
SUMMARY:2ª Semana de la Salud (C. S. Mérida Norte)
DESCRIPTION:Del 14 al 19 de octubre\, el Centro de Salud Merida Norte organiza su 2ª Semana de la Salud con numerosas actividades abiertas al público teniendo un papel protagonista los niños y jóvenes. \nMás información: Aquí
URL:https://merida.es/agenda/2a-semana-de-la-salud-c-s-merida-norte/
LOCATION:Varios puntos de la ciudad\, Mérida
CATEGORIES:Charla-Conferencia,Curso-Taller
ATTACH;FMTTYPE=image/jpeg:https://merida.es/wp-content/uploads/2024/10/2024-segunda-semana-salud-peq.jpg
END:VEVENT
BEGIN:VEVENT
DTSTART;VALUE=DATE:20241025
DTEND;VALUE=DATE:20241027
DTSTAMP:20260420T065019
CREATED:20241010T065437Z
LAST-MODIFIED:20241010T065437Z
UID:134385-1729814400-1729987199@merida.es
SUMMARY:Taller de Light Painting (SECINDI)
DESCRIPTION:El Centro Cultural Santo Domingo acoge la realización de dos talleres gratuitos de Light Painting\, impartidos por El Niño de las Luces\, dentro de la programación de la SECINDI\, los días 25 y 26 de octubre\, para Adultos e Infantil\, respectivamente. Plazas muy limitadas. \nInscripciones: https://fundacioncb.es
URL:https://merida.es/agenda/taller-de-light-painting-secindi/
LOCATION:Centro Cultural Santo Domingo Fundación CB\, Plaza de Santo Domingo\, s/n\, Mérida
CATEGORIES:Curso-Taller
ATTACH;FMTTYPE=image/jpeg:https://merida.es/wp-content/uploads/2024/10/2024-secindi-taller-light-painting-peq.jpg
END:VEVENT
BEGIN:VEVENT
DTSTART;VALUE=DATE:20241031
DTEND;VALUE=DATE:20241102
DTSTAMP:20260420T065019
CREATED:20241028T210522Z
LAST-MODIFIED:20241028T211050Z
UID:135003-1730332800-1730505599@merida.es
SUMMARY:Talleres de Halloween
DESCRIPTION:La delegación de Juventud\, con el fin de promover un ocio saludable y divertido entre los más pequeños\, presenta una serie de talleres de manualidades especiales de Halloween diseñados para niñas y niños de entre 6 y 12 años\, que tendrán lugar en el Centro de Ocio Joven “El Economato” \nLas sesiones tendrán varios turnos\, siendo el día 31 de octubre el primer turno a las 17:00 horas y el segundo a las 18:30 horas; mientras que el día 1 de noviembre el primer turno será a las 11:00 horas\, y el segundo a las 12:30. Estos talleres son gratuitos y el acceso a los mismos\, es hasta que se complete el aforo.
URL:https://merida.es/agenda/talleres-de-halloween/
LOCATION:Centro de Ocio Joven El Economato\, Calle Marquesa de Pinares\, 38\, Mérida\, España
CATEGORIES:Curso-Taller,Infantil
ATTACH;FMTTYPE=image/jpeg:https://merida.es/wp-content/uploads/2024/10/2024-talleres-halloween-peq.jpg
END:VEVENT
END:VCALENDAR