﻿BEGIN:VCALENDAR
VERSION:2.0
PRODID:-//Ayuntamiento de Mérida - ECPv6.15.17.1//NONSGML v1.0//EN
CALSCALE:GREGORIAN
METHOD:PUBLISH
X-ORIGINAL-URL:https://merida.es
X-WR-CALDESC:Eventos para Ayuntamiento de Mérida
REFRESH-INTERVAL;VALUE=DURATION:PT1H
X-Robots-Tag:noindex
X-PUBLISHED-TTL:PT1H
BEGIN:VTIMEZONE
TZID:Europe/Madrid
BEGIN:DAYLIGHT
TZOFFSETFROM:+0100
TZOFFSETTO:+0200
TZNAME:CEST
DTSTART:20230326T010000
END:DAYLIGHT
BEGIN:STANDARD
TZOFFSETFROM:+0200
TZOFFSETTO:+0100
TZNAME:CET
DTSTART:20231029T010000
END:STANDARD
BEGIN:DAYLIGHT
TZOFFSETFROM:+0100
TZOFFSETTO:+0200
TZNAME:CEST
DTSTART:20240331T010000
END:DAYLIGHT
BEGIN:STANDARD
TZOFFSETFROM:+0200
TZOFFSETTO:+0100
TZNAME:CET
DTSTART:20241027T010000
END:STANDARD
BEGIN:DAYLIGHT
TZOFFSETFROM:+0100
TZOFFSETTO:+0200
TZNAME:CEST
DTSTART:20250330T010000
END:DAYLIGHT
BEGIN:STANDARD
TZOFFSETFROM:+0200
TZOFFSETTO:+0100
TZNAME:CET
DTSTART:20251026T010000
END:STANDARD
END:VTIMEZONE
BEGIN:VEVENT
DTSTART;VALUE=DATE:20241217
DTEND;VALUE=DATE:20241219
DTSTAMP:20260419T213437
CREATED:20241204T110745Z
LAST-MODIFIED:20241204T112151Z
UID:136278-1734393600-1734566399@merida.es
SUMMARY:Saturnalia Infantil MNAR
DESCRIPTION:El Museo Nacional de Arte Romano organiza el taller Saturnalia Infantil en donde los participantes conocerán cuál es el origen de nuestra celebración navideña y ser realizará una corona votiva visigoda\, aprovechando su sede de Santa Clara\, para poder decorar y coronar el árbol de navidad. Serán los días 17 y 18 de diciembre\, a las 16:30 horas\, en la Colección Visigoda (Iglesia de Santa Clara). Para niños de entre 6 y 11 años. \nInscripciones a través del correo programadifusion.museomerida@gmail.com
URL:https://merida.es/agenda/saturnalia-infantil-mnar/
LOCATION:Iglesia de Santa Clara (Colección Visigoda)\, Santa Julia\, 1\, Mérida\, 06800
CATEGORIES:Curso-Taller,Infantil,Navidad
ATTACH;FMTTYPE=image/png:https://merida.es/wp-content/uploads/2024/12/2024-saturnalia-infantil-peq.png
END:VEVENT
BEGIN:VEVENT
DTSTART;TZID=Europe/Madrid:20241221T101500
DTEND;TZID=Europe/Madrid:20241221T101500
DTSTAMP:20260419T213437
CREATED:20241211T224632Z
LAST-MODIFIED:20241211T224632Z
UID:136430-1734776100-1734776100@merida.es
SUMMARY:Taller de Maquillaje y Caracterización (SECINDI)
DESCRIPTION:El 21 de diciembre\, el Centro Cultural Santo Domingo acogerá un taller para adultos y otro para niños de maquillaje y caracterización en el cine de la mano de SECINDI \nEn el taller de adultos aprenderán a maquillar como auténticos profesionales del cine. A las 10:15 horas. Inscripciones: https://fundacioncb.es \nMientras que los más pequeños se divertirán pareciéndose a sus personajes favoritos de la Navidad y el cine. A las 12:30 horas. Inscripciones: https://fundacioncb.es
URL:https://merida.es/agenda/taller-de-maquillaje-y-caracterizacion-secindi/
LOCATION:Centro Cultural Santo Domingo Fundación CB\, Plaza de Santo Domingo\, s/n\, Mérida
CATEGORIES:Cine,Curso-Taller
ATTACH;FMTTYPE=image/jpeg:https://merida.es/wp-content/uploads/2024/12/2024-secindi-taller-maquillaje-peq.jpg
END:VEVENT
BEGIN:VEVENT
DTSTART;VALUE=DATE:20241223
DTEND;VALUE=DATE:20241227
DTSTAMP:20260419T213437
CREATED:20241217T101411Z
LAST-MODIFIED:20241217T101411Z
UID:136599-1734912000-1735257599@merida.es
SUMMARY:Taller de Pintura de Navidad
DESCRIPTION:La Biblioteca Municipal Juan Pablo Forner organiza un taller de pintura e ilustración infantil gratuito dirigido a niños y niñas de 6 a 12 años. Se llevará a cabo los días 23 y 26 de diciembre\, en horario de 11:00 a 12:30 horas. \nLas plazas son limitadas y se otorgarán por riguroso orden de inscripción desde el lunes 16 de diciembre\, a las 17:00 horas\, en la Biblioteca Infantil.
URL:https://merida.es/agenda/taller-de-pintura-de-navidad/
LOCATION:Centro Cultural Alcazaba\, Calle John Lennon\, 5\, Mérida
CATEGORIES:Curso-Taller,Infantil
ATTACH;FMTTYPE=image/jpeg:https://merida.es/wp-content/uploads/2024/12/2024-taller-pintura-peq.jpg
END:VEVENT
BEGIN:VEVENT
DTSTART;TZID=Europe/Madrid:20241227T170000
DTEND;TZID=Europe/Madrid:20241227T200000
DTSTAMP:20260419T213437
CREATED:20241219T125435Z
LAST-MODIFIED:20241219T125435Z
UID:136694-1735318800-1735329600@merida.es
SUMMARY:Fomento del Comercio en Nueva Ciudad
DESCRIPTION:La delegación de Comercio organiza el viernes 27 de diciembre\, en la Plaza Gabriel y Galán (Nueva Ciudad) diferentes actividades lúdico-culturales con el objetivo de dinamizar el comercio y favorecer el consumo de proximidad en dichas barriadas. De 17:00 a 20:00 horas\, habrá Pintacaras\, Videomatón Navideño\, Talleres Infantiles y Zambomba con Julita Báez.
URL:https://merida.es/agenda/fomento-del-comercio-en-nueva-ciudad/
LOCATION:Plaza de Gabriel y Galán\, Mérida
CATEGORIES:Comercio,Curso-Taller,Infantil,Navidad
ATTACH;FMTTYPE=image/jpeg:https://merida.es/wp-content/uploads/2024/12/2025-apoyo-comercio-nueva-ciudad-peq.jpg
END:VEVENT
END:VCALENDAR