﻿BEGIN:VCALENDAR
VERSION:2.0
PRODID:-//Ayuntamiento de Mérida - ECPv6.15.17.1//NONSGML v1.0//EN
CALSCALE:GREGORIAN
METHOD:PUBLISH
X-WR-CALNAME:Ayuntamiento de Mérida
X-ORIGINAL-URL:https://merida.es
X-WR-CALDESC:Eventos para Ayuntamiento de Mérida
REFRESH-INTERVAL;VALUE=DURATION:PT1H
X-Robots-Tag:noindex
X-PUBLISHED-TTL:PT1H
BEGIN:VTIMEZONE
TZID:Europe/Madrid
BEGIN:DAYLIGHT
TZOFFSETFROM:+0100
TZOFFSETTO:+0200
TZNAME:CEST
DTSTART:20230326T010000
END:DAYLIGHT
BEGIN:STANDARD
TZOFFSETFROM:+0200
TZOFFSETTO:+0100
TZNAME:CET
DTSTART:20231029T010000
END:STANDARD
BEGIN:DAYLIGHT
TZOFFSETFROM:+0100
TZOFFSETTO:+0200
TZNAME:CEST
DTSTART:20240331T010000
END:DAYLIGHT
BEGIN:STANDARD
TZOFFSETFROM:+0200
TZOFFSETTO:+0100
TZNAME:CET
DTSTART:20241027T010000
END:STANDARD
BEGIN:DAYLIGHT
TZOFFSETFROM:+0100
TZOFFSETTO:+0200
TZNAME:CEST
DTSTART:20250330T010000
END:DAYLIGHT
BEGIN:STANDARD
TZOFFSETFROM:+0200
TZOFFSETTO:+0100
TZNAME:CET
DTSTART:20251026T010000
END:STANDARD
END:VTIMEZONE
BEGIN:VEVENT
DTSTART;TZID=Europe/Madrid:20240927T173000
DTEND;TZID=Europe/Madrid:20240927T210000
DTSTAMP:20260423T023618
CREATED:20240911T215234Z
LAST-MODIFIED:20240912T060527Z
UID:133558-1727458200-1727470800@merida.es
SUMMARY:La Noche Europea de los Investigadores e Investigadoras 2024
DESCRIPTION:La Universidad de Extremadura (Servicio de Difusión de la Cultura Científica) organiza\, un año más\, ‘La Noche Europea de los Investigadores e Investigadoras’\, el viernes 27 de septiembre de 2024\, en los diferentes campus universitarios de la región con el objetivo de acercar el conocimiento científico al público en general\, y en particular a los más jóvenes\, y promover la visibilidad de sus investigadores. \nProgramación Campus Universitario de Mérida (CUM): https://nocheinvestigadoresuex.es/ciudad/merida/
URL:https://merida.es/agenda/la-noche-europea-de-los-investigadores-e-investigadoras-2024/
LOCATION:Centro Universitario de Mérida\, Calle Sta. Teresa Jornet\, 38\, Mérida
CATEGORIES:Curso-Taller,Educación
ATTACH;FMTTYPE=image/jpeg:https://merida.es/wp-content/uploads/2024/09/2024-noche-europea-investigadores-peq.jpg
END:VEVENT
END:VCALENDAR