﻿BEGIN:VCALENDAR
VERSION:2.0
PRODID:-//Ayuntamiento de Mérida - ECPv6.15.17.1//NONSGML v1.0//EN
CALSCALE:GREGORIAN
METHOD:PUBLISH
X-ORIGINAL-URL:https://merida.es
X-WR-CALDESC:Eventos para Ayuntamiento de Mérida
REFRESH-INTERVAL;VALUE=DURATION:PT1H
X-Robots-Tag:noindex
X-PUBLISHED-TTL:PT1H
BEGIN:VTIMEZONE
TZID:Europe/Madrid
BEGIN:DAYLIGHT
TZOFFSETFROM:+0100
TZOFFSETTO:+0200
TZNAME:CEST
DTSTART:20230326T010000
END:DAYLIGHT
BEGIN:STANDARD
TZOFFSETFROM:+0200
TZOFFSETTO:+0100
TZNAME:CET
DTSTART:20231029T010000
END:STANDARD
BEGIN:DAYLIGHT
TZOFFSETFROM:+0100
TZOFFSETTO:+0200
TZNAME:CEST
DTSTART:20240331T010000
END:DAYLIGHT
BEGIN:STANDARD
TZOFFSETFROM:+0200
TZOFFSETTO:+0100
TZNAME:CET
DTSTART:20241027T010000
END:STANDARD
BEGIN:DAYLIGHT
TZOFFSETFROM:+0100
TZOFFSETTO:+0200
TZNAME:CEST
DTSTART:20250330T010000
END:DAYLIGHT
BEGIN:STANDARD
TZOFFSETFROM:+0200
TZOFFSETTO:+0100
TZNAME:CET
DTSTART:20251026T010000
END:STANDARD
END:VTIMEZONE
BEGIN:VEVENT
DTSTART;VALUE=DATE:20241111
DTEND;VALUE=DATE:20241118
DTSTAMP:20260420T035505
CREATED:20241106T231357Z
LAST-MODIFIED:20241106T232320Z
UID:135310-1731283200-1731887999@merida.es
SUMMARY:VI Aniversario Flamenco\, Patrimonio e Historia de Mérida
DESCRIPTION:Del 11 al 17 de noviembre el Ayuntamiento y la Asociación Cultural Mérida Flamenca programan un conjunto de actividades que conmemoran la declaración del Flamenco como Patrimonio Cultural Inmaterial de la Humanidad\, expresión artística que fusiona la música vocal\, la danza y el acompañamiento musical\, signo de identidad de numerosos grupos y comunidades. \nLas actividades comenzarán el lunes 11 de noviembre con una convivencia en el centro cultural de Nueva Ciudad que incluye diferentes talleres. El viernes 15 de noviembre habrá una actuación en la Plaza de España de las cuatro escuelas flamencas de la ciudad\, desde las 17:00 horas. \nEl sábado 16 de noviembre tendrá lugar la actuación de Diego Andújar y su cuadro flamenco en la Plaza de España a las 14:00 horas\, y luego en el Templo de Diana se hará por primera vez el flashmob que tendrá un recorrido por las calles hasta el Arco de Trajano y Plaza de España lugares donde se repetirá el flashmob. Se espera la participación de medio millar de personas. \nEl domingo\, 17 de noviembre\, Diego Andújar impartirá un clase magistral desde las 10.30 horas\, en el Centro Cultural de Nueva Ciudad. \nAdemás la Asociación Mérida Flamenca presentará su nuevo espectáculo\, Essencia\, ese mismo domingo\, en el que presenta la evolución del flamenco como leiv motiv\, mediante actuaciones que recogen desde el flamenco antiguo al más actual. Será la primera vez que Mérida Flamenca presenta su espectáculo con música en directo\, con una gran formación de artistas. En su repertorio\, de 1 hora y 15 minutos\, se podrán apreciar diferentes palos del flamenco\, abriendo con una bulería\, pasando por tangos\, guajira\, alegrías y un bonito fin de fiesta con bailes en grupo y bailes solistas. \nHabrá dos pases para este espectáculo\, a las 17:00 y las 19:00 horas\, en el Teatro María Luisa. Las entradas estarán disponibles\, a un precio de 5 euros\, en las academias de flamenco de la ciudad.
URL:https://merida.es/agenda/vi-aniversario-flamenco-patrimonio-e-historia-de-merida/
LOCATION:Varios puntos de la ciudad\, Mérida
CATEGORIES:Convivencia,Curso-Taller,Danza
ATTACH;FMTTYPE=image/jpeg:https://merida.es/wp-content/uploads/2024/11/2024-merida-flamenca-peq.jpg
END:VEVENT
BEGIN:VEVENT
DTSTART;TZID=Europe/Madrid:20241116T110000
DTEND;TZID=Europe/Madrid:20241116T110000
DTSTAMP:20260420T035505
CREATED:20241111T212259Z
LAST-MODIFIED:20241111T212433Z
UID:135423-1731754800-1731754800@merida.es
SUMMARY:Taller "Stop Motion con juguetes" (SECINDI)
DESCRIPTION:El sábado 16 de noviembre\, a partir de las 11:00 horas\, el Centro Cultural Santo Domingo acoge el Taller «Stop Motion con juguetes» donde los más pequeños se divertirán aprendiendo a hacer cine con sus juguetes favoritos en toda una aventura cinematográfica \nInscripciones limitadas: https://fundacioncb.es/eventos/secindi-stop-motion/
URL:https://merida.es/agenda/taller-stop-motion-con-juguetes-secindi/
LOCATION:Centro Cultural Santo Domingo Fundación CB\, Plaza de Santo Domingo\, s/n\, Mérida
CATEGORIES:Curso-Taller
ATTACH;FMTTYPE=image/jpeg:https://merida.es/wp-content/uploads/2024/11/2024-taller-stop-motion-peq.jpg
END:VEVENT
END:VCALENDAR