﻿BEGIN:VCALENDAR
VERSION:2.0
PRODID:-//Ayuntamiento de Mérida - ECPv6.15.17.1//NONSGML v1.0//EN
CALSCALE:GREGORIAN
METHOD:PUBLISH
X-ORIGINAL-URL:https://merida.es
X-WR-CALDESC:Eventos para Ayuntamiento de Mérida
REFRESH-INTERVAL;VALUE=DURATION:PT1H
X-Robots-Tag:noindex
X-PUBLISHED-TTL:PT1H
BEGIN:VTIMEZONE
TZID:Europe/Madrid
BEGIN:DAYLIGHT
TZOFFSETFROM:+0100
TZOFFSETTO:+0200
TZNAME:CEST
DTSTART:20230326T010000
END:DAYLIGHT
BEGIN:STANDARD
TZOFFSETFROM:+0200
TZOFFSETTO:+0100
TZNAME:CET
DTSTART:20231029T010000
END:STANDARD
BEGIN:DAYLIGHT
TZOFFSETFROM:+0100
TZOFFSETTO:+0200
TZNAME:CEST
DTSTART:20240331T010000
END:DAYLIGHT
BEGIN:STANDARD
TZOFFSETFROM:+0200
TZOFFSETTO:+0100
TZNAME:CET
DTSTART:20241027T010000
END:STANDARD
BEGIN:DAYLIGHT
TZOFFSETFROM:+0100
TZOFFSETTO:+0200
TZNAME:CEST
DTSTART:20250330T010000
END:DAYLIGHT
BEGIN:STANDARD
TZOFFSETFROM:+0200
TZOFFSETTO:+0100
TZNAME:CET
DTSTART:20251026T010000
END:STANDARD
END:VTIMEZONE
BEGIN:VEVENT
DTSTART;TZID=Europe/Madrid:20241121T184500
DTEND;TZID=Europe/Madrid:20241121T184500
DTSTAMP:20260420T020955
CREATED:20241120T075522Z
LAST-MODIFIED:20241120T075659Z
UID:135704-1732214700-1732214700@merida.es
SUMMARY:Charla-taller: "Desafíos y Transformaciones de la Masculinidad"
DESCRIPTION:Dentro de las actividades de la Semana 25N contra la violencia de la Escuela Oficial de Idiomas\, el Seminario EOIgualdad con el CPR de Mérida organiza la charla «Desafíos y Transformaciones de la Masculinidad» impartida por Isaac Mancha. \nTendrá lugar en la Sala de Usos Múltiples de la Escuela Oficial de Idiomas el jueves día 21 de noviembre\, a las 18.45 horas. \nLa charla-taller está abierta a toda la ciudad y mediante ella pretendemos reflexionar sobre los conceptos de género\, trabajar en la deconstrucción de estereotipos\, y fomentar el respeto y la igualdad. \nLos objetivos de la actividad son:\n1. Reflexionar sobre los estereotipos de masculinidad y cómo afectan a las relaciones interpersonales y al desarrollo personal.\n2. Fomentar la autocomprensión y el respeto por la diversidad emocional en los hombres.\n3. Promover actitudes de empatía\, inclusión y responsabilidad compartida para una convivencia equitativa.
URL:https://merida.es/agenda/charla-taller-desafios-y-transformaciones-de-la-masculinidad/
LOCATION:Escuela Oficial de Idiomas\, Plaza del Conservatorio\, 2\, Mérida\, Badajoz\, 06800
CATEGORIES:Charla-Conferencia,Curso-Taller
ATTACH;FMTTYPE=image/jpeg:https://merida.es/wp-content/uploads/2024/11/2024-desafios-masculinidad-peq.jpg
END:VEVENT
END:VCALENDAR